BEGIN:VCALENDAR
VERSION:2.0
PRODID:-//Live Music Box - ECPv6.15.20//NONSGML v1.0//EN
CALSCALE:GREGORIAN
METHOD:PUBLISH
X-WR-CALNAME:Live Music Box
X-ORIGINAL-URL:https://livemusicbox.net
X-WR-CALDESC:Events for Live Music Box
REFRESH-INTERVAL;VALUE=DURATION:PT1H
X-Robots-Tag:noindex
X-PUBLISHED-TTL:PT1H
BEGIN:VTIMEZONE
TZID:America/Chicago
BEGIN:DAYLIGHT
TZOFFSETFROM:-0600
TZOFFSETTO:-0500
TZNAME:CDT
DTSTART:20250309T080000
END:DAYLIGHT
BEGIN:STANDARD
TZOFFSETFROM:-0500
TZOFFSETTO:-0600
TZNAME:CST
DTSTART:20251102T070000
END:STANDARD
BEGIN:DAYLIGHT
TZOFFSETFROM:-0600
TZOFFSETTO:-0500
TZNAME:CDT
DTSTART:20260308T080000
END:DAYLIGHT
BEGIN:STANDARD
TZOFFSETFROM:-0500
TZOFFSETTO:-0600
TZNAME:CST
DTSTART:20261101T070000
END:STANDARD
BEGIN:DAYLIGHT
TZOFFSETFROM:-0600
TZOFFSETTO:-0500
TZNAME:CDT
DTSTART:20270314T080000
END:DAYLIGHT
BEGIN:STANDARD
TZOFFSETFROM:-0500
TZOFFSETTO:-0600
TZNAME:CST
DTSTART:20271107T070000
END:STANDARD
END:VTIMEZONE
BEGIN:VEVENT
DTSTART;TZID=America/Chicago:20260609T180000
DTEND;TZID=America/Chicago:20260609T200000
DTSTAMP:20260424T062626
CREATED:20260415T231757Z
LAST-MODIFIED:20260422T025949Z
UID:10000885-1781028000-1781035200@livemusicbox.net
SUMMARY:Rockford Jams Summer Concert Series 2026 - McKenna Faith Winters
DESCRIPTION:I make music  for those that struggle with self worth and confidence.  2025 Josie Award Winner for Song of the Year Modern/Pop Country Female (“Forgot Your Name”)
URL:https://livemusicbox.net/concert/mckenna-faith-winters/
LOCATION:Rockford Sinnissippi Music Shell\, 2010 Arlington Ave\, Rockford\, IL\, 61107\, United States
CATEGORIES:Concert in the Park,Country,Pop
ATTACH;FMTTYPE=image/jpeg:https://livemusicbox.net/wp-content/uploads/2026/04/Mckenna-Faith-Winters-250.jpg
GEO:42.2810888;-89.0667579
X-APPLE-STRUCTURED-LOCATION;VALUE=URI;X-ADDRESS=Rockford Sinnissippi Music Shell 2010 Arlington Ave Rockford IL 61107 United States;X-APPLE-RADIUS=500;X-TITLE=2010 Arlington Ave:geo:-89.0667579,42.2810888
END:VEVENT
BEGIN:VEVENT
DTSTART;TZID=America/Chicago:20260618T180000
DTEND;TZID=America/Chicago:20260618T200000
DTSTAMP:20260424T062626
CREATED:20260415T231757Z
LAST-MODIFIED:20260422T014133Z
UID:10000886-1781805600-1781812800@livemusicbox.net
SUMMARY:Rockford Jams Summer Concert Series 2026 - Blooze Brothers
DESCRIPTION:For over three decades (yes\, really)\, the Blooze Brothers Band has been one of Chicagoland’s most in-demand show bands.  They not only honor the music made by the original Blues Brothers in movies\, TV\, and recordings\, but the spirit in which they played – from Dan Aykroyd’s love of traditional blues\, Motown\, soul\, and R&B to John Belushi’s love of classic rock.  Like Aykroyd and Belushi\, they fuse those great musical traditions into a stage show that energizes and delights hundreds of thousands of music fans across the greater Chicago area and beyond every year.
URL:https://livemusicbox.net/concert/blooze-brothers/
LOCATION:Rockford Sinnissippi Music Shell\, 2010 Arlington Ave\, Rockford\, IL\, 61107\, United States
CATEGORIES:Blues,Classic Rock,Concert in the Park,Rock
ATTACH;FMTTYPE=image/jpeg:https://livemusicbox.net/wp-content/uploads/2026/04/BLOOZE_BROTHERS_250.jpg
GEO:42.2810888;-89.0667579
X-APPLE-STRUCTURED-LOCATION;VALUE=URI;X-ADDRESS=Rockford Sinnissippi Music Shell 2010 Arlington Ave Rockford IL 61107 United States;X-APPLE-RADIUS=500;X-TITLE=2010 Arlington Ave:geo:-89.0667579,42.2810888
END:VEVENT
BEGIN:VEVENT
DTSTART;TZID=America/Chicago:20260623T180000
DTEND;TZID=America/Chicago:20260623T200000
DTSTAMP:20260424T062626
CREATED:20260415T231757Z
LAST-MODIFIED:20260421T182958Z
UID:10000887-1782237600-1782244800@livemusicbox.net
SUMMARY:Rockford Jams Summer Concert Series 2026  - Phantom Regiment
DESCRIPTION:Opening performances begin at 6 PM; Headliners at 7 PM. Part of the 2026 Rockford Jams series.
URL:https://livemusicbox.net/concert/phantom-regiment/
LOCATION:Rockford Sinnissippi Music Shell\, 2010 Arlington Ave\, Rockford\, IL\, 61107\, United States
CATEGORIES:Concert in the Park
GEO:42.2810888;-89.0667579
X-APPLE-STRUCTURED-LOCATION;VALUE=URI;X-ADDRESS=Rockford Sinnissippi Music Shell 2010 Arlington Ave Rockford IL 61107 United States;X-APPLE-RADIUS=500;X-TITLE=2010 Arlington Ave:geo:-89.0667579,42.2810888
END:VEVENT
BEGIN:VEVENT
DTSTART;TZID=America/Chicago:20260628T180000
DTEND;TZID=America/Chicago:20260628T200000
DTSTAMP:20260424T062626
CREATED:20260415T231757Z
LAST-MODIFIED:20260421T174556Z
UID:10000888-1782669600-1782676800@livemusicbox.net
SUMMARY:Rockford Jams Summer Concert Series 2026  - Ozzy Keshurbie
DESCRIPTION:Opening performances begin at 6 PM; Headliners at 7 PM. Part of the 2026 Rockford Jams series.
URL:https://livemusicbox.net/concert/ozzy-keshurbie/
LOCATION:Rockford Sinnissippi Music Shell\, 2010 Arlington Ave\, Rockford\, IL\, 61107\, United States
CATEGORIES:Concert in the Park
GEO:42.2810888;-89.0667579
X-APPLE-STRUCTURED-LOCATION;VALUE=URI;X-ADDRESS=Rockford Sinnissippi Music Shell 2010 Arlington Ave Rockford IL 61107 United States;X-APPLE-RADIUS=500;X-TITLE=2010 Arlington Ave:geo:-89.0667579,42.2810888
END:VEVENT
BEGIN:VEVENT
DTSTART;TZID=America/Chicago:20260702T180000
DTEND;TZID=America/Chicago:20260702T200000
DTSTAMP:20260424T062626
CREATED:20260415T231757Z
LAST-MODIFIED:20260421T173023Z
UID:10000889-1783015200-1783022400@livemusicbox.net
SUMMARY:Rockford Jams Summer Concert Series 2026 - American English - Beatles Tribute Band
DESCRIPTION:“The best Beatles band on the planet!”-Newsweek. Opening performances begin at 6 PM; Headliners at 7 PM. Part of the 2026 Rockford Jams series.
URL:https://livemusicbox.net/concert/american-english/
LOCATION:Rockford Sinnissippi Music Shell\, 2010 Arlington Ave\, Rockford\, IL\, 61107\, United States
CATEGORIES:Classic Rock,Concert in the Park,Rock
ATTACH;FMTTYPE=image/jpeg:https://livemusicbox.net/wp-content/uploads/2026/04/American-English-250.jpg
GEO:42.2810888;-89.0667579
X-APPLE-STRUCTURED-LOCATION;VALUE=URI;X-ADDRESS=Rockford Sinnissippi Music Shell 2010 Arlington Ave Rockford IL 61107 United States;X-APPLE-RADIUS=500;X-TITLE=2010 Arlington Ave:geo:-89.0667579,42.2810888
END:VEVENT
BEGIN:VEVENT
DTSTART;TZID=America/Chicago:20260709T180000
DTEND;TZID=America/Chicago:20260709T200000
DTSTAMP:20260424T062626
CREATED:20260415T231758Z
LAST-MODIFIED:20260421T161124Z
UID:10000890-1783620000-1783627200@livemusicbox.net
SUMMARY:Rockford Jams Summer Concert Series 2026 - Terrafirma Flyer
DESCRIPTION:Opening performances begin at 6 PM; Headliners at 7 PM. Part of the 2026 Rockford Jams series.
URL:https://livemusicbox.net/concert/terrafirma-flyer/
LOCATION:Rockford Sinnissippi Music Shell\, 2010 Arlington Ave\, Rockford\, IL\, 61107\, United States
CATEGORIES:Concert in the Park
GEO:42.2810888;-89.0667579
X-APPLE-STRUCTURED-LOCATION;VALUE=URI;X-ADDRESS=Rockford Sinnissippi Music Shell 2010 Arlington Ave Rockford IL 61107 United States;X-APPLE-RADIUS=500;X-TITLE=2010 Arlington Ave:geo:-89.0667579,42.2810888
END:VEVENT
BEGIN:VEVENT
DTSTART;TZID=America/Chicago:20260716T180000
DTEND;TZID=America/Chicago:20260716T200000
DTSTAMP:20260424T062626
CREATED:20260415T231758Z
LAST-MODIFIED:20260421T150702Z
UID:10000891-1784224800-1784232000@livemusicbox.net
SUMMARY:Rockford Jams Summer Concert Series 2026  - Rocks Off
DESCRIPTION:Rocks Off is the premier Rolling Stones tribute\, delivering the songs and sensations of the World’s Greatest Rock and Roll Band! From the iconic hits to the deep cuts Rocks Off captures Mick’s moves\, Keef’s riffs\, Charlie’s groove\, and the blazing Mick Taylor solos from their early-seventies golden era. Based in Chicago\, the band is steeped in not only the sound of the Stones\, but in the sound of the Blues men that inspired them. Rocks Off isn’t shy about claiming the most faithful recreation of the Rolling Stones in concert.
URL:https://livemusicbox.net/concert/rocks-off/
LOCATION:Rockford Sinnissippi Music Shell\, 2010 Arlington Ave\, Rockford\, IL\, 61107\, United States
CATEGORIES:Classic Rock,Concert in the Park,Rock
ATTACH;FMTTYPE=image/jpeg:https://livemusicbox.net/wp-content/uploads/2025/07/Rocks-Off-250.jpg
GEO:42.2810888;-89.0667579
X-APPLE-STRUCTURED-LOCATION;VALUE=URI;X-ADDRESS=Rockford Sinnissippi Music Shell 2010 Arlington Ave Rockford IL 61107 United States;X-APPLE-RADIUS=500;X-TITLE=2010 Arlington Ave:geo:-89.0667579,42.2810888
END:VEVENT
BEGIN:VEVENT
DTSTART;TZID=America/Chicago:20260723T180000
DTEND;TZID=America/Chicago:20260723T200000
DTSTAMP:20260424T062626
CREATED:20260415T231758Z
LAST-MODIFIED:20260421T045017Z
UID:10000892-1784829600-1784836800@livemusicbox.net
SUMMARY:Rockford Jams Summer Concert Series 2026  - Second Hand News
DESCRIPTION:Second Hand News recreates the experience of seeing Fleetwood Mac in their heyday. Made up of veteran Chicago musicians (Melissa Brausch\, Josh Chicoine\, Mike Holtz\, Dan Ingenthron\, Mike Vanier\, and Lindsay Weinberg)\, the band features spot-on vocal harmonies\, careful attention to detail\, and electric live shows. Through the talents of these seasoned performers\, the spirit and musicianship of Mick Fleetwood\, John McVie\, Christine McVie\, Stevie Nicks\, and Lindsey Buckingham come to life on stage. Audiences are energized by dynamic deliveries of favorites from the band’s extensive catalog of hits as well as deep cuts beloved by superfans. The fun these musicians have recreating these classic songs together is infectious\, and will bring you to your feet in shared appreciation for one of the greatest bands of all time.
URL:https://livemusicbox.net/concert/second-hand-news/
LOCATION:Rockford Sinnissippi Music Shell\, 2010 Arlington Ave\, Rockford\, IL\, 61107\, United States
CATEGORIES:Classic Rock,Concert in the Park,Rock
ATTACH;FMTTYPE=image/jpeg:https://livemusicbox.net/wp-content/uploads/2025/05/Second-Hand-News-250.jpg
GEO:42.2810888;-89.0667579
X-APPLE-STRUCTURED-LOCATION;VALUE=URI;X-ADDRESS=Rockford Sinnissippi Music Shell 2010 Arlington Ave Rockford IL 61107 United States;X-APPLE-RADIUS=500;X-TITLE=2010 Arlington Ave:geo:-89.0667579,42.2810888
END:VEVENT
BEGIN:VEVENT
DTSTART;TZID=America/Chicago:20260728T180000
DTEND;TZID=America/Chicago:20260728T200000
DTSTAMP:20260424T062626
CREATED:20260415T231758Z
LAST-MODIFIED:20260421T040610Z
UID:10000893-1785261600-1785268800@livemusicbox.net
SUMMARY:Rockford Jams Summer Concert Series  - Rock Valley College Summer Orchestra
DESCRIPTION:Opening performances begin at 6 PM; Headliners at 7 PM. Part of the 2026 Rockford Jams series.
URL:https://livemusicbox.net/concert/rock-valley-college-summer-orchestra/
LOCATION:Rockford Sinnissippi Music Shell\, 2010 Arlington Ave\, Rockford\, IL\, 61107\, United States
CATEGORIES:Concert in the Park
GEO:42.2810888;-89.0667579
X-APPLE-STRUCTURED-LOCATION;VALUE=URI;X-ADDRESS=Rockford Sinnissippi Music Shell 2010 Arlington Ave Rockford IL 61107 United States;X-APPLE-RADIUS=500;X-TITLE=2010 Arlington Ave:geo:-89.0667579,42.2810888
END:VEVENT
BEGIN:VEVENT
DTSTART;TZID=America/Chicago:20260730T190000
DTEND;TZID=America/Chicago:20260730T210000
DTSTAMP:20260424T062626
CREATED:20260415T230732Z
LAST-MODIFIED:20260420T233557Z
UID:10000884-1785438000-1785445200@livemusicbox.net
SUMMARY:Rockford Jams Summer Concert Series - Think Floyd - Pink Floyd Tribute w/ Special Light Show
DESCRIPTION:America’s Favorite Pink Floyd Tribute since 2004. \nPhoenix Park Bandshell
URL:https://livemusicbox.net/concert/think-floyd-pink-floyd-tribute-w-special-light-show/
LOCATION:Rockford Sinnissippi Music Shell\, 2010 Arlington Ave\, Rockford\, IL\, 61107\, United States
CATEGORIES:Classic Rock,Concert in the Park,Rock
ATTACH;FMTTYPE=image/jpeg:https://livemusicbox.net/wp-content/uploads/2026/04/Think-Floyd-250.jpg
GEO:42.2810888;-89.0667579
X-APPLE-STRUCTURED-LOCATION;VALUE=URI;X-ADDRESS=Rockford Sinnissippi Music Shell 2010 Arlington Ave Rockford IL 61107 United States;X-APPLE-RADIUS=500;X-TITLE=2010 Arlington Ave:geo:-89.0667579,42.2810888
END:VEVENT
BEGIN:VEVENT
DTSTART;TZID=America/Chicago:20260912T180000
DTEND;TZID=America/Chicago:20260912T200000
DTSTAMP:20260424T062626
CREATED:20260415T231759Z
LAST-MODIFIED:20260420T235931Z
UID:10000895-1789236000-1789243200@livemusicbox.net
SUMMARY:Rockford Jams Summer Concert Series 2026 - The Heartwreckers
DESCRIPTION:“The Heartwreckers” are Chicagoland’s premier Tom Petty tribute act. The close knit band dives deep into the works of the great rock and roll songwriter and capture all aspects of the music to create an authentic Tom Petty experience. These seasoned musicians deliver an unforgettable live show and will have you singing along to all your favorite songs! \nOpening performances begin at 6 PM; Headliners at 7 PM. Part of the 2026 Rockford Jams series.
URL:https://livemusicbox.net/concert/the-heartwreckers/
LOCATION:Rockford Sinnissippi Music Shell\, 2010 Arlington Ave\, Rockford\, IL\, 61107\, United States
CATEGORIES:Concert in the Park
ATTACH;FMTTYPE=image/jpeg:https://livemusicbox.net/wp-content/uploads/2026/04/Heartwreckers-250.jpg
GEO:42.2810888;-89.0667579
X-APPLE-STRUCTURED-LOCATION;VALUE=URI;X-ADDRESS=Rockford Sinnissippi Music Shell 2010 Arlington Ave Rockford IL 61107 United States;X-APPLE-RADIUS=500;X-TITLE=2010 Arlington Ave:geo:-89.0667579,42.2810888
END:VEVENT
BEGIN:VEVENT
DTSTART;TZID=America/Chicago:20260919T180000
DTEND;TZID=America/Chicago:20260919T200000
DTSTAMP:20260424T062626
CREATED:20260415T231759Z
LAST-MODIFIED:20260420T235919Z
UID:10000896-1789840800-1789848000@livemusicbox.net
SUMMARY:Rockford Jams Summer Concert Series 2026 - YYNOT-Rush Tribute Band
DESCRIPTION:YYNOT takes hungry RUSH fans on a welcome journey back in time. Their stellar musicianship consistently delivers a unique blend of unbeatable accuracy\, high energy\, and raw power with their vintage RUSH classics and a fresh new spark with their own original progressive rock. \nOpening performances begin at 6 PM; Headliners at 7 PM. Part of the 2026 Rockford Jams series.
URL:https://livemusicbox.net/concert/ynot/
LOCATION:Rockford Sinnissippi Music Shell\, 2010 Arlington Ave\, Rockford\, IL\, 61107\, United States
CATEGORIES:Concert in the Park
ATTACH;FMTTYPE=image/jpeg:https://livemusicbox.net/wp-content/uploads/2026/04/YYNOT-Rush-Tribute-Band-250.jpg
GEO:42.2810888;-89.0667579
X-APPLE-STRUCTURED-LOCATION;VALUE=URI;X-ADDRESS=Rockford Sinnissippi Music Shell 2010 Arlington Ave Rockford IL 61107 United States;X-APPLE-RADIUS=500;X-TITLE=2010 Arlington Ave:geo:-89.0667579,42.2810888
END:VEVENT
END:VCALENDAR