BEGIN:VCALENDAR
VERSION:2.0
PRODID:-//Live Music Box - ECPv6.15.20//NONSGML v1.0//EN
CALSCALE:GREGORIAN
METHOD:PUBLISH
X-ORIGINAL-URL:https://livemusicbox.net
X-WR-CALDESC:Events for Live Music Box
REFRESH-INTERVAL;VALUE=DURATION:PT1H
X-Robots-Tag:noindex
X-PUBLISHED-TTL:PT1H
BEGIN:VTIMEZONE
TZID:America/Chicago
BEGIN:DAYLIGHT
TZOFFSETFROM:-0600
TZOFFSETTO:-0500
TZNAME:CDT
DTSTART:20250309T080000
END:DAYLIGHT
BEGIN:STANDARD
TZOFFSETFROM:-0500
TZOFFSETTO:-0600
TZNAME:CST
DTSTART:20251102T070000
END:STANDARD
BEGIN:DAYLIGHT
TZOFFSETFROM:-0600
TZOFFSETTO:-0500
TZNAME:CDT
DTSTART:20260308T080000
END:DAYLIGHT
BEGIN:STANDARD
TZOFFSETFROM:-0500
TZOFFSETTO:-0600
TZNAME:CST
DTSTART:20261101T070000
END:STANDARD
BEGIN:DAYLIGHT
TZOFFSETFROM:-0600
TZOFFSETTO:-0500
TZNAME:CDT
DTSTART:20270314T080000
END:DAYLIGHT
BEGIN:STANDARD
TZOFFSETFROM:-0500
TZOFFSETTO:-0600
TZNAME:CST
DTSTART:20271107T070000
END:STANDARD
END:VTIMEZONE
BEGIN:VEVENT
DTSTART;TZID=America/Chicago:20260621T143000
DTEND;TZID=America/Chicago:20260621T143000
DTSTAMP:20260424T074353
CREATED:20260415T183404Z
LAST-MODIFIED:20260421T183205Z
UID:10000788-1782052200-1782052200@livemusicbox.net
SUMMARY:Kief's Reef Summer Concert Series 2026 -Whiskey Devil
DESCRIPTION:Whiskey Devils light up the stage with a high-energy mix of country and rock hits\, delivering powerhouse vocals\, tight harmonies\, and nonstop crowd-pleasing tunes. Every show is a guaranteed good time filled with singing\, dancing\, and great music.
URL:https://livemusicbox.net/concert/kiefs-reef-2026-whiskey-devil/
LOCATION:Kiefs Reef\, 3505 S. Wright Road\, McHenry\, IL\, 60050\, United States
CATEGORIES:Acoustic Rock,Concert in the Park,Country,Rock
ATTACH;FMTTYPE=image/jpeg:https://livemusicbox.net/wp-content/uploads/2026/04/Whiskey-Devils-Band-250.jpg
GEO:42.2791833;-88.2286689
X-APPLE-STRUCTURED-LOCATION;VALUE=URI;X-ADDRESS=Kiefs Reef 3505 S. Wright Road McHenry IL 60050 United States;X-APPLE-RADIUS=500;X-TITLE=3505 S. Wright Road:geo:-88.2286689,42.2791833
END:VEVENT
BEGIN:VEVENT
DTSTART;TZID=America/Chicago:20260626T183000
DTEND;TZID=America/Chicago:20260626T203000
DTSTAMP:20260424T074353
CREATED:20260415T183405Z
LAST-MODIFIED:20260421T182125Z
UID:10000789-1782498600-1782505800@livemusicbox.net
SUMMARY:Kief's Reef Summer Concert Series 2026 - Chicks With Picks
DESCRIPTION:2 ladies\, 2 microphones\, 2 guitars and plenty of harmonies.
URL:https://livemusicbox.net/concert/kiefs-reef-2026-chicks-with-picks-2/
LOCATION:Kiefs Reef\, 3505 S. Wright Road\, McHenry\, IL\, 60050\, United States
CATEGORIES:Acoustic,Acoustic Rock,Concert in the Park,Country,Pop
ATTACH;FMTTYPE=image/jpeg:https://livemusicbox.net/wp-content/uploads/2026/04/Chicks-with-Picks-250.jpg
GEO:42.2791833;-88.2286689
X-APPLE-STRUCTURED-LOCATION;VALUE=URI;X-ADDRESS=Kiefs Reef 3505 S. Wright Road McHenry IL 60050 United States;X-APPLE-RADIUS=500;X-TITLE=3505 S. Wright Road:geo:-88.2286689,42.2791833
END:VEVENT
BEGIN:VEVENT
DTSTART;TZID=America/Chicago:20260627T143000
DTEND;TZID=America/Chicago:20260627T163000
DTSTAMP:20260424T074353
CREATED:20260415T183419Z
LAST-MODIFIED:20260421T180957Z
UID:10000790-1782570600-1782577800@livemusicbox.net
SUMMARY:Kief's Reef Summer Concert Series 2026 - Yankee Cowboy
DESCRIPTION:Upbeat\, exciting\, modern country music with rockin’ blasts from the past! This dynamic group is known for their big sound\, soaring harmonies\, energetic stage presence\, and tight musicianship. Come out to a show and see what all the buzz is about!
URL:https://livemusicbox.net/concert/kiefs-reef-2026-yankee-cowboy/
LOCATION:Kiefs Reef\, 3505 S. Wright Road\, McHenry\, IL\, 60050\, United States
CATEGORIES:Concert in the Park,Country,Country Rock
ATTACH;FMTTYPE=image/jpeg:https://livemusicbox.net/wp-content/uploads/2026/04/yankeecowboy-250.jpg
GEO:42.2791833;-88.2286689
X-APPLE-STRUCTURED-LOCATION;VALUE=URI;X-ADDRESS=Kiefs Reef 3505 S. Wright Road McHenry IL 60050 United States;X-APPLE-RADIUS=500;X-TITLE=3505 S. Wright Road:geo:-88.2286689,42.2791833
END:VEVENT
BEGIN:VEVENT
DTSTART;TZID=America/Chicago:20260628T143000
DTEND;TZID=America/Chicago:20260628T163000
DTSTAMP:20260424T074353
CREATED:20260415T183419Z
LAST-MODIFIED:20260421T175634Z
UID:10000791-1782657000-1782664200@livemusicbox.net
SUMMARY:Kief's Reef Summer Concert Series 2026 - Zydeco Voodoo
DESCRIPTION:Zydeco Voodoo channels the raw power of the bayou – \n​hard-driving Accordion and Rubboard\, swamp-soaked Sax\, Guitar and Keys\, and a rhythm section that hits like a freight train. \nRooted in traditional Zydeco and Cajun dance music\, the band also dives deep into NOLA Funk\, Swamp Pop\, R & B and reinvents modern songs with a gritty\, pulsing New Orleans heartbeat.
URL:https://livemusicbox.net/concert/kiefs-reef-2026-zydeco-voodoo/
LOCATION:Kiefs Reef\, 3505 S. Wright Road\, McHenry\, IL\, 60050\, United States
CATEGORIES:Concert in the Park,Funk,Pop,R&B/Soul
ATTACH;FMTTYPE=image/jpeg:https://livemusicbox.net/wp-content/uploads/2026/04/Zydeco-Voodoo-250.jpg
GEO:42.2791833;-88.2286689
X-APPLE-STRUCTURED-LOCATION;VALUE=URI;X-ADDRESS=Kiefs Reef 3505 S. Wright Road McHenry IL 60050 United States;X-APPLE-RADIUS=500;X-TITLE=3505 S. Wright Road:geo:-88.2286689,42.2791833
END:VEVENT
BEGIN:VEVENT
DTSTART;TZID=America/Chicago:20260702T180000
DTEND;TZID=America/Chicago:20260702T200000
DTSTAMP:20260424T074353
CREATED:20260415T183419Z
LAST-MODIFIED:20260421T173844Z
UID:10000792-1783015200-1783022400@livemusicbox.net
SUMMARY:Kief's Reef Summer Concert Series 2026 - Mother Of All Duo’s
DESCRIPTION:An awesome duo with great vocals and incredible lead guitar and keyboards playing rock covers.
URL:https://livemusicbox.net/concert/kiefs-reef-2026-mother-of-all-duos/
LOCATION:Kiefs Reef\, 3505 S. Wright Road\, McHenry\, IL\, 60050\, United States
CATEGORIES:Classic Rock,Concert in the Park,Rock
ATTACH;FMTTYPE=image/jpeg:https://livemusicbox.net/wp-content/uploads/2026/04/Mother-Of-All-Duos-250.jpg
GEO:42.2791833;-88.2286689
X-APPLE-STRUCTURED-LOCATION;VALUE=URI;X-ADDRESS=Kiefs Reef 3505 S. Wright Road McHenry IL 60050 United States;X-APPLE-RADIUS=500;X-TITLE=3505 S. Wright Road:geo:-88.2286689,42.2791833
END:VEVENT
BEGIN:VEVENT
DTSTART;TZID=America/Chicago:20260703T183000
DTEND;TZID=America/Chicago:20260703T203000
DTSTAMP:20260424T074353
CREATED:20260415T183419Z
LAST-MODIFIED:20260421T171537Z
UID:10000793-1783103400-1783110600@livemusicbox.net
SUMMARY:Kief's Reef Summer Concert Series 2026 - Justin Wallace
DESCRIPTION:At just 23 years old\, this talented Johnsburg\, IL. native has already achieved remarkable milestones in his music career. Starting at the age of 17\, Justin has honed his skills and now he’s sharing the stage with renowned artists like David Cook\, winner of American Idol\, and AGT’s very own Mitch Rossell. \nIf you’re looking for a night out filled with great music\, you won’t want to miss Justin’s performances at local venues . With his versatile repertoire spanning across Country\, Rock\, Pop\, and Alternative genres\, there’s something for everyone to enjoy.
URL:https://livemusicbox.net/concert/kiefs-reef-2026-justin-wallace/
LOCATION:Kiefs Reef\, 3505 S. Wright Road\, McHenry\, IL\, 60050\, United States
CATEGORIES:Concert in the Park,Country,Country Rock,Fireworks,Pop,Rock
ATTACH;FMTTYPE=image/jpeg:https://livemusicbox.net/wp-content/uploads/2026/04/Justin-Wallace-250.jpg
GEO:42.2791833;-88.2286689
X-APPLE-STRUCTURED-LOCATION;VALUE=URI;X-ADDRESS=Kiefs Reef 3505 S. Wright Road McHenry IL 60050 United States;X-APPLE-RADIUS=500;X-TITLE=3505 S. Wright Road:geo:-88.2286689,42.2791833
END:VEVENT
BEGIN:VEVENT
DTSTART;TZID=America/Chicago:20260704T143000
DTEND;TZID=America/Chicago:20260704T163000
DTSTAMP:20260424T074353
CREATED:20260415T183420Z
LAST-MODIFIED:20260421T171244Z
UID:10000794-1783175400-1783182600@livemusicbox.net
SUMMARY:Kief's Reef Summer Concert Series 2026 - Dixon Bandits
DESCRIPTION:Southern rock with a Country flair..
URL:https://livemusicbox.net/concert/kiefs-reef-2026-dixon-bandits-2/
LOCATION:Kiefs Reef\, 3505 S. Wright Road\, McHenry\, IL\, 60050\, United States
CATEGORIES:Classic Rock,Concert in the Park,Country Rock,Rock,Southern Rock
ATTACH;FMTTYPE=image/jpeg:https://livemusicbox.net/wp-content/uploads/2026/04/Dixon_Bandits-250.jpg
GEO:42.2791833;-88.2286689
X-APPLE-STRUCTURED-LOCATION;VALUE=URI;X-ADDRESS=Kiefs Reef 3505 S. Wright Road McHenry IL 60050 United States;X-APPLE-RADIUS=500;X-TITLE=3505 S. Wright Road:geo:-88.2286689,42.2791833
END:VEVENT
BEGIN:VEVENT
DTSTART;TZID=America/Chicago:20260705T143000
DTEND;TZID=America/Chicago:20260705T163000
DTSTAMP:20260424T074353
CREATED:20260415T183434Z
LAST-MODIFIED:20260421T161817Z
UID:10000795-1783261800-1783269000@livemusicbox.net
SUMMARY:Kief's Reef Summer Concert Series 2026 - W.K. Band
DESCRIPTION:The W.K.Band (Whiskey Kitten) is a High Energy cover band playing the best R&B\, disco\, dance and party hits of yesterday and today.\nWe blend these genres together for a non stop night of fun\, guaranteed to get your hips swinging. If The W.K. Band doesn’t make you get up and dance.
URL:https://livemusicbox.net/concert/kiefs-reef-2026-whiskey-kitten/
LOCATION:Kiefs Reef\, 3505 S. Wright Road\, McHenry\, IL\, 60050\, United States
CATEGORIES:Concert in the Park,Dance,Disco,R&B/Soul
ATTACH;FMTTYPE=image/jpeg:https://livemusicbox.net/wp-content/uploads/2026/04/Whiskey-Kitten-W.K.-Band-250.jpg
GEO:42.2791833;-88.2286689
X-APPLE-STRUCTURED-LOCATION;VALUE=URI;X-ADDRESS=Kiefs Reef 3505 S. Wright Road McHenry IL 60050 United States;X-APPLE-RADIUS=500;X-TITLE=3505 S. Wright Road:geo:-88.2286689,42.2791833
END:VEVENT
BEGIN:VEVENT
DTSTART;TZID=America/Chicago:20260711T143000
DTEND;TZID=America/Chicago:20260711T163000
DTSTAMP:20260424T074353
CREATED:20260415T183434Z
LAST-MODIFIED:20260421T154128Z
UID:10000796-1783780200-1783787400@livemusicbox.net
SUMMARY:Kief's Reef Summer Concert Series 2026 - GENR8R
DESCRIPTION:GENR8R\, rocking northern Illinois for 13 years! We play a variety of classic rock\, new country\, pop\, southern rock\, even a little funk and blues. You know all the songs\, and you never know what we are going to play next.
URL:https://livemusicbox.net/concert/kiefs-reef-2026-genr8r/
LOCATION:Kiefs Reef\, 3505 S. Wright Road\, McHenry\, IL\, 60050\, United States
CATEGORIES:Blues,Classic Rock,Concert in the Park,Country,Funk,Pop,Rock
ATTACH;FMTTYPE=image/jpeg:https://livemusicbox.net/wp-content/uploads/2026/04/GENR8R-250.jpg
GEO:42.2791833;-88.2286689
X-APPLE-STRUCTURED-LOCATION;VALUE=URI;X-ADDRESS=Kiefs Reef 3505 S. Wright Road McHenry IL 60050 United States;X-APPLE-RADIUS=500;X-TITLE=3505 S. Wright Road:geo:-88.2286689,42.2791833
END:VEVENT
BEGIN:VEVENT
DTSTART;TZID=America/Chicago:20260712T153000
DTEND;TZID=America/Chicago:20260712T173000
DTSTAMP:20260424T074353
CREATED:20260415T183434Z
LAST-MODIFIED:20260421T152018Z
UID:10000797-1783870200-1783877400@livemusicbox.net
SUMMARY:Kief's Reef Summer Concert Series 2026 - Southbound Chicago
DESCRIPTION:Southbound was started in 2017 and included members Art Miller\, Dick Miller\, Ray Hughes\, Jeff Foster and Mike Hermanson. In 2019 Mike Hermanson left the band and was replaced by Bill Brightwell on guitar. Jeff Foster left his place as lead vocalist and guitarist in 2020 and was replaced by Billy Stone. In 2022\, Tim Fritz replaced Billy Stone as the singer. Southbound is a professional band with members who have played together for decades. They arrive and set up on time and they bring a great crowd who loves dancing to their southern rock and country sound. Southbound has played all over the Chicago area and are happy to travel further to share their rockin’ music. They play small or large venues at a reasonable rate and anyone who hears them is bound to have a good time!
URL:https://livemusicbox.net/concert/kiefs-reef-2026-southbound-chicago-2/
LOCATION:Kiefs Reef\, 3505 S. Wright Road\, McHenry\, IL\, 60050\, United States
CATEGORIES:Classic Rock,Concert in the Park,Country,Country Rock,Rock,Southern Rock
ATTACH;FMTTYPE=image/jpeg:https://livemusicbox.net/wp-content/uploads/2026/04/Southbound-250.jpg
GEO:42.2791833;-88.2286689
X-APPLE-STRUCTURED-LOCATION;VALUE=URI;X-ADDRESS=Kiefs Reef 3505 S. Wright Road McHenry IL 60050 United States;X-APPLE-RADIUS=500;X-TITLE=3505 S. Wright Road:geo:-88.2286689,42.2791833
END:VEVENT
BEGIN:VEVENT
DTSTART;TZID=America/Chicago:20260718T143000
DTEND;TZID=America/Chicago:20260718T163000
DTSTAMP:20260424T074353
CREATED:20260415T183434Z
LAST-MODIFIED:20260421T145443Z
UID:10000798-1784385000-1784392200@livemusicbox.net
SUMMARY:Kief's Reef Summer Concert Series 2026 - Aberdeen Drive
DESCRIPTION:High energy mix of classic rock and new-age radio hits from the 80’s 90’s and early 2000’s. A group of 5 business professionals making the best use of our free time to rehearse as wanna-be rockstars
URL:https://livemusicbox.net/concert/kiefs-reef-2026-aberdeen-drive/
LOCATION:Kiefs Reef\, 3505 S. Wright Road\, McHenry\, IL\, 60050\, United States
CATEGORIES:Classic Rock,Concert in the Park,New Age
GEO:42.2791833;-88.2286689
X-APPLE-STRUCTURED-LOCATION;VALUE=URI;X-ADDRESS=Kiefs Reef 3505 S. Wright Road McHenry IL 60050 United States;X-APPLE-RADIUS=500;X-TITLE=3505 S. Wright Road:geo:-88.2286689,42.2791833
END:VEVENT
BEGIN:VEVENT
DTSTART;TZID=America/Chicago:20260719T143000
DTEND;TZID=America/Chicago:20260719T163000
DTSTAMP:20260424T074353
CREATED:20260415T183434Z
LAST-MODIFIED:20260421T143310Z
UID:10000799-1784471400-1784478600@livemusicbox.net
SUMMARY:Kief's Reef Summer Concert Series 2026 - Kicked Outta Choir
DESCRIPTION:Kicked Outta Choir is a Chicago-area\, Female Fronted “All 80’s” cover band representing the diverse mix of the many musical genres and artists that made the 1980’s one of the greatest music decades of all time. \nThe 80’s represented a time when fashion and music dared to be different. Similarly\, Kicked Outta Choir prides itself in being a “little different” from 80’s cover bands. Their song selections\, band  image and live show all represent that desire to be different. Kicked Outta Choir chose their name to pay tribute to everyone who has ever been “kicked out” of something because they were told they weren’t good enough or didn’t fit in.
URL:https://livemusicbox.net/concert/kiefs-reef-2026-kicked-outta-choir/
LOCATION:Kiefs Reef\, 3505 S. Wright Road\, McHenry\, IL\, 60050\, United States
CATEGORIES:Alternative Rock,Concert in the Park,Country Rock,Dance Rock,Pop,Rock
ATTACH;FMTTYPE=image/jpeg:https://livemusicbox.net/wp-content/uploads/2026/04/Kicked-Outtaof-Choir-250.jpg
GEO:42.2791833;-88.2286689
X-APPLE-STRUCTURED-LOCATION;VALUE=URI;X-ADDRESS=Kiefs Reef 3505 S. Wright Road McHenry IL 60050 United States;X-APPLE-RADIUS=500;X-TITLE=3505 S. Wright Road:geo:-88.2286689,42.2791833
END:VEVENT
BEGIN:VEVENT
DTSTART;TZID=America/Chicago:20260722T180000
DTEND;TZID=America/Chicago:20260722T193000
DTSTAMP:20260424T074353
CREATED:20260415T183449Z
LAST-MODIFIED:20260421T141318Z
UID:10000800-1784743200-1784748600@livemusicbox.net
SUMMARY:Kief's Reef Summer Concert Series 2026 - Donnelly Trio
DESCRIPTION:Todd Donnelly is a singer/songwriter that plays steel pans and percussion. He has been playing music since childhood\, when he was fortunate to visit Florida and the Caribbean frequently. Todd developed a deep interest in Caribbean music\, which led him to the Steel Band program at Northern Illinois University in Dekalb\, IL. While there\, he started the band Mr. Myers in 1981. Mr. Myers is now in its 42nd year of performing in the Midwest\, and also occasionally plays in Las Vegas\, Florida and the Caribbean.
URL:https://livemusicbox.net/concert/kiefs-reef-2026-donnelly-trio/
LOCATION:Kiefs Reef\, 3505 S. Wright Road\, McHenry\, IL\, 60050\, United States
CATEGORIES:Caribbean,Caribbean Rock,Concert in the Park,Reggae
ATTACH;FMTTYPE=image/jpeg:https://livemusicbox.net/wp-content/uploads/2026/04/Donnelly-Trio-250.jpg
GEO:42.2791833;-88.2286689
X-APPLE-STRUCTURED-LOCATION;VALUE=URI;X-ADDRESS=Kiefs Reef 3505 S. Wright Road McHenry IL 60050 United States;X-APPLE-RADIUS=500;X-TITLE=3505 S. Wright Road:geo:-88.2286689,42.2791833
END:VEVENT
BEGIN:VEVENT
DTSTART;TZID=America/Chicago:20260725T143000
DTEND;TZID=America/Chicago:20260725T163000
DTSTAMP:20260424T074353
CREATED:20260415T183449Z
LAST-MODIFIED:20260421T042727Z
UID:10000801-1784989800-1784997000@livemusicbox.net
SUMMARY:Kief's Reef Summer Concert Series 2026 - Whiskey Devils Band
DESCRIPTION:Whiskey Devils light up the stage with a high-energy mix of country and rock hits\, delivering powerhouse vocals\, tight harmonies\, and nonstop crowd-pleasing tunes. Every show is a guaranteed good time filled with singing\, dancing\, and great music.
URL:https://livemusicbox.net/concert/kiefs-reef-2026-whiskey-devil-2/
LOCATION:Kiefs Reef\, 3505 S. Wright Road\, McHenry\, IL\, 60050\, United States
CATEGORIES:Concert in the Park,Country,Country Rock,Rock
ATTACH;FMTTYPE=image/jpeg:https://livemusicbox.net/wp-content/uploads/2026/04/Whiskey-Devils-Band-250.jpg
GEO:42.2791833;-88.2286689
X-APPLE-STRUCTURED-LOCATION;VALUE=URI;X-ADDRESS=Kiefs Reef 3505 S. Wright Road McHenry IL 60050 United States;X-APPLE-RADIUS=500;X-TITLE=3505 S. Wright Road:geo:-88.2286689,42.2791833
END:VEVENT
BEGIN:VEVENT
DTSTART;TZID=America/Chicago:20260726T143000
DTEND;TZID=America/Chicago:20260726T163000
DTSTAMP:20260424T074353
CREATED:20260415T183449Z
LAST-MODIFIED:20260421T040907Z
UID:10000802-1785076200-1785083400@livemusicbox.net
SUMMARY:Kief's Reef Summer Concert Series 2026 - The Chain - Fleetwood Mac Tribute Band
DESCRIPTION:“The Chain” pays tribute to the legendary and acclaimed music of Fleetwood Mac\, performing their major hits such as Dreams\, Rhiannon\, Go Your Own Way\, Don’t Stop\, Landslide\, Sara\, Say You Love Me\, etc.  Over the course of 35+ years\, Fleetwood Mac has had its share of drama which adds to the unique songwriting talents of the most current members Mick Fleetwood\, John McVie\, Christine McVie\, Lindsey Buckingham and Stevie Nicks.  “The Chain” performs the full range of Fleetwood Mac songs including their most complex and challenging renditions that include both studio and live versions.
URL:https://livemusicbox.net/concert/kiefs-reef-2026-the-chain/
LOCATION:Kiefs Reef\, 3505 S. Wright Road\, McHenry\, IL\, 60050\, United States
CATEGORIES:Acoustic Classic Rock,Classic Rock,Concert in the Park,Rock
ATTACH;FMTTYPE=image/jpeg:https://livemusicbox.net/wp-content/uploads/2026/04/The-Chain-250.jpg
GEO:42.2791833;-88.2286689
X-APPLE-STRUCTURED-LOCATION;VALUE=URI;X-ADDRESS=Kiefs Reef 3505 S. Wright Road McHenry IL 60050 United States;X-APPLE-RADIUS=500;X-TITLE=3505 S. Wright Road:geo:-88.2286689,42.2791833
END:VEVENT
BEGIN:VEVENT
DTSTART;TZID=America/Chicago:20260801T143000
DTEND;TZID=America/Chicago:20260801T163000
DTSTAMP:20260424T074353
CREATED:20260415T222842Z
LAST-MODIFIED:20260421T032043Z
UID:10000849-1785594600-1785601800@livemusicbox.net
SUMMARY:Foam Party W/ DJ Lil Lisa
DESCRIPTION:Foam Party W/ DJ Lil Lisa – Venetian Night
URL:https://livemusicbox.net/concert/foam-party-w-dj-lil-lisa/
LOCATION:Kiefs Reef\, 3505 S. Wright Road\, McHenry\, IL\, 60050\, United States
GEO:42.2791833;-88.2286689
X-APPLE-STRUCTURED-LOCATION;VALUE=URI;X-ADDRESS=Kiefs Reef 3505 S. Wright Road McHenry IL 60050 United States;X-APPLE-RADIUS=500;X-TITLE=3505 S. Wright Road:geo:-88.2286689,42.2791833
END:VEVENT
BEGIN:VEVENT
DTSTART;TZID=America/Chicago:20260802T143000
DTEND;TZID=America/Chicago:20260802T163000
DTSTAMP:20260424T074353
CREATED:20260415T222842Z
LAST-MODIFIED:20260421T030509Z
UID:10000850-1785681000-1785688200@livemusicbox.net
SUMMARY:Kief's Reef Summer Concert Series 2026 - Reely Dan - Steely Dan Tribute Band
DESCRIPTION:Reely Dan- Steely Dan Tribute
URL:https://livemusicbox.net/concert/reely-dan/
LOCATION:Kiefs Reef\, 3505 S. Wright Road\, McHenry\, IL\, 60050\, United States
CATEGORIES: Soft Rock,Classic Rock,Rock
ATTACH;FMTTYPE=image/jpeg:https://livemusicbox.net/wp-content/uploads/2026/04/Reely-Dan-250.jpg
GEO:42.2791833;-88.2286689
X-APPLE-STRUCTURED-LOCATION;VALUE=URI;X-ADDRESS=Kiefs Reef 3505 S. Wright Road McHenry IL 60050 United States;X-APPLE-RADIUS=500;X-TITLE=3505 S. Wright Road:geo:-88.2286689,42.2791833
END:VEVENT
BEGIN:VEVENT
DTSTART;TZID=America/Chicago:20260808T143000
DTEND;TZID=America/Chicago:20260808T143000
DTSTAMP:20260424T074353
CREATED:20260415T222856Z
LAST-MODIFIED:20260421T023724Z
UID:10000851-1786199400-1786199400@livemusicbox.net
SUMMARY:Phoenix Park Band Shell Summer Concert Series 2026 - Phil Jackson
DESCRIPTION:Phil Jackson – 90’s 2000’s Experience
URL:https://livemusicbox.net/concert/phil-jackson/
LOCATION:Kiefs Reef\, 3505 S. Wright Road\, McHenry\, IL\, 60050\, United States
CATEGORIES:Rock
GEO:42.2791833;-88.2286689
X-APPLE-STRUCTURED-LOCATION;VALUE=URI;X-ADDRESS=Kiefs Reef 3505 S. Wright Road McHenry IL 60050 United States;X-APPLE-RADIUS=500;X-TITLE=3505 S. Wright Road:geo:-88.2286689,42.2791833
END:VEVENT
BEGIN:VEVENT
DTSTART;TZID=America/Chicago:20260809T143000
DTEND;TZID=America/Chicago:20260809T163000
DTSTAMP:20260424T074353
CREATED:20260415T183504Z
LAST-MODIFIED:20260421T021825Z
UID:10000806-1786285800-1786293000@livemusicbox.net
SUMMARY:Kief's Reef Summer Concert Series 2026 - Hurricane Reggae
DESCRIPTION:Hurricane Reggae Band \n\n\n\n\nBring the soul of the Caribbean to your next event with The Hurricane Reggae Band\, Chicago’s premier choice for authentic island rhythms and high-energy performances. Rooted in the heart of the Chicago music scene\, we deliver an infectious reggae experience backed by decades of musical heritage.
URL:https://livemusicbox.net/concert/kiefs-reef-2026-hurricane-reggae/
LOCATION:Kiefs Reef\, 3505 S. Wright Road\, McHenry\, IL\, 60050\, United States
CATEGORIES:Concert in the Park
ATTACH;FMTTYPE=image/jpeg:https://livemusicbox.net/wp-content/uploads/2026/04/Hurricane-Reggae-Band-250.jpg
GEO:42.2791833;-88.2286689
X-APPLE-STRUCTURED-LOCATION;VALUE=URI;X-ADDRESS=Kiefs Reef 3505 S. Wright Road McHenry IL 60050 United States;X-APPLE-RADIUS=500;X-TITLE=3505 S. Wright Road:geo:-88.2286689,42.2791833
END:VEVENT
BEGIN:VEVENT
DTSTART;TZID=America/Chicago:20260815T143000
DTEND;TZID=America/Chicago:20260815T163000
DTSTAMP:20260424T074353
CREATED:20260415T222857Z
LAST-MODIFIED:20260421T013941Z
UID:10000853-1786804200-1786811400@livemusicbox.net
SUMMARY:Kief’s Reef Summer Concert Series 2026 - W.K. Band (Whiskey Kitten)
DESCRIPTION:The W.K.Band (Whiskey Kitten) is a High Energy cover band playing the best R&B\, disco\, dance and party hits of yesterday and today.\nWe blend these genres together for a non stop night of fun\, guaranteed to get your hips swinging. If The W.K. Band doesn’t make you get up and
URL:https://livemusicbox.net/concert/whiskey-kitten-2/
LOCATION:Kiefs Reef\, 3505 S. Wright Road\, McHenry\, IL\, 60050\, United States
CATEGORIES:Concert in the Park,Dance
ATTACH;FMTTYPE=image/jpeg:https://livemusicbox.net/wp-content/uploads/2026/04/Whiskey-Kitten-W.K.-Band-250.jpg
GEO:42.2791833;-88.2286689
X-APPLE-STRUCTURED-LOCATION;VALUE=URI;X-ADDRESS=Kiefs Reef 3505 S. Wright Road McHenry IL 60050 United States;X-APPLE-RADIUS=500;X-TITLE=3505 S. Wright Road:geo:-88.2286689,42.2791833
END:VEVENT
BEGIN:VEVENT
DTSTART;TZID=America/Chicago:20260816T143000
DTEND;TZID=America/Chicago:20260816T163000
DTSTAMP:20260424T074353
CREATED:20260415T222857Z
LAST-MODIFIED:20260421T011019Z
UID:10000854-1786890600-1786897800@livemusicbox.net
SUMMARY:Kief's Reef Summer Concert Series 2026 - Yankee Cowboys
DESCRIPTION:Upbeat\, exciting\, modern country music with rockin’ blasts from the past! This dynamic group is known for their big sound\, soaring harmonies\, energetic stage presence\, and tight musicianship. Come out to a show and see what all the buzz is about!
URL:https://livemusicbox.net/concert/yankee-cowboys/
LOCATION:Kiefs Reef\, 3505 S. Wright Road\, McHenry\, IL\, 60050\, United States
CATEGORIES:Concert in the Park,Country,Country Rock,Rock
ATTACH;FMTTYPE=image/jpeg:https://livemusicbox.net/wp-content/uploads/2026/04/yankeecowboy-250.jpg
GEO:42.2791833;-88.2286689
X-APPLE-STRUCTURED-LOCATION;VALUE=URI;X-ADDRESS=Kiefs Reef 3505 S. Wright Road McHenry IL 60050 United States;X-APPLE-RADIUS=500;X-TITLE=3505 S. Wright Road:geo:-88.2286689,42.2791833
END:VEVENT
BEGIN:VEVENT
DTSTART;TZID=America/Chicago:20260822T143000
DTEND;TZID=America/Chicago:20260822T163000
DTSTAMP:20260424T074353
CREATED:20260415T222857Z
LAST-MODIFIED:20260421T010329Z
UID:10000855-1787409000-1787416200@livemusicbox.net
SUMMARY:Kief's Reef Summer Concert Series 2026 - Leaving Scarlett
DESCRIPTION:Leaving Scarlet is the explosive Chicagoland rock and dance cover band guaranteed to deliver an unforgettable escape.  We are the band that won the WDRV 97.1 The Drive Battle of the Bands semi-finals and performed on the big stage at the NASCAR Chicagoland Speedway in Joliet!
URL:https://livemusicbox.net/concert/leaving-scarlett-2/
LOCATION:Kiefs Reef\, 3505 S. Wright Road\, McHenry\, IL\, 60050\, United States
CATEGORIES:Concert in the Park,Dance,Rock
ATTACH;FMTTYPE=image/jpeg:https://livemusicbox.net/wp-content/uploads/2026/04/Leaving-Scarlet-250.jpg
GEO:42.2791833;-88.2286689
X-APPLE-STRUCTURED-LOCATION;VALUE=URI;X-ADDRESS=Kiefs Reef 3505 S. Wright Road McHenry IL 60050 United States;X-APPLE-RADIUS=500;X-TITLE=3505 S. Wright Road:geo:-88.2286689,42.2791833
END:VEVENT
BEGIN:VEVENT
DTSTART;TZID=America/Chicago:20260823T143000
DTEND;TZID=America/Chicago:20260823T163000
DTSTAMP:20260424T074353
CREATED:20260415T183519Z
LAST-MODIFIED:20260421T003833Z
UID:10000810-1787495400-1787502600@livemusicbox.net
SUMMARY:Kief's Reef Summer Concert Series 2026 - Cherry Bomb Chicago
DESCRIPTION:Chicago’s Tribute to the Best Female Artists 90s to Today! Halestorm to Hole\, Gaga to Garbage\, Alanis to Avril\, Billie to Blondie\, Pink to Paramore to Pretty Reckless\, Chappell & Olivia & Dorothy & so much more! Be ready to party when you join us!
URL:https://livemusicbox.net/concert/kiefs-reef-2026-cherry-bomb-chicago/
LOCATION:Kiefs Reef\, 3505 S. Wright Road\, McHenry\, IL\, 60050\, United States
CATEGORIES:Concert in the Park,Pop,Rock
GEO:42.2791833;-88.2286689
X-APPLE-STRUCTURED-LOCATION;VALUE=URI;X-ADDRESS=Kiefs Reef 3505 S. Wright Road McHenry IL 60050 United States;X-APPLE-RADIUS=500;X-TITLE=3505 S. Wright Road:geo:-88.2286689,42.2791833
END:VEVENT
BEGIN:VEVENT
DTSTART;TZID=America/Chicago:20260829T143000
DTEND;TZID=America/Chicago:20260829T163000
DTSTAMP:20260424T074353
CREATED:20260415T183519Z
LAST-MODIFIED:20260421T001621Z
UID:10000811-1788013800-1788021000@livemusicbox.net
SUMMARY:Kief's Reef Summer Concert Series 2026 - Otterman
DESCRIPTION:Hailing from the heart of Lake County\, Illinois\, Otterman is a classic rock and jam band that brings a new twist to timeless tunes. We’re not just about playing songs – we’re about crafting an experience with a knack for the unexpected\, riffing and improvising our way through epic setlists that’ll have you grooving from the first note to the last.
URL:https://livemusicbox.net/concert/kiefs-reef-2026-otterman/
LOCATION:Kiefs Reef\, 3505 S. Wright Road\, McHenry\, IL\, 60050\, United States
CATEGORIES:Classic Rock,Concert in the Park,Rock
ATTACH;FMTTYPE=image/jpeg:https://livemusicbox.net/wp-content/uploads/2026/04/Otterman_group-250.jpg
GEO:42.2791833;-88.2286689
X-APPLE-STRUCTURED-LOCATION;VALUE=URI;X-ADDRESS=Kiefs Reef 3505 S. Wright Road McHenry IL 60050 United States;X-APPLE-RADIUS=500;X-TITLE=3505 S. Wright Road:geo:-88.2286689,42.2791833
END:VEVENT
BEGIN:VEVENT
DTSTART;TZID=America/Chicago:20260905T143000
DTEND;TZID=America/Chicago:20260905T163000
DTSTAMP:20260424T074353
CREATED:20260415T183519Z
LAST-MODIFIED:20260420T235712Z
UID:10000813-1788618600-1788625800@livemusicbox.net
SUMMARY:Kief's Reef Summer Concert Series 2026 - Knock Offs
DESCRIPTION:Kief’s Reef
URL:https://livemusicbox.net/concert/kiefs-reef-2026-knock-offs/
LOCATION:Kiefs Reef\, 3505 S. Wright Road\, McHenry\, IL\, 60050\, United States
CATEGORIES:Concert in the Park
GEO:42.2791833;-88.2286689
X-APPLE-STRUCTURED-LOCATION;VALUE=URI;X-ADDRESS=Kiefs Reef 3505 S. Wright Road McHenry IL 60050 United States;X-APPLE-RADIUS=500;X-TITLE=3505 S. Wright Road:geo:-88.2286689,42.2791833
END:VEVENT
END:VCALENDAR