BEGIN:VCALENDAR
VERSION:2.0
PRODID:-//Live Music Box - ECPv6.15.20//NONSGML v1.0//EN
CALSCALE:GREGORIAN
METHOD:PUBLISH
X-ORIGINAL-URL:https://livemusicbox.net
X-WR-CALDESC:Events for Live Music Box
REFRESH-INTERVAL;VALUE=DURATION:PT1H
X-Robots-Tag:noindex
X-PUBLISHED-TTL:PT1H
BEGIN:VTIMEZONE
TZID:America/Chicago
BEGIN:DAYLIGHT
TZOFFSETFROM:-0600
TZOFFSETTO:-0500
TZNAME:CDT
DTSTART:20250309T080000
END:DAYLIGHT
BEGIN:STANDARD
TZOFFSETFROM:-0500
TZOFFSETTO:-0600
TZNAME:CST
DTSTART:20251102T070000
END:STANDARD
BEGIN:DAYLIGHT
TZOFFSETFROM:-0600
TZOFFSETTO:-0500
TZNAME:CDT
DTSTART:20260308T080000
END:DAYLIGHT
BEGIN:STANDARD
TZOFFSETFROM:-0500
TZOFFSETTO:-0600
TZNAME:CST
DTSTART:20261101T070000
END:STANDARD
BEGIN:DAYLIGHT
TZOFFSETFROM:-0600
TZOFFSETTO:-0500
TZNAME:CDT
DTSTART:20270314T080000
END:DAYLIGHT
BEGIN:STANDARD
TZOFFSETFROM:-0500
TZOFFSETTO:-0600
TZNAME:CST
DTSTART:20271107T070000
END:STANDARD
END:VTIMEZONE
BEGIN:VEVENT
DTSTART;TZID=America/Chicago:20260701T180000
DTEND;TZID=America/Chicago:20260701T200000
DTSTAMP:20260423T022228
CREATED:20260413T163614Z
LAST-MODIFIED:20260421T174240Z
UID:10000669-1782928800-1782936000@livemusicbox.net
SUMMARY:Bristol Woods Summer Concert Series 2026 - Mary Moore
DESCRIPTION:Mary Moore is a folk-pop/indie-pop artist living in Nashville\, TN. With powerhouse vocals and storytelling lyrics\, she has been captivating stages and connecting to people from all walks of life. Mary’s vocals are comparable to the power of Brandi Carlile and Florence + The Machine\, but also with the sweet\, quirkiness of Regina Spektor.
URL:https://livemusicbox.net/concert/bristol-woodstock-4/
LOCATION:Bristol Woodstock Woods Park\, 9800 County Hwy M B\, Bristol\, WI\, 53104\, United States
CATEGORIES:Concert in the Park,Folk Pop,Indie Pop,Pop
ATTACH;FMTTYPE=image/jpeg:https://livemusicbox.net/wp-content/uploads/2026/04/Mary-Moore-250.jpg
GEO:42.5338136;-88.0069783
X-APPLE-STRUCTURED-LOCATION;VALUE=URI;X-ADDRESS=Bristol Woodstock Woods Park 9800 County Hwy M B Bristol WI 53104 United States;X-APPLE-RADIUS=500;X-TITLE=9800 County Hwy M B:geo:-88.0069783,42.5338136
END:VEVENT
BEGIN:VEVENT
DTSTART;TZID=America/Chicago:20260702T180000
DTEND;TZID=America/Chicago:20260702T200000
DTSTAMP:20260423T022228
CREATED:20260415T183419Z
LAST-MODIFIED:20260421T173844Z
UID:10000792-1783015200-1783022400@livemusicbox.net
SUMMARY:Kief's Reef Summer Concert Series 2026 - Mother Of All Duo’s
DESCRIPTION:An awesome duo with great vocals and incredible lead guitar and keyboards playing rock covers.
URL:https://livemusicbox.net/concert/kiefs-reef-2026-mother-of-all-duos/
LOCATION:Kiefs Reef\, 3505 S. Wright Road\, McHenry\, IL\, 60050\, United States
CATEGORIES:Classic Rock,Concert in the Park,Rock
ATTACH;FMTTYPE=image/jpeg:https://livemusicbox.net/wp-content/uploads/2026/04/Mother-Of-All-Duos-250.jpg
GEO:42.2791833;-88.2286689
X-APPLE-STRUCTURED-LOCATION;VALUE=URI;X-ADDRESS=Kiefs Reef 3505 S. Wright Road McHenry IL 60050 United States;X-APPLE-RADIUS=500;X-TITLE=3505 S. Wright Road:geo:-88.2286689,42.2791833
END:VEVENT
BEGIN:VEVENT
DTSTART;TZID=America/Chicago:20260702T180000
DTEND;TZID=America/Chicago:20260702T200000
DTSTAMP:20260423T022228
CREATED:20260415T225104Z
LAST-MODIFIED:20260421T053344Z
UID:10000859-1783015200-1783022400@livemusicbox.net
SUMMARY:Rhythm of the Lake Kenosha Concert Series 2026 - Jesse Stratton Band
DESCRIPTION:The Jesse Stratton Band is a home-grown Hill Country favorite\, blending Americana\, alt-country\, and rock influences to create a sound that’s uniquely their own. With heartfelt lyrics\, soulful melodies\, and skilled musicianship\, they bring a fresh\, indie twist to their Southern roots\, and are known for the captivating performances and raw energy they bring to the stage.
URL:https://livemusicbox.net/concert/rhythm-on-the-lake-jesse-stratton-band/
LOCATION:Kenosha Old Settlers Park\, 24100 75th Street\, Salem\, WI\, 53170\, United States
CATEGORIES:American Rock,Americana,Concert in the Park,Country,Rock
ATTACH;FMTTYPE=image/jpeg:https://livemusicbox.net/wp-content/uploads/2026/04/Jesse-Stratton-250.jpg
GEO:42.5692257;-88.0977083
X-APPLE-STRUCTURED-LOCATION;VALUE=URI;X-ADDRESS=Kenosha Old Settlers Park 24100 75th Street Salem WI 53170 United States;X-APPLE-RADIUS=500;X-TITLE=24100 75th Street:geo:-88.0977083,42.5692257
END:VEVENT
BEGIN:VEVENT
DTSTART;TZID=America/Chicago:20260702T180000
DTEND;TZID=America/Chicago:20260702T200000
DTSTAMP:20260423T022228
CREATED:20260415T231757Z
LAST-MODIFIED:20260421T173023Z
UID:10000889-1783015200-1783022400@livemusicbox.net
SUMMARY:Rockford Jams Summer Concert Series 2026 - American English - Beatles Tribute Band
DESCRIPTION:“The best Beatles band on the planet!”-Newsweek. Opening performances begin at 6 PM; Headliners at 7 PM. Part of the 2026 Rockford Jams series.
URL:https://livemusicbox.net/concert/american-english/
LOCATION:Rockford Sinnissippi Music Shell\, 2010 Arlington Ave\, Rockford\, IL\, 61107\, United States
CATEGORIES:Classic Rock,Concert in the Park,Rock
ATTACH;FMTTYPE=image/jpeg:https://livemusicbox.net/wp-content/uploads/2026/04/American-English-250.jpg
GEO:42.2810888;-89.0667579
X-APPLE-STRUCTURED-LOCATION;VALUE=URI;X-ADDRESS=Rockford Sinnissippi Music Shell 2010 Arlington Ave Rockford IL 61107 United States;X-APPLE-RADIUS=500;X-TITLE=2010 Arlington Ave:geo:-89.0667579,42.2810888
END:VEVENT
BEGIN:VEVENT
DTSTART;TZID=America/Chicago:20260702T190000
DTEND;TZID=America/Chicago:20260702T203000
DTSTAMP:20260423T022228
CREATED:20260411T203427Z
LAST-MODIFIED:20260411T203613Z
UID:10000665-1783018800-1783024200@livemusicbox.net
SUMMARY:Algonquin Summer Concert Series 2026 - Tim Gleason Band
DESCRIPTION:Tim Gleason is a Country artist based in Yorkville\, Illinois. He leads the Tim Gleason Band\, a versatile ensemble that delivers a lively mix of modern country hits\, classic country\, and pop/rock. The group also performs original songs like “Big A$$ Boat” and “Dust Beneath My Boots”. He also leads the Eric Church Tribute Band.
URL:https://livemusicbox.net/concert/algonquin-summer-concerts-2026-tim-gleason-band/
LOCATION:Algonquin Concert Towne Park\, 100 Jefferson St\, Algonquin\, IL\, 60102\, United States
CATEGORIES:Concert in the Park,Country,Country Rock
ATTACH;FMTTYPE=image/jpeg:https://livemusicbox.net/wp-content/uploads/2026/04/Tim-Gleason-Band-250.jpg
GEO:42.1684128;-88.2950714
X-APPLE-STRUCTURED-LOCATION;VALUE=URI;X-ADDRESS=Algonquin Concert Towne Park 100 Jefferson St Algonquin IL 60102 United States;X-APPLE-RADIUS=500;X-TITLE=100 Jefferson St:geo:-88.2950714,42.1684128
END:VEVENT
BEGIN:VEVENT
DTSTART;TZID=America/Chicago:20260703T160000
DTEND;TZID=America/Chicago:20260703T170000
DTSTAMP:20260423T022228
CREATED:20260415T230603Z
LAST-MODIFIED:20260421T171801Z
UID:10000873-1783094400-1783098000@livemusicbox.net
SUMMARY:Phoenix Park Band Shell Summer Concert Series 2026 - Palmyra/Eagle Community Band
DESCRIPTION:Phoenix Park Bandshell
URL:https://livemusicbox.net/concert/palmyra-eagle-community-band-americana/
LOCATION:Phoenix Park Bandshell Delavan\, 111 E Wisconsin St\, Delavan\, IL\, 53115\, United States
CATEGORIES:Americana,Concert in the Park
GEO:42.6300351;-88.6476331
X-APPLE-STRUCTURED-LOCATION;VALUE=URI;X-ADDRESS=Phoenix Park Bandshell Delavan 111 E Wisconsin St Delavan IL 53115 United States;X-APPLE-RADIUS=500;X-TITLE=111 E Wisconsin St:geo:-88.6476331,42.6300351
END:VEVENT
BEGIN:VEVENT
DTSTART;TZID=America/Chicago:20260703T180000
DTEND;TZID=America/Chicago:20260703T210000
DTSTAMP:20260423T022228
CREATED:20260415T173742Z
LAST-MODIFIED:20260422T171029Z
UID:10000759-1783101600-1783112400@livemusicbox.net
SUMMARY:JJ Twigs Summer Concert Series 2026 - Joe Nueco Music + Fireworks
DESCRIPTION:JJ Twig’s Pizza & Pub
URL:https://livemusicbox.net/concert/j-j-twigs-summer-concert-series-2026-joe-nueco-music-fireworks/
LOCATION:JJ Twigs Wauconda\, 1200 N Rand Rd\, Wauconda\, IL\, 60084\, United States
CATEGORIES:Concert in the Park,Fireworks
ATTACH;FMTTYPE=image/jpeg:https://livemusicbox.net/wp-content/uploads/2026/04/Trilogy-ConcertsInThePark-250.jpg
GEO:42.277979;-88.1542974
X-APPLE-STRUCTURED-LOCATION;VALUE=URI;X-ADDRESS=JJ Twigs Wauconda 1200 N Rand Rd Wauconda IL 60084 United States;X-APPLE-RADIUS=500;X-TITLE=1200 N Rand Rd:geo:-88.1542974,42.277979
END:VEVENT
BEGIN:VEVENT
DTSTART;TZID=America/Chicago:20260703T183000
DTEND;TZID=America/Chicago:20260703T203000
DTSTAMP:20260423T022228
CREATED:20260415T183419Z
LAST-MODIFIED:20260421T171537Z
UID:10000793-1783103400-1783110600@livemusicbox.net
SUMMARY:Kief's Reef Summer Concert Series 2026 - Justin Wallace
DESCRIPTION:At just 23 years old\, this talented Johnsburg\, IL. native has already achieved remarkable milestones in his music career. Starting at the age of 17\, Justin has honed his skills and now he’s sharing the stage with renowned artists like David Cook\, winner of American Idol\, and AGT’s very own Mitch Rossell. \nIf you’re looking for a night out filled with great music\, you won’t want to miss Justin’s performances at local venues . With his versatile repertoire spanning across Country\, Rock\, Pop\, and Alternative genres\, there’s something for everyone to enjoy.
URL:https://livemusicbox.net/concert/kiefs-reef-2026-justin-wallace/
LOCATION:Kiefs Reef\, 3505 S. Wright Road\, McHenry\, IL\, 60050\, United States
CATEGORIES:Concert in the Park,Country,Country Rock,Fireworks,Pop,Rock
ATTACH;FMTTYPE=image/jpeg:https://livemusicbox.net/wp-content/uploads/2026/04/Justin-Wallace-250.jpg
GEO:42.2791833;-88.2286689
X-APPLE-STRUCTURED-LOCATION;VALUE=URI;X-ADDRESS=Kiefs Reef 3505 S. Wright Road McHenry IL 60050 United States;X-APPLE-RADIUS=500;X-TITLE=3505 S. Wright Road:geo:-88.2286689,42.2791833
END:VEVENT
BEGIN:VEVENT
DTSTART;TZID=America/Chicago:20260704T143000
DTEND;TZID=America/Chicago:20260704T163000
DTSTAMP:20260423T022228
CREATED:20260415T183420Z
LAST-MODIFIED:20260421T171244Z
UID:10000794-1783175400-1783182600@livemusicbox.net
SUMMARY:Kief's Reef Summer Concert Series 2026 - Dixon Bandits
DESCRIPTION:Southern rock with a Country flair..
URL:https://livemusicbox.net/concert/kiefs-reef-2026-dixon-bandits-2/
LOCATION:Kiefs Reef\, 3505 S. Wright Road\, McHenry\, IL\, 60050\, United States
CATEGORIES:Classic Rock,Concert in the Park,Country Rock,Rock,Southern Rock
ATTACH;FMTTYPE=image/jpeg:https://livemusicbox.net/wp-content/uploads/2026/04/Dixon_Bandits-250.jpg
GEO:42.2791833;-88.2286689
X-APPLE-STRUCTURED-LOCATION;VALUE=URI;X-ADDRESS=Kiefs Reef 3505 S. Wright Road McHenry IL 60050 United States;X-APPLE-RADIUS=500;X-TITLE=3505 S. Wright Road:geo:-88.2286689,42.2791833
END:VEVENT
BEGIN:VEVENT
DTSTART;TZID=America/Chicago:20260704T180000
DTEND;TZID=America/Chicago:20260704T193000
DTSTAMP:20260423T022228
CREATED:20260415T230604Z
LAST-MODIFIED:20260421T170201Z
UID:10000874-1783188000-1783193400@livemusicbox.net
SUMMARY:Phoenix Park Band Shell Summer Concert Series 2026 - Gary Stebnitz
DESCRIPTION:Phoenix Park Bandshell
URL:https://livemusicbox.net/concert/gary-stebnitz/
LOCATION:Phoenix Park Bandshell Delavan\, 111 E Wisconsin St\, Delavan\, IL\, 53115\, United States
CATEGORIES:Acoustic Rock,Americana,Concert in the Park,Fireworks
GEO:42.6300351;-88.6476331
X-APPLE-STRUCTURED-LOCATION;VALUE=URI;X-ADDRESS=Phoenix Park Bandshell Delavan 111 E Wisconsin St Delavan IL 53115 United States;X-APPLE-RADIUS=500;X-TITLE=111 E Wisconsin St:geo:-88.6476331,42.6300351
END:VEVENT
BEGIN:VEVENT
DTSTART;TZID=America/Chicago:20260705T143000
DTEND;TZID=America/Chicago:20260705T163000
DTSTAMP:20260423T022228
CREATED:20260415T183434Z
LAST-MODIFIED:20260421T161817Z
UID:10000795-1783261800-1783269000@livemusicbox.net
SUMMARY:Kief's Reef Summer Concert Series 2026 - W.K. Band
DESCRIPTION:The W.K.Band (Whiskey Kitten) is a High Energy cover band playing the best R&B\, disco\, dance and party hits of yesterday and today.\nWe blend these genres together for a non stop night of fun\, guaranteed to get your hips swinging. If The W.K. Band doesn’t make you get up and dance.
URL:https://livemusicbox.net/concert/kiefs-reef-2026-whiskey-kitten/
LOCATION:Kiefs Reef\, 3505 S. Wright Road\, McHenry\, IL\, 60050\, United States
CATEGORIES:Concert in the Park,Dance,Disco,R&B/Soul
ATTACH;FMTTYPE=image/jpeg:https://livemusicbox.net/wp-content/uploads/2026/04/Whiskey-Kitten-W.K.-Band-250.jpg
GEO:42.2791833;-88.2286689
X-APPLE-STRUCTURED-LOCATION;VALUE=URI;X-ADDRESS=Kiefs Reef 3505 S. Wright Road McHenry IL 60050 United States;X-APPLE-RADIUS=500;X-TITLE=3505 S. Wright Road:geo:-88.2286689,42.2791833
END:VEVENT
END:VCALENDAR