BEGIN:VCALENDAR
VERSION:2.0
PRODID:-//Live Music Box - ECPv6.15.20//NONSGML v1.0//EN
CALSCALE:GREGORIAN
METHOD:PUBLISH
X-WR-CALNAME:Live Music Box
X-ORIGINAL-URL:https://livemusicbox.net
X-WR-CALDESC:Events for Live Music Box
REFRESH-INTERVAL;VALUE=DURATION:PT1H
X-Robots-Tag:noindex
X-PUBLISHED-TTL:PT1H
BEGIN:VTIMEZONE
TZID:America/Chicago
BEGIN:DAYLIGHT
TZOFFSETFROM:-0600
TZOFFSETTO:-0500
TZNAME:CDT
DTSTART:20250309T080000
END:DAYLIGHT
BEGIN:STANDARD
TZOFFSETFROM:-0500
TZOFFSETTO:-0600
TZNAME:CST
DTSTART:20251102T070000
END:STANDARD
BEGIN:DAYLIGHT
TZOFFSETFROM:-0600
TZOFFSETTO:-0500
TZNAME:CDT
DTSTART:20260308T080000
END:DAYLIGHT
BEGIN:STANDARD
TZOFFSETFROM:-0500
TZOFFSETTO:-0600
TZNAME:CST
DTSTART:20261101T070000
END:STANDARD
BEGIN:DAYLIGHT
TZOFFSETFROM:-0600
TZOFFSETTO:-0500
TZNAME:CDT
DTSTART:20270314T080000
END:DAYLIGHT
BEGIN:STANDARD
TZOFFSETFROM:-0500
TZOFFSETTO:-0600
TZNAME:CST
DTSTART:20271107T070000
END:STANDARD
END:VTIMEZONE
BEGIN:VEVENT
DTSTART;TZID=America/Chicago:20260716T190000
DTEND;TZID=America/Chicago:20260716T203000
DTSTAMP:20260422T235406
CREATED:20260415T163228Z
LAST-MODIFIED:20260421T150323Z
UID:10000725-1784228400-1784233800@livemusicbox.net
SUMMARY:Algonquin Concert in the Park 2026 - Reckless
DESCRIPTION:Reckless is a high-powered\, high-energy\, rock\, pop\, dance and country cover band with loads of talent that brings you a great musical experience from beginning to end. Reckless is made up of 6 multi-talented musicians led by a powerful female and male vocalist. This unique lineup allows this band to cover some of the most loved female artists from Janis Joplin\, Heart\, Stevie Nicks  and many more and with our awesome male vocalists\, Reckless leaves nothing out. From the classics of Led Zeppelin\, Journey and the Beatles to Foo Fighter and Maroon 5\, from ballads to power rock.  Let’s not forget all our dance songs as well\, Bruno Mars\, Blondie…..  Something for everyone!!
URL:https://livemusicbox.net/concert/summer-concerts-in-the-park-reckless/
LOCATION:Algonquin Concert Towne Park\, 100 Jefferson St\, Algonquin\, IL\, 60102\, United States
CATEGORIES:Classic Rock,Concert in the Park,Pop,Rock
GEO:42.1684128;-88.2950714
X-APPLE-STRUCTURED-LOCATION;VALUE=URI;X-ADDRESS=Algonquin Concert Towne Park 100 Jefferson St Algonquin IL 60102 United States;X-APPLE-RADIUS=500;X-TITLE=100 Jefferson St:geo:-88.2950714,42.1684128
END:VEVENT
END:VCALENDAR