BEGIN:VCALENDAR
VERSION:2.0
PRODID:-//Live Music Box - ECPv6.15.20//NONSGML v1.0//EN
CALSCALE:GREGORIAN
METHOD:PUBLISH
X-WR-CALNAME:Live Music Box
X-ORIGINAL-URL:https://livemusicbox.net
X-WR-CALDESC:Events for Live Music Box
REFRESH-INTERVAL;VALUE=DURATION:PT1H
X-Robots-Tag:noindex
X-PUBLISHED-TTL:PT1H
BEGIN:VTIMEZONE
TZID:America/Chicago
BEGIN:DAYLIGHT
TZOFFSETFROM:-0600
TZOFFSETTO:-0500
TZNAME:CDT
DTSTART:20250309T080000
END:DAYLIGHT
BEGIN:STANDARD
TZOFFSETFROM:-0500
TZOFFSETTO:-0600
TZNAME:CST
DTSTART:20251102T070000
END:STANDARD
BEGIN:DAYLIGHT
TZOFFSETFROM:-0600
TZOFFSETTO:-0500
TZNAME:CDT
DTSTART:20260308T080000
END:DAYLIGHT
BEGIN:STANDARD
TZOFFSETFROM:-0500
TZOFFSETTO:-0600
TZNAME:CST
DTSTART:20261101T070000
END:STANDARD
BEGIN:DAYLIGHT
TZOFFSETFROM:-0600
TZOFFSETTO:-0500
TZNAME:CDT
DTSTART:20270314T080000
END:DAYLIGHT
BEGIN:STANDARD
TZOFFSETFROM:-0500
TZOFFSETTO:-0600
TZNAME:CST
DTSTART:20271107T070000
END:STANDARD
END:VTIMEZONE
BEGIN:VEVENT
DTSTART;TZID=America/Chicago:20260730T190000
DTEND;TZID=America/Chicago:20260730T203000
DTSTAMP:20260421T020938
CREATED:20260415T163228Z
LAST-MODIFIED:20260421T034541Z
UID:10000727-1785438000-1785443400@livemusicbox.net
SUMMARY:Algonquin Concert in the Park 2026 - Heartache Tonight
DESCRIPTION:From the powerful guitar duel in “Hotel California” to the shimmering harmonies of “Peaceful Easy Feeling” a Heartache Tonight show is a true Eagles concert experience featuring all the timeless classic songs from one of the greatest rock bands of all time. With meticulous attention to every detail\, Heartache Tonight brings together music from all eras and incarnations of this huge American rock powerhouse that produced hits over four decades. A Heartache Tonight concert is filled with moments designed to thrill classic rock fans: the soaring a cappella harmonies of “Seven Bridges Road\,” the snarling guitars of “Life In The Fast Lane\,” the anthemic country rock of “Take It Easy\,” and Don Henley’s beautifully evocative “Heart Of The Matter.”
URL:https://livemusicbox.net/concert/summer-concerts-in-the-park-heartache-tonight/
LOCATION:Algonquin Concert Towne Park\, 100 Jefferson St\, Algonquin\, IL\, 60102\, United States
CATEGORIES:Acoustic Classic Rock,Classic Rock,Concert in the Park,Rock
ATTACH;FMTTYPE=image/jpeg:https://livemusicbox.net/wp-content/uploads/2026/04/Heartwreckers-250.jpg
GEO:42.1684128;-88.2950714
X-APPLE-STRUCTURED-LOCATION;VALUE=URI;X-ADDRESS=Algonquin Concert Towne Park 100 Jefferson St Algonquin IL 60102 United States;X-APPLE-RADIUS=500;X-TITLE=100 Jefferson St:geo:-88.2950714,42.1684128
END:VEVENT
END:VCALENDAR