BEGIN:VCALENDAR
VERSION:2.0
PRODID:-//Live Music Box - ECPv6.15.20//NONSGML v1.0//EN
CALSCALE:GREGORIAN
METHOD:PUBLISH
X-WR-CALNAME:Live Music Box
X-ORIGINAL-URL:https://livemusicbox.net
X-WR-CALDESC:Events for Live Music Box
REFRESH-INTERVAL;VALUE=DURATION:PT1H
X-Robots-Tag:noindex
X-PUBLISHED-TTL:PT1H
BEGIN:VTIMEZONE
TZID:America/Chicago
BEGIN:DAYLIGHT
TZOFFSETFROM:-0600
TZOFFSETTO:-0500
TZNAME:CDT
DTSTART:20250309T080000
END:DAYLIGHT
BEGIN:STANDARD
TZOFFSETFROM:-0500
TZOFFSETTO:-0600
TZNAME:CST
DTSTART:20251102T070000
END:STANDARD
BEGIN:DAYLIGHT
TZOFFSETFROM:-0600
TZOFFSETTO:-0500
TZNAME:CDT
DTSTART:20260308T080000
END:DAYLIGHT
BEGIN:STANDARD
TZOFFSETFROM:-0500
TZOFFSETTO:-0600
TZNAME:CST
DTSTART:20261101T070000
END:STANDARD
BEGIN:DAYLIGHT
TZOFFSETFROM:-0600
TZOFFSETTO:-0500
TZNAME:CDT
DTSTART:20270314T080000
END:DAYLIGHT
BEGIN:STANDARD
TZOFFSETFROM:-0500
TZOFFSETTO:-0600
TZNAME:CST
DTSTART:20271107T070000
END:STANDARD
END:VTIMEZONE
BEGIN:VEVENT
DTSTART;TZID=America/Chicago:20260424T213000
DTEND;TZID=America/Chicago:20260424T233000
DTSTAMP:20260421T184836
CREATED:20260316T165823Z
LAST-MODIFIED:20260402T171914Z
UID:10000630-1777066200-1777073400@livemusicbox.net
SUMMARY:Evenflow - Trio Unplugged 7th Heaven
DESCRIPTION:Featuring members of the legendary Chicago cover band 7th Heaven\, Trio Unplugged brings a powerful acoustic twist to the high-energy sound fans love. With Adam Heisler on lead vocals and guitar\, Nick Cox on guitar and vocals\, and Frankie Harchut on drums and percussion\, this stripped-down lineup delivers a dynamic mix of rock\, pop\, and crowd favorites in an intimate\, unplugged setting. \nPerfect for festivals\, clubs\, and special events\, Trio Unplugged combines tight harmonies\, top-notch musicianship\, and the fun\, interactive style that has made 7th Heaven a Midwest favorite. Expect big songs\, great energy\, and a close-up musical experience that keeps audiences singing along all night. 🎶🎸🥁
URL:https://livemusicbox.net/concert/evenflow-7th-heaven/
LOCATION:EvenFlow Music & Spirits\, 302 W State St\, Geneva\, IL\, 60134\, United States
CATEGORIES: Soft Rock,Pop,Rock
ATTACH;FMTTYPE=image/jpeg:https://livemusicbox.net/wp-content/uploads/2026/03/Trio-F-A-N-250.jpg
GEO:41.8877194;-88.3081499
X-APPLE-STRUCTURED-LOCATION;VALUE=URI;X-ADDRESS=EvenFlow Music & Spirits 302 W State St Geneva IL 60134 United States;X-APPLE-RADIUS=500;X-TITLE=302 W State St:geo:-88.3081499,41.8877194
END:VEVENT
BEGIN:VEVENT
DTSTART;TZID=America/Chicago:20260425T210000
DTEND;TZID=America/Chicago:20260425T230000
DTSTAMP:20260421T184836
CREATED:20260316T170114Z
LAST-MODIFIED:20260320T144931Z
UID:10000631-1777150800-1777158000@livemusicbox.net
SUMMARY:Rochaus - 7th Heaven
DESCRIPTION:7th Heaven is a Chicago\, Illinois-based rock band known for their high-energy performances and a blend of original music and classic covers\, the band has become a staple in the Midwest music scene and beyond. Celebrating 40 years of amazing performances and music. \nThe band has achieved significant success\, charting #1 on the Midwest Billboard Charts three times and delivering seven major radio hits\, including songs like “Stoplight\,” “Better This Way\,” and “Sing.” Their discography includes popular releases like the 2004 double CD Silver (30 tracks) and the 2008 album USA-UK. 7th Heaven is celebrated for their signature “30 Songs in 30 Minutes” medley\, a crowd-pleasing mix of 70s and 80s hits.
URL:https://livemusicbox.net/concert/rochaus-7th-heaven/
LOCATION:RocHaus\, 96 W Main St\, West Dundee\, IL\, 60118\, United States
CATEGORIES: Soft Rock,Pop,Rock
ATTACH;FMTTYPE=image/jpeg:https://livemusicbox.net/wp-content/uploads/2026/01/7th-Heaven-2026-250.jpg
GEO:42.0983283;-88.2769784
X-APPLE-STRUCTURED-LOCATION;VALUE=URI;X-ADDRESS=RocHaus 96 W Main St West Dundee IL 60118 United States;X-APPLE-RADIUS=500;X-TITLE=96 W Main St:geo:-88.2769784,42.0983283
END:VEVENT
BEGIN:VEVENT
DTSTART;TZID=America/Chicago:20260501T203000
DTEND;TZID=America/Chicago:20260501T223000
DTSTAMP:20260421T184836
CREATED:20260402T182709Z
LAST-MODIFIED:20260402T184005Z
UID:10000634-1777667400-1777674600@livemusicbox.net
SUMMARY:Station 34 - Trio Unplugged 7th Heaven
DESCRIPTION:7th Heaven is a Chicago\, Illinois-based rock band formed in 1985 by guitarist Richie Hofherr. Known for their high-energy performances and a blend of original music and classic covers\, the band has become a staple in the Midwest music scene and beyond. 7th heaven is an experience you just have to see and hear! They charted #1 on the Midwest Billboard Charts three times. Known for the famous “30 Songs in 30 Minutes”.
URL:https://livemusicbox.net/concert/station-34-7th-heaven/
LOCATION:Station 34\, 34 S Main St\, Mr. Prospect\, IL\, 60156\, United States
CATEGORIES:Pop,Rock
ATTACH;FMTTYPE=image/jpeg:https://livemusicbox.net/wp-content/uploads/2026/03/Trio-F-A-N-250.jpg
GEO:42.1667925;-88.2925334
X-APPLE-STRUCTURED-LOCATION;VALUE=URI;X-ADDRESS=Station 34 34 S Main St Mr. Prospect IL 60156 United States;X-APPLE-RADIUS=500;X-TITLE=34 S Main St:geo:-88.2925334,42.1667925
END:VEVENT
BEGIN:VEVENT
DTSTART;TZID=America/Chicago:20260502T180000
DTEND;TZID=America/Chicago:20260502T200000
DTSTAMP:20260421T184836
CREATED:20260402T182710Z
LAST-MODIFIED:20260403T172101Z
UID:10000635-1777744800-1777752000@livemusicbox.net
SUMMARY:Deer Park Fest 2026 - 7th Heaven
DESCRIPTION:7th Heaven is a Chicago\, Illinois-based rock band formed in 1985 by guitarist Richie Hofherr. Known for their high-energy performances and a blend of original music and classic covers\, the band has become a staple in the Midwest music scene and beyond. 7th heaven is an experience you just have to see and hear! They charted #1 on the Midwest Billboard Charts three times. Known for the famous “30 Songs in 30 Minutes”.
URL:https://livemusicbox.net/concert/deer-park-fest-7th-heaven/
LOCATION:Deer Park Towne Center Fest\, 20530 N Rand Rd\, Deer Park\, IL\, 60010\, United States
CATEGORIES:Festival,Pop,Rock
ATTACH;FMTTYPE=image/jpeg:https://livemusicbox.net/wp-content/uploads/2026/01/7th-Heaven-2026-250.jpg
GEO:42.1599619;-88.0540347
X-APPLE-STRUCTURED-LOCATION;VALUE=URI;X-ADDRESS=Deer Park Towne Center Fest 20530 N Rand Rd Deer Park IL 60010 United States;X-APPLE-RADIUS=500;X-TITLE=20530 N Rand Rd:geo:-88.0540347,42.1599619
END:VEVENT
BEGIN:VEVENT
DTSTART;TZID=America/Chicago:20260508T210000
DTEND;TZID=America/Chicago:20260508T230000
DTSTAMP:20260421T184836
CREATED:20260401T174324Z
LAST-MODIFIED:20260402T183606Z
UID:10000636-1778274000-1778281200@livemusicbox.net
SUMMARY:Bannerman's - 7th Heaven
DESCRIPTION:7th Heaven is a Chicago\, Illinois-based rock band formed in 1985 by guitarist Richie Hofherr. Known for their high-energy performances and a blend of original music and classic covers\, the band has become a staple in the Midwest music scene and beyond. 7th heaven is an experience you just have to see and hear! They charted #1 on the Midwest Billboard Charts three times. Known for the famous “30 Songs in 30 Minutes”.
URL:https://livemusicbox.net/concert/abby-kay-band-live-at-nashville-north/
LOCATION:Bannerman’s Sports Grill\, 858 S Il Route 59\, Bartlett\, IL\, 60103\, United States
CATEGORIES:Pop,Rock
ATTACH;FMTTYPE=image/jpeg:https://livemusicbox.net/wp-content/uploads/2026/01/7th-Heaven-2026-250.jpg
GEO:41.9762957;-88.209013
X-APPLE-STRUCTURED-LOCATION;VALUE=URI;X-ADDRESS=Bannerman’s Sports Grill 858 S Il Route 59 Bartlett IL 60103 United States;X-APPLE-RADIUS=500;X-TITLE=858 S Il Route 59:geo:-88.209013,41.9762957
END:VEVENT
BEGIN:VEVENT
DTSTART;TZID=America/Chicago:20260509T210000
DTEND;TZID=America/Chicago:20260509T230000
DTSTAMP:20260421T184836
CREATED:20260401T174324Z
LAST-MODIFIED:20260402T183520Z
UID:10000637-1778360400-1778367600@livemusicbox.net
SUMMARY:Sideouts - 7th Heaven
DESCRIPTION:7th Heaven is a Chicago\, Illinois-based rock band formed in 1985 by guitarist Richie Hofherr. Known for their high-energy performances and a blend of original music and classic covers\, the band has become a staple in the Midwest music scene and beyond. 7th heaven is an experience you just have to see and hear! They charted #1 on the Midwest Billboard Charts three times. Known for the famous “30 Songs in 30 Minutes”.
URL:https://livemusicbox.net/concert/abby-kay-band-live-at-madcats/
LOCATION:Sideouts Sports Tavern\, 4018 Roberts Rd\, Island Lake\, IL\, 60042\, United States
CATEGORIES:Pop,Rock
ATTACH;FMTTYPE=image/jpeg:https://livemusicbox.net/wp-content/uploads/2026/01/7th-Heaven-2026-250.jpg
GEO:42.271606;-88.1978012
X-APPLE-STRUCTURED-LOCATION;VALUE=URI;X-ADDRESS=Sideouts Sports Tavern 4018 Roberts Rd Island Lake IL 60042 United States;X-APPLE-RADIUS=500;X-TITLE=4018 Roberts Rd:geo:-88.1978012,42.271606
END:VEVENT
BEGIN:VEVENT
DTSTART;TZID=America/Chicago:20260515T210000
DTEND;TZID=America/Chicago:20260515T230000
DTSTAMP:20260421T184836
CREATED:20260402T182713Z
LAST-MODIFIED:20260402T183451Z
UID:10000638-1778878800-1778886000@livemusicbox.net
SUMMARY:Durty Nellies -  7th Heaven
DESCRIPTION:7th Heaven is a Chicago\, Illinois-based rock band formed in 1985 by guitarist Richie Hofherr. Known for their high-energy performances and a blend of original music and classic covers\, the band has become a staple in the Midwest music scene and beyond. 7th heaven is an experience you just have to see and hear! They charted #1 on the Midwest Billboard Charts three times. Known for the famous “30 Songs in 30 Minutes”.
URL:https://livemusicbox.net/concert/durty-nellies-7th-heaven/
LOCATION:Durty Nellies\, 180 N Smith Street\, Palatine\, IL\, 60067\, United States
CATEGORIES:Pop,Rock
ATTACH;FMTTYPE=image/jpeg:https://livemusicbox.net/wp-content/uploads/2026/01/7th-Heaven-2026-250.jpg
GEO:42.1136883;-88.0492601
X-APPLE-STRUCTURED-LOCATION;VALUE=URI;X-ADDRESS=Durty Nellies 180 N Smith Street Palatine IL 60067 United States;X-APPLE-RADIUS=500;X-TITLE=180 N Smith Street:geo:-88.0492601,42.1136883
END:VEVENT
BEGIN:VEVENT
DTSTART;TZID=America/Chicago:20260516T210000
DTEND;TZID=America/Chicago:20260516T230000
DTSTAMP:20260421T184836
CREATED:20260402T182802Z
LAST-MODIFIED:20260402T183430Z
UID:10000639-1778965200-1778972400@livemusicbox.net
SUMMARY:Tailgaters -  7th Heaven
DESCRIPTION:7th Heaven is a Chicago\, Illinois-based rock band formed in 1985 by guitarist Richie Hofherr. Known for their high-energy performances and a blend of original music and classic covers\, the band has become a staple in the Midwest music scene and beyond. 7th heaven is an experience you just have to see and hear! They charted #1 on the Midwest Billboard Charts three times. Known for the famous “30 Songs in 30 Minutes”.
URL:https://livemusicbox.net/concert/tailgaters-7th-heaven/
LOCATION:Tailgaters Sports Bar\, 431 W Boughton Rd\, Bolingbrook\, IL\, 60440\, United States
CATEGORIES:Pop,Rock
ATTACH;FMTTYPE=image/jpeg:https://livemusicbox.net/wp-content/uploads/2026/01/7th-Heaven-2026-250.jpg
GEO:41.7065661;-88.0854199
X-APPLE-STRUCTURED-LOCATION;VALUE=URI;X-ADDRESS=Tailgaters Sports Bar 431 W Boughton Rd Bolingbrook IL 60440 United States;X-APPLE-RADIUS=500;X-TITLE=431 W Boughton Rd:geo:-88.0854199,41.7065661
END:VEVENT
BEGIN:VEVENT
DTSTART;TZID=America/Chicago:20260517T143000
DTEND;TZID=America/Chicago:20260517T143000
DTSTAMP:20260421T184836
CREATED:20260415T222500Z
LAST-MODIFIED:20260415T222739Z
UID:10000821-1779028200-1779028200@livemusicbox.net
SUMMARY:Goin' Live
DESCRIPTION:Pop Party Band 70’s- 2000’s
URL:https://livemusicbox.net/concert/goin-live/
LOCATION:IL
CATEGORIES:Pop,Rock
END:VEVENT
BEGIN:VEVENT
DTSTART;TZID=America/Chicago:20260522T210000
DTEND;TZID=America/Chicago:20260522T230000
DTSTAMP:20260421T184836
CREATED:20260402T182803Z
LAST-MODIFIED:20260402T183351Z
UID:10000640-1779483600-1779490800@livemusicbox.net
SUMMARY:Sundance Saloon - 7th Heaven
DESCRIPTION:7th Heaven is a Chicago\, Illinois-based rock band formed in 1985 by guitarist Richie Hofherr. Known for their high-energy performances and a blend of original music and classic covers\, the band has become a staple in the Midwest music scene and beyond. 7th heaven is an experience you just have to see and hear! They charted #1 on the Midwest Billboard Charts three times. Known for the famous “30 Songs in 30 Minutes”.
URL:https://livemusicbox.net/concert/sundance-saloon-7th-heaven-2/
LOCATION:Sundance Saloon\, 2061 W Maple Ave\, Mundelein\, IL\, 60060\, United States
CATEGORIES:Pop,Rock
ATTACH;FMTTYPE=image/jpeg:https://livemusicbox.net/wp-content/uploads/2026/01/7th-Heaven-2026-250.jpg
GEO:42.2766282;-88.0417876
X-APPLE-STRUCTURED-LOCATION;VALUE=URI;X-ADDRESS=Sundance Saloon 2061 W Maple Ave Mundelein IL 60060 United States;X-APPLE-RADIUS=500;X-TITLE=2061 W Maple Ave:geo:-88.0417876,42.2766282
END:VEVENT
BEGIN:VEVENT
DTSTART;TZID=America/Chicago:20260523T140000
DTEND;TZID=America/Chicago:20260523T170000
DTSTAMP:20260421T184836
CREATED:20260414T162535Z
LAST-MODIFIED:20260414T225253Z
UID:10000703-1779544800-1779555600@livemusicbox.net
SUMMARY:Broken Oar Bands In The Barn - Nick Bell Band
DESCRIPTION:Named Chicago’s Hottest Up and Coming Guitar Player\, PERIOD by Rock Chicago Magazine in 2013\, Nick Bell is a prominent Midwest and Florida Blues Rock guitarist. Influenced by the heroes of early Hard rock; Nick plays with his own distinct\, fused\, Rock-BLUES style. \nNo cover charge in our heated broken barn.
URL:https://livemusicbox.net/concert/broken-oar-bands-in-the-barn-nick-bell-band/
LOCATION:Broken Oar Marina Bar & Grill\, 614 Rawson Bridge Rd\, Port Barrington\, IL\, 60010\, United States
CATEGORIES:Classic Rock,Metal. Rock,Pop,Rock
ATTACH;FMTTYPE=image/jpeg:https://livemusicbox.net/wp-content/uploads/2026/04/Nick-Bell-Band-250.jpg
GEO:42.2489068;-88.2092142
X-APPLE-STRUCTURED-LOCATION;VALUE=URI;X-ADDRESS=Broken Oar Marina Bar & Grill 614 Rawson Bridge Rd Port Barrington IL 60010 United States;X-APPLE-RADIUS=500;X-TITLE=614 Rawson Bridge Rd:geo:-88.2092142,42.2489068
END:VEVENT
BEGIN:VEVENT
DTSTART;TZID=America/Chicago:20260523T210000
DTEND;TZID=America/Chicago:20260523T230000
DTSTAMP:20260421T184836
CREATED:20260402T182803Z
LAST-MODIFIED:20260402T183328Z
UID:10000641-1779570000-1779577200@livemusicbox.net
SUMMARY:Hard Rock Casino Rockford - 7th Heaven
DESCRIPTION:7th Heaven is a Chicago\, Illinois-based rock band formed in 1985 by guitarist Richie Hofherr. Known for their high-energy performances and a blend of original music and classic covers\, the band has become a staple in the Midwest music scene and beyond. 7th heaven is an experience you just have to see and hear! They charted #1 on the Midwest Billboard Charts three times. Known for the famous “30 Songs in 30 Minutes”.
URL:https://livemusicbox.net/concert/hard-rock-casino-rockford-7th-heaven/
LOCATION:HARD ROCK CASINO ROCKFORD\, 7801 E. State Street\, Rockford\, IL\, 61107\, United States
CATEGORIES:Pop,Rock
ATTACH;FMTTYPE=image/jpeg:https://livemusicbox.net/wp-content/uploads/2026/01/7th-Heaven-2026-250.jpg
GEO:42.2699348;-88.9627801
X-APPLE-STRUCTURED-LOCATION;VALUE=URI;X-ADDRESS=HARD ROCK CASINO ROCKFORD 7801 E. State Street Rockford IL 61107 United States;X-APPLE-RADIUS=500;X-TITLE=7801 E. State Street:geo:-88.9627801,42.2699348
END:VEVENT
BEGIN:VEVENT
DTSTART;TZID=America/Chicago:20260524T150000
DTEND;TZID=America/Chicago:20260524T170000
DTSTAMP:20260421T184836
CREATED:20260402T182804Z
LAST-MODIFIED:20260402T183305Z
UID:10000642-1779634800-1779642000@livemusicbox.net
SUMMARY:Bandito Barney's - 7th Heaven
DESCRIPTION:7th Heaven is a Chicago\, Illinois-based rock band formed in 1985 by guitarist Richie Hofherr. Known for their high-energy performances and a blend of original music and classic covers\, the band has become a staple in the Midwest music scene and beyond. 7th heaven is an experience you just have to see and hear! They charted #1 on the Midwest Billboard Charts three times. Known for the famous “30 Songs in 30 Minutes”.
URL:https://livemusicbox.net/concert/bandito-barneys-7th-heaven/
LOCATION:Bandito Barneys\, 10 N. River Street\, East Dundee\, IL\, 60118\, United States
CATEGORIES:Pop,Rock
ATTACH;FMTTYPE=image/jpeg:https://livemusicbox.net/wp-content/uploads/2026/01/7th-Heaven-2026-250.jpg
GEO:42.0991031;-88.2742453
X-APPLE-STRUCTURED-LOCATION;VALUE=URI;X-ADDRESS=Bandito Barneys 10 N. River Street East Dundee IL 60118 United States;X-APPLE-RADIUS=500;X-TITLE=10 N. River Street:geo:-88.2742453,42.0991031
END:VEVENT
BEGIN:VEVENT
DTSTART;TZID=America/Chicago:20260529T190000
DTEND;TZID=America/Chicago:20260529T210000
DTSTAMP:20260421T184836
CREATED:20260402T182804Z
LAST-MODIFIED:20260403T171443Z
UID:10000643-1780081200-1780088400@livemusicbox.net
SUMMARY:Will County Beer & Bourbon Fest 2026 - 7th Heaven
DESCRIPTION:7th Heaven is a Chicago\, Illinois-based rock band formed in 1985 by guitarist Richie Hofherr. Known for their high-energy performances and a blend of original music and classic covers\, the band has become a staple in the Midwest music scene and beyond. 7th heaven is an experience you just have to see and hear! They charted #1 on the Midwest Billboard Charts three times. Known for the famous “30 Songs in 30 Minutes”.
URL:https://livemusicbox.net/concert/will-county-beer-bourbon-fest-7th-heaven/
LOCATION:Hollywood Casino Joliet\, 1401 Gateway Blvd\, Joliet\, IL\, 60431\, United States
CATEGORIES:Festival,Pop,Rock
ATTACH;FMTTYPE=image/jpeg:https://livemusicbox.net/wp-content/uploads/2026/01/7th-Heaven-2026-250.jpg
GEO:41.4960132;-88.1904229
X-APPLE-STRUCTURED-LOCATION;VALUE=URI;X-ADDRESS=Hollywood Casino Joliet 1401 Gateway Blvd Joliet IL 60431 United States;X-APPLE-RADIUS=500;X-TITLE=1401 Gateway Blvd:geo:-88.1904229,41.4960132
END:VEVENT
BEGIN:VEVENT
DTSTART;TZID=America/Chicago:20260530T200000
DTEND;TZID=America/Chicago:20260530T220000
DTSTAMP:20260421T184836
CREATED:20260402T182818Z
LAST-MODIFIED:20260402T182918Z
UID:10000644-1780171200-1780178400@livemusicbox.net
SUMMARY:Old Republic - 7th Heaven
DESCRIPTION:7th Heaven is a Chicago\, Illinois-based rock band formed in 1985 by guitarist Richie Hofherr. Known for their high-energy performances and a blend of original music and classic covers\, the band has become a staple in the Midwest music scene and beyond. 7th heaven is an experience you just have to see and hear! They charted #1 on the Midwest Billboard Charts three times. Known for the famous “30 Songs in 30 Minutes”.
URL:https://livemusicbox.net/concert/old-republic-7th-heaven/
LOCATION:Old Republic [Kitchen + Bar]\, 155 S Randall Rd\, Elgin\, IL\, 60123\, United States
CATEGORIES:Pop,Rock
ATTACH;FMTTYPE=image/jpeg:https://livemusicbox.net/wp-content/uploads/2026/01/7th-Heaven-2026-250.jpg
GEO:42.028794;-88.3381852
X-APPLE-STRUCTURED-LOCATION;VALUE=URI;X-ADDRESS=Old Republic [Kitchen + Bar] 155 S Randall Rd Elgin IL 60123 United States;X-APPLE-RADIUS=500;X-TITLE=155 S Randall Rd:geo:-88.3381852,42.028794
END:VEVENT
BEGIN:VEVENT
DTSTART;TZID=America/Chicago:20260614T143000
DTEND;TZID=America/Chicago:20260614T143000
DTSTAMP:20260421T184836
CREATED:20260415T222518Z
LAST-MODIFIED:20260415T222756Z
UID:10000831-1781447400-1781447400@livemusicbox.net
SUMMARY:My 80's Band
DESCRIPTION:My 80’s Band – Iconic 80’s Hits
URL:https://livemusicbox.net/concert/my-80s-band/
LOCATION:IL
END:VEVENT
BEGIN:VEVENT
DTSTART;TZID=America/Chicago:20260709T190000
DTEND;TZID=America/Chicago:20260709T203000
DTSTAMP:20260421T184836
CREATED:20260415T163227Z
LAST-MODIFIED:20260421T155521Z
UID:10000724-1783623600-1783629000@livemusicbox.net
SUMMARY:Algonquin Concert in the Park 2026 - The Spazmatics
DESCRIPTION:The Spazmatics are bringing the ultimate ’80s party to Carol Stream! This high-energy\, Chicago-based band is known for their spot-on covers\, slick choreography\, and totally rad retro style that channels all the fun and flair of the decade of neon and new wave. Decked out in skinny ties\, Brill Creamed hair\, and vintage geek-chic fashion\, The Spazmatics deliver an unforgettable show packed with theatrics\, humor\, and top ’80s hits like Video Killed the Radio Star\, 99 Red Balloons\, Thriller\, and Take on Me. Expect wild on-stage antics\, crowd sing-alongs\, and nonstop entertainment that’ll have you dancing like it’s 1985.
URL:https://livemusicbox.net/concert/summer-concerts-in-the-park-the-spazmatics/
LOCATION:Algonquin Concert Towne Park\, 100 Jefferson St\, Algonquin\, IL\, 60102\, United States
CATEGORIES:Concert in the Park,Pop,Rock
ATTACH;FMTTYPE=image/jpeg:https://livemusicbox.net/wp-content/uploads/2025/05/Spazmatics-250.jpg
GEO:42.1684128;-88.2950714
X-APPLE-STRUCTURED-LOCATION;VALUE=URI;X-ADDRESS=Algonquin Concert Towne Park 100 Jefferson St Algonquin IL 60102 United States;X-APPLE-RADIUS=500;X-TITLE=100 Jefferson St:geo:-88.2950714,42.1684128
END:VEVENT
BEGIN:VEVENT
DTSTART;TZID=America/Chicago:20260718T143000
DTEND;TZID=America/Chicago:20260718T163000
DTSTAMP:20260421T184836
CREATED:20260415T183434Z
LAST-MODIFIED:20260421T145443Z
UID:10000798-1784385000-1784392200@livemusicbox.net
SUMMARY:Kief's Reef Summer Concert Series 2026 - Aberdeen Drive
DESCRIPTION:High energy mix of classic rock and new-age radio hits from the 80’s 90’s and early 2000’s. A group of 5 business professionals making the best use of our free time to rehearse as wanna-be rockstars
URL:https://livemusicbox.net/concert/kiefs-reef-2026-aberdeen-drive/
LOCATION:Kiefs Reef\, 3505 S. Wright Road\, McHenry\, IL\, 60050\, United States
CATEGORIES:Classic Rock,Concert in the Park,New Age
GEO:42.2791833;-88.2286689
X-APPLE-STRUCTURED-LOCATION;VALUE=URI;X-ADDRESS=Kiefs Reef 3505 S. Wright Road McHenry IL 60050 United States;X-APPLE-RADIUS=500;X-TITLE=3505 S. Wright Road:geo:-88.2286689,42.2791833
END:VEVENT
BEGIN:VEVENT
DTSTART;TZID=America/Chicago:20260719T143000
DTEND;TZID=America/Chicago:20260719T163000
DTSTAMP:20260421T184836
CREATED:20260415T183434Z
LAST-MODIFIED:20260421T143310Z
UID:10000799-1784471400-1784478600@livemusicbox.net
SUMMARY:Kief's Reef Summer Concert Series 2026 - Kicked Outta Choir
DESCRIPTION:Kicked Outta Choir is a Chicago-area\, Female Fronted “All 80’s” cover band representing the diverse mix of the many musical genres and artists that made the 1980’s one of the greatest music decades of all time. \nThe 80’s represented a time when fashion and music dared to be different. Similarly\, Kicked Outta Choir prides itself in being a “little different” from 80’s cover bands. Their song selections\, band  image and live show all represent that desire to be different. Kicked Outta Choir chose their name to pay tribute to everyone who has ever been “kicked out” of something because they were told they weren’t good enough or didn’t fit in.
URL:https://livemusicbox.net/concert/kiefs-reef-2026-kicked-outta-choir/
LOCATION:Kiefs Reef\, 3505 S. Wright Road\, McHenry\, IL\, 60050\, United States
CATEGORIES:Alternative Rock,Concert in the Park,Country Rock,Dance Rock,Pop,Rock
ATTACH;FMTTYPE=image/jpeg:https://livemusicbox.net/wp-content/uploads/2026/04/Kicked-Outtaof-Choir-250.jpg
GEO:42.2791833;-88.2286689
X-APPLE-STRUCTURED-LOCATION;VALUE=URI;X-ADDRESS=Kiefs Reef 3505 S. Wright Road McHenry IL 60050 United States;X-APPLE-RADIUS=500;X-TITLE=3505 S. Wright Road:geo:-88.2286689,42.2791833
END:VEVENT
BEGIN:VEVENT
DTSTART;TZID=America/Chicago:20260724T190000
DTEND;TZID=America/Chicago:20260724T220000
DTSTAMP:20260421T184836
CREATED:20260415T173743Z
LAST-MODIFIED:20260421T043608Z
UID:10000763-1784919600-1784930400@livemusicbox.net
SUMMARY:J J Twigs Summer Concert Series 2026 - Focal Point
DESCRIPTION:Delivering a concert rock experience that will take you thru the best of the 70’s 80’ 90’s to hits of today. Focal Point features 5 talented musician’s with great chops\, strong harmonies and a passion to create a live performance experience..
URL:https://livemusicbox.net/concert/j-j-twigs-summer-concert-series-2026-focal-point-band/
LOCATION:JJ Twigs Wauconda\, 1200 N Rand Rd\, Wauconda\, IL\, 60084\, United States
CATEGORIES:Classic Rock,Concert in the Park,Rock
ATTACH;FMTTYPE=image/jpeg:https://livemusicbox.net/wp-content/uploads/2026/04/Focal-Point-250.jpg
GEO:42.277979;-88.1542974
X-APPLE-STRUCTURED-LOCATION;VALUE=URI;X-ADDRESS=JJ Twigs Wauconda 1200 N Rand Rd Wauconda IL 60084 United States;X-APPLE-RADIUS=500;X-TITLE=1200 N Rand Rd:geo:-88.1542974,42.277979
END:VEVENT
BEGIN:VEVENT
DTSTART;TZID=America/Chicago:20260731T190000
DTEND;TZID=America/Chicago:20260731T220000
DTSTAMP:20260421T184836
CREATED:20260415T173758Z
LAST-MODIFIED:20260421T033045Z
UID:10000765-1785524400-1785535200@livemusicbox.net
SUMMARY:J J Twigs Summer Concert Series 2026 - Big Boss and the Toes
DESCRIPTION:High energy\, FUN\, rock ‘n’ roll band playing classic rock\, 80s\, and modern hits!  Music from Tom Petty\, U2\, John Mellencamp\, Jimmy Buffet\, Grateful Dead\, Beatles\, Queen\, Rolling Stones\, The Killers\, Green Day\, Lit\, Everclear\, Counting Crows\, Nirvana\, Dire Straits\, The White Stripes\, Kid Rock\, Pearl Jam\, and MORE!
URL:https://livemusicbox.net/concert/j-j-twigs-summer-concert-series-2026-big-boss-and-the-toes/
LOCATION:JJ Twigs Wauconda\, 1200 N Rand Rd\, Wauconda\, IL\, 60084\, United States
CATEGORIES:Classic Rock,Concert in the Park,Pop,Rock
ATTACH;FMTTYPE=image/jpeg:https://livemusicbox.net/wp-content/uploads/2026/04/Big-Boss-250.jpg
GEO:42.277979;-88.1542974
X-APPLE-STRUCTURED-LOCATION;VALUE=URI;X-ADDRESS=JJ Twigs Wauconda 1200 N Rand Rd Wauconda IL 60084 United States;X-APPLE-RADIUS=500;X-TITLE=1200 N Rand Rd:geo:-88.1542974,42.277979
END:VEVENT
BEGIN:VEVENT
DTSTART;TZID=America/Chicago:20260815T223000
DTEND;TZID=America/Chicago:20260815T233000
DTSTAMP:20260421T184836
CREATED:20260415T173356Z
LAST-MODIFIED:20260421T011346Z
UID:10000754-1786833000-1786836600@livemusicbox.net
SUMMARY:Grayslake Summerfest 2026 - 7th Heaven
DESCRIPTION:7th Heaven is a Chicago\, Illinois-based rock band known for their high-energy performances and a blend of original music and classic covers\, the band has become a staple in the Midwest music scene and beyond. Celebrating 40 years of amazing performances and music. \nThe band has achieved significant success\, charting #1 on the Midwest Billboard Charts three times and delivering seven major radio hits\, including songs like “Stoplight\,” “Better This Way\,” and “Sing.” Their discography includes popular releases like the 2004 double CD Silver (30 tracks) and the 2008 album USA-UK. 7th Heaven is celebrated for their signature “30 Songs in 30 Minutes” medley\, a crowd-pleasing mix of 70s and 80s hits.
URL:https://livemusicbox.net/concert/grayslake-summerfest-7th-heaven/
LOCATION:Grayslake Village Center\, Historic Downtown Grayslake\, Grayslake\, IL\, 60030\, United States
CATEGORIES: Soft Rock,Acoustic Classic Rock,Classic Rock,Festival,Pop,Rock
ATTACH;FMTTYPE=image/jpeg:https://livemusicbox.net/wp-content/uploads/2026/01/7th-Heaven-2026-250.jpg
GEO:42.3444664;-88.041746
X-APPLE-STRUCTURED-LOCATION;VALUE=URI;X-ADDRESS=Grayslake Village Center Historic Downtown Grayslake Grayslake IL 60030 United States;X-APPLE-RADIUS=500;X-TITLE=Historic Downtown Grayslake:geo:-88.041746,42.3444664
END:VEVENT
BEGIN:VEVENT
DTSTART;TZID=America/Chicago:20260829T190000
DTEND;TZID=America/Chicago:20260829T210000
DTSTAMP:20260421T184836
CREATED:20260415T230731Z
LAST-MODIFIED:20260421T000559Z
UID:10000882-1788030000-1788037200@livemusicbox.net
SUMMARY:Phoenix Park Band Shell Summer Concert Series 2026 - 7th Heaven – Rock & Roll Variety
DESCRIPTION:7th Heaven is a Chicago\, Illinois-based rock band known for their high-energy performances and a blend of original music and classic covers\, the band has become a staple in the Midwest music scene and beyond. Celebrating 40 years of amazing performances and music. \nThe band has achieved significant success\, charting #1 on the Midwest Billboard Charts three times and delivering seven major radio hits\, including songs like “Stoplight\,” “Better This Way\,” and “Sing.” Their discography includes popular releases like the 2004 double CD Silver (30 tracks) and the 2008 album USA-UK. 7th Heaven is celebrated for their signature “30 Songs in 30 Minutes” medley\, a crowd-pleasing mix of 70s and 80s hits.
URL:https://livemusicbox.net/concert/7th-heaven-rock-roll-variety/
LOCATION:Phoenix Park Bandshell Delavan\, 111 E Wisconsin St\, Delavan\, IL\, 53115\, United States
CATEGORIES:Rock
ATTACH;FMTTYPE=image/jpeg:https://livemusicbox.net/wp-content/uploads/2026/01/7th-Heaven-2026-250.jpg
GEO:42.6300351;-88.6476331
X-APPLE-STRUCTURED-LOCATION;VALUE=URI;X-ADDRESS=Phoenix Park Bandshell Delavan 111 E Wisconsin St Delavan IL 53115 United States;X-APPLE-RADIUS=500;X-TITLE=111 E Wisconsin St:geo:-88.6476331,42.6300351
END:VEVENT
END:VCALENDAR