BEGIN:VCALENDAR
VERSION:2.0
PRODID:-//Live Music Box - ECPv6.15.20//NONSGML v1.0//EN
CALSCALE:GREGORIAN
METHOD:PUBLISH
X-WR-CALNAME:Live Music Box
X-ORIGINAL-URL:https://livemusicbox.net
X-WR-CALDESC:Events for Live Music Box
REFRESH-INTERVAL;VALUE=DURATION:PT1H
X-Robots-Tag:noindex
X-PUBLISHED-TTL:PT1H
BEGIN:VTIMEZONE
TZID:America/Chicago
BEGIN:DAYLIGHT
TZOFFSETFROM:-0600
TZOFFSETTO:-0500
TZNAME:CDT
DTSTART:20250309T080000
END:DAYLIGHT
BEGIN:STANDARD
TZOFFSETFROM:-0500
TZOFFSETTO:-0600
TZNAME:CST
DTSTART:20251102T070000
END:STANDARD
BEGIN:DAYLIGHT
TZOFFSETFROM:-0600
TZOFFSETTO:-0500
TZNAME:CDT
DTSTART:20260308T080000
END:DAYLIGHT
BEGIN:STANDARD
TZOFFSETFROM:-0500
TZOFFSETTO:-0600
TZNAME:CST
DTSTART:20261101T070000
END:STANDARD
BEGIN:DAYLIGHT
TZOFFSETFROM:-0600
TZOFFSETTO:-0500
TZNAME:CDT
DTSTART:20270314T080000
END:DAYLIGHT
BEGIN:STANDARD
TZOFFSETFROM:-0500
TZOFFSETTO:-0600
TZNAME:CST
DTSTART:20271107T070000
END:STANDARD
END:VTIMEZONE
BEGIN:VEVENT
DTSTART;TZID=America/Chicago:20260731T190000
DTEND;TZID=America/Chicago:20260731T220000
DTSTAMP:20260424T050411
CREATED:20260415T173758Z
LAST-MODIFIED:20260422T170737Z
UID:10000765-1785524400-1785535200@livemusicbox.net
SUMMARY:JJ Twigs Summer Concert Series 2026 - Big Boss and the Toes
DESCRIPTION:High energy\, FUN\, rock ‘n’ roll band playing classic rock\, 80s\, and modern hits!  Music from Tom Petty\, U2\, John Mellencamp\, Jimmy Buffet\, Grateful Dead\, Beatles\, Queen\, Rolling Stones\, The Killers\, Green Day\, Lit\, Everclear\, Counting Crows\, Nirvana\, Dire Straits\, The White Stripes\, Kid Rock\, Pearl Jam\, and MORE!
URL:https://livemusicbox.net/concert/j-j-twigs-summer-concert-series-2026-big-boss-and-the-toes/
LOCATION:JJ Twigs Wauconda\, 1200 N Rand Rd\, Wauconda\, IL\, 60084\, United States
CATEGORIES:Classic Rock,Concert in the Park,Pop,Rock
ATTACH;FMTTYPE=image/jpeg:https://livemusicbox.net/wp-content/uploads/2026/04/Big-Boss-250.jpg
GEO:42.277979;-88.1542974
X-APPLE-STRUCTURED-LOCATION;VALUE=URI;X-ADDRESS=JJ Twigs Wauconda 1200 N Rand Rd Wauconda IL 60084 United States;X-APPLE-RADIUS=500;X-TITLE=1200 N Rand Rd:geo:-88.1542974,42.277979
END:VEVENT
END:VCALENDAR