BEGIN:VCALENDAR
VERSION:2.0
PRODID:-//Live Music Box - ECPv6.15.20//NONSGML v1.0//EN
CALSCALE:GREGORIAN
METHOD:PUBLISH
X-WR-CALNAME:Live Music Box
X-ORIGINAL-URL:https://livemusicbox.net
X-WR-CALDESC:Events for Live Music Box
REFRESH-INTERVAL;VALUE=DURATION:PT1H
X-Robots-Tag:noindex
X-PUBLISHED-TTL:PT1H
BEGIN:VTIMEZONE
TZID:America/Chicago
BEGIN:DAYLIGHT
TZOFFSETFROM:-0600
TZOFFSETTO:-0500
TZNAME:CDT
DTSTART:20250309T080000
END:DAYLIGHT
BEGIN:STANDARD
TZOFFSETFROM:-0500
TZOFFSETTO:-0600
TZNAME:CST
DTSTART:20251102T070000
END:STANDARD
BEGIN:DAYLIGHT
TZOFFSETFROM:-0600
TZOFFSETTO:-0500
TZNAME:CDT
DTSTART:20260308T080000
END:DAYLIGHT
BEGIN:STANDARD
TZOFFSETFROM:-0500
TZOFFSETTO:-0600
TZNAME:CST
DTSTART:20261101T070000
END:STANDARD
BEGIN:DAYLIGHT
TZOFFSETFROM:-0600
TZOFFSETTO:-0500
TZNAME:CDT
DTSTART:20270314T080000
END:DAYLIGHT
BEGIN:STANDARD
TZOFFSETFROM:-0500
TZOFFSETTO:-0600
TZNAME:CST
DTSTART:20271107T070000
END:STANDARD
END:VTIMEZONE
BEGIN:VEVENT
DTSTART;TZID=America/Chicago:20260807T190000
DTEND;TZID=America/Chicago:20260807T220000
DTSTAMP:20260420T202114
CREATED:20260415T173758Z
LAST-MODIFIED:20260416T003113Z
UID:10000767-1786129200-1786140000@livemusicbox.net
SUMMARY:J J Twigs Summer Concert Series 2026 - Magneen Music
DESCRIPTION:JJ Twig’s Pizza & Pub
URL:https://livemusicbox.net/concert/j-j-twigs-summer-concert-series-2026-magneen-music/
LOCATION:JJ Twigs Wauconda\, 1200 N Rand Rd\, Wauconda\, IL\, 60084\, United States
CATEGORIES:Concert in the Park
GEO:42.277979;-88.1542974
X-APPLE-STRUCTURED-LOCATION;VALUE=URI;X-ADDRESS=JJ Twigs Wauconda 1200 N Rand Rd Wauconda IL 60084 United States;X-APPLE-RADIUS=500;X-TITLE=1200 N Rand Rd:geo:-88.1542974,42.277979
END:VEVENT
BEGIN:VEVENT
DTSTART;TZID=America/Chicago:20260808T143000
DTEND;TZID=America/Chicago:20260808T143000
DTSTAMP:20260420T202114
CREATED:20260415T183504Z
LAST-MODIFIED:20260416T043506Z
UID:10000805-1786199400-1786199400@livemusicbox.net
SUMMARY:Kief's Reef Summer Concert Series 2026 - Phil Jackson
DESCRIPTION:Kief’s Reef
URL:https://livemusicbox.net/concert/kiefs-reef-2026-phil-jackson/
LOCATION:IL
CATEGORIES:Concert in the Park
END:VEVENT
BEGIN:VEVENT
DTSTART;TZID=America/Chicago:20260808T143000
DTEND;TZID=America/Chicago:20260808T143000
DTSTAMP:20260420T202114
CREATED:20260415T222856Z
LAST-MODIFIED:20260415T222911Z
UID:10000851-1786199400-1786199400@livemusicbox.net
SUMMARY:Phil Jackson
DESCRIPTION:Phil Jackson – 90’s 2000’s Experience
URL:https://livemusicbox.net/concert/phil-jackson/
LOCATION:IL
END:VEVENT
BEGIN:VEVENT
DTSTART;TZID=America/Chicago:20260808T190000
DTEND;TZID=America/Chicago:20260808T190000
DTSTAMP:20260420T202114
CREATED:20260415T230717Z
LAST-MODIFIED:20260415T230841Z
UID:10000879-1786215600-1786215600@livemusicbox.net
SUMMARY:The Electric Cars Band – Cars Tribute
DESCRIPTION:Phoenix Park Bandshell
URL:https://livemusicbox.net/concert/the-electric-cars-band-cars-tribute/
LOCATION:IL
END:VEVENT
BEGIN:VEVENT
DTSTART;TZID=America/Chicago:20260809T143000
DTEND;TZID=America/Chicago:20260809T143000
DTSTAMP:20260420T202114
CREATED:20260415T183504Z
LAST-MODIFIED:20260416T043345Z
UID:10000806-1786285800-1786285800@livemusicbox.net
SUMMARY:Kief's Reef Summer Concert Series 2026 - Hurricane Reggae
DESCRIPTION:Kief’s Reef
URL:https://livemusicbox.net/concert/kiefs-reef-2026-hurricane-reggae/
LOCATION:IL
CATEGORIES:Concert in the Park
END:VEVENT
BEGIN:VEVENT
DTSTART;TZID=America/Chicago:20260809T143000
DTEND;TZID=America/Chicago:20260809T143000
DTSTAMP:20260420T202114
CREATED:20260415T222856Z
LAST-MODIFIED:20260415T222911Z
UID:10000852-1786285800-1786285800@livemusicbox.net
SUMMARY:Hurricane Reggae
DESCRIPTION:Hurricane Reggae – Jamaican Party
URL:https://livemusicbox.net/concert/hurricane-reggae/
LOCATION:IL
END:VEVENT
BEGIN:VEVENT
DTSTART;TZID=America/Chicago:20260812T180000
DTEND;TZID=America/Chicago:20260812T200000
DTSTAMP:20260420T202114
CREATED:20260413T163713Z
LAST-MODIFIED:20260417T023021Z
UID:10000675-1786557600-1786564800@livemusicbox.net
SUMMARY:Bristol Woods Summer Concert Series 2026 - Route 66 Belle City Band
DESCRIPTION:Route 66 The Band specializing in Rock & Roll\, Classic Rock\, With a touch of Disco\, Funk and Blues.
URL:https://livemusicbox.net/concert/bristol-woodstock-10/
LOCATION:IL
CATEGORIES:Classic Rock,Concert in the Park,Dance
ATTACH;FMTTYPE=image/jpeg:https://livemusicbox.net/wp-content/uploads/2026/04/Route-66-Belle-City-Band-250.jpg
END:VEVENT
BEGIN:VEVENT
DTSTART;TZID=America/Chicago:20260813T180000
DTEND;TZID=America/Chicago:20260813T200000
DTSTAMP:20260420T202114
CREATED:20260415T225106Z
LAST-MODIFIED:20260415T225107Z
UID:10000865-1786644000-1786651200@livemusicbox.net
SUMMARY:Rhythm on the Lake - 89 Mojo
DESCRIPTION:Enjoy live music with 89 Mojo as part of the Rhythm on the Lake series at Old Settlers Park. Presented by Kenosha County Parks every Thursday 6-8 PM.
URL:https://livemusicbox.net/concert/rhythm-on-the-lake-89-mojo/
LOCATION:IL
END:VEVENT
BEGIN:VEVENT
DTSTART;TZID=America/Chicago:20260813T183000
DTEND;TZID=America/Chicago:20260813T200000
DTSTAMP:20260420T202114
CREATED:20260415T232442Z
LAST-MODIFIED:20260415T232442Z
UID:10000902-1786645800-1786651200@livemusicbox.net
SUMMARY:2026 Plaza Concert Series - Billy Elton
DESCRIPTION:2026 Plaza Concert Series featuring Billy Elton on Thursday\, August 13 in Downtown Roselle. Food vendors: Serna’s Grill – Kori’s Koop – Kona Ice\, Pollyanna Brewery – Lynfred Winery – 1913 Restaurant & Bar. Thursdays 6:30-8:00pm – Sponsored by Roselle Park District\, Village of Roselle\, and Itasca Bank & Trust Co.
URL:https://livemusicbox.net/concert/2026-plaza-concert-series-billy-elton/
LOCATION:IL
END:VEVENT
BEGIN:VEVENT
DTSTART;TZID=America/Chicago:20260813T190000
DTEND;TZID=America/Chicago:20260813T210000
DTSTAMP:20260420T202114
CREATED:20260415T172945Z
LAST-MODIFIED:20260420T184905Z
UID:10000747-1786647600-1786654800@livemusicbox.net
SUMMARY:Hoffman Estates Summer Sounds On the Green 2026 - Second Hand News
DESCRIPTION:Summer Sounds on the Green 2026 at Virginia Mary Hayter Village Green • 5510 Prairie Stone Parkway • Hoffman Estates\, IL (across from the Now Arena). ALL EVENTS ARE FREE AND START AT 7PM. Seasoned performers channeling the energy of Nicks\, Buckingham\, and McVie with precision and passion.
URL:https://livemusicbox.net/concert/hoffman-estates-summer-sounds-on-the-green-2026-second-hand-news/
LOCATION:Hoffman Estates Village Green\, 5510 Prairie Stone Pkwy\, Hoffman Estates\, IL\, 60169\, United States
CATEGORIES:Classic Rock,Concert in the Park,Rock
ATTACH;FMTTYPE=image/jpeg:https://livemusicbox.net/wp-content/uploads/2026/04/Second-Hand-News-250.jpg
GEO:42.0705846;-88.2159943
X-APPLE-STRUCTURED-LOCATION;VALUE=URI;X-ADDRESS=Hoffman Estates Village Green 5510 Prairie Stone Pkwy Hoffman Estates IL 60169 United States;X-APPLE-RADIUS=500;X-TITLE=5510 Prairie Stone Pkwy:geo:-88.2159943,42.0705846
END:VEVENT
BEGIN:VEVENT
DTSTART;TZID=America/Chicago:20260814T190000
DTEND;TZID=America/Chicago:20260814T210000
DTSTAMP:20260420T202114
CREATED:20260414T160715Z
LAST-MODIFIED:20260420T155605Z
UID:10000684-1786734000-1786741200@livemusicbox.net
SUMMARY:Fox Lake Friday Night Summer Concert Series 2026 - Team Spirit Takeover w/Rosie and The Rivets
DESCRIPTION:Since 2015\, Chicago-based Rosie & The Rivets have been a Midwest favorite with their dynamic and exciting retro-themed show fronted by the captivating Rosie delivering heart stopping vocals and backed by an expert band with extensive live stage experience. Their popularity has led to regional and national touring headlining festivals and theaters. Although their look and sound is vintage-inspired\, Rosie & The Rivets perform a fresh and fun setlist of hugely popular classic songs from the mid 1960’s to early 2000’s that appeal to multigenerational audiences. From Aretha Franklin to Amy Winehouse\, there is something for everybody and concerts often turn into dance parties! \nMusic Market Memories at Lakefront Park! Market 5-8pm | Music 7-9pm. Theme: Team Spirit Takeover featuring Rosie and the Rivets.
URL:https://livemusicbox.net/concert/fox-lake-friday-night-summer-concert-series-2026-team-spirit-takeover/
LOCATION:Fox Lake Lakefront Park\, 10 Riverview Avenue\, Fox Lake\, IL\, 60020\, United States
CATEGORIES:Concert in the Park,Pop,R&B/Soul,Rock
ATTACH;FMTTYPE=image/jpeg:https://livemusicbox.net/wp-content/uploads/2025/07/Rosie-and-the-rivets-250.jpg
GEO:42.4023891;-88.1835548
X-APPLE-STRUCTURED-LOCATION;VALUE=URI;X-ADDRESS=Fox Lake Lakefront Park 10 Riverview Avenue Fox Lake IL 60020 United States;X-APPLE-RADIUS=500;X-TITLE=10 Riverview Avenue:geo:-88.1835548,42.4023891
END:VEVENT
BEGIN:VEVENT
DTSTART;TZID=America/Chicago:20260814T190000
DTEND;TZID=America/Chicago:20260814T220000
DTSTAMP:20260420T202114
CREATED:20260415T173758Z
LAST-MODIFIED:20260420T193335Z
UID:10000768-1786734000-1786744800@livemusicbox.net
SUMMARY:J J Twigs Summer Concert Series 2026 - Gritland Band
DESCRIPTION:JJ Twig’s Pizza & Pub
URL:https://livemusicbox.net/concert/j-j-twigs-summer-concert-series-2026-gritland-band/
LOCATION:JJ Twigs Wauconda\, 1200 N Rand Rd\, Wauconda\, IL\, 60084\, United States
CATEGORIES:Concert in the Park
ATTACH;FMTTYPE=image/jpeg:https://livemusicbox.net/wp-content/uploads/2026/04/Gritland-Band-250.jpg
GEO:42.277979;-88.1542974
X-APPLE-STRUCTURED-LOCATION;VALUE=URI;X-ADDRESS=JJ Twigs Wauconda 1200 N Rand Rd Wauconda IL 60084 United States;X-APPLE-RADIUS=500;X-TITLE=1200 N Rand Rd:geo:-88.1542974,42.277979
END:VEVENT
BEGIN:VEVENT
DTSTART;TZID=America/Chicago:20260814T190000
DTEND;TZID=America/Chicago:20260814T220000
DTSTAMP:20260420T202114
CREATED:20260415T173814Z
LAST-MODIFIED:20260420T220411Z
UID:10000773-1786734000-1786744800@livemusicbox.net
SUMMARY:J J Twigs Summer Concert Series 2026 - Gritland Band
DESCRIPTION:JJ Twig’s Pizza & Pub
URL:https://livemusicbox.net/concert/j-j-twigs-summer-concert-series-2026-gritland-band-2/
LOCATION:JJ Twigs Wauconda\, 1200 N Rand Rd\, Wauconda\, IL\, 60084\, United States
CATEGORIES:Concert in the Park
ATTACH;FMTTYPE=image/jpeg:https://livemusicbox.net/wp-content/uploads/2026/04/Gritland-Band-250.jpg
GEO:42.277979;-88.1542974
X-APPLE-STRUCTURED-LOCATION;VALUE=URI;X-ADDRESS=JJ Twigs Wauconda 1200 N Rand Rd Wauconda IL 60084 United States;X-APPLE-RADIUS=500;X-TITLE=1200 N Rand Rd:geo:-88.1542974,42.277979
END:VEVENT
BEGIN:VEVENT
DTSTART;TZID=America/Chicago:20260815T143000
DTEND;TZID=America/Chicago:20260815T143000
DTSTAMP:20260420T202114
CREATED:20260415T183504Z
LAST-MODIFIED:20260416T043255Z
UID:10000807-1786804200-1786804200@livemusicbox.net
SUMMARY:Kief's Reef Summer Concert Series 2026 - Whiskey Kitten
DESCRIPTION:Kief’s Reef
URL:https://livemusicbox.net/concert/kiefs-reef-2026-whiskey-kitten-2/
LOCATION:IL
CATEGORIES:Concert in the Park
END:VEVENT
BEGIN:VEVENT
DTSTART;TZID=America/Chicago:20260815T143000
DTEND;TZID=America/Chicago:20260815T143000
DTSTAMP:20260420T202114
CREATED:20260415T222857Z
LAST-MODIFIED:20260415T222911Z
UID:10000853-1786804200-1786804200@livemusicbox.net
SUMMARY:Whiskey Kitten
DESCRIPTION:Whiskey Kitten – Dance Hits
URL:https://livemusicbox.net/concert/whiskey-kitten-2/
LOCATION:IL
CATEGORIES:Dance
END:VEVENT
BEGIN:VEVENT
DTSTART;TZID=America/Chicago:20260815T150000
DTEND;TZID=America/Chicago:20260815T160000
DTSTAMP:20260420T202114
CREATED:20260415T173355Z
LAST-MODIFIED:20260415T195946Z
UID:10000749-1786806000-1786809600@livemusicbox.net
SUMMARY:Grayslake Summerfest 2026 - BOTB Winner
DESCRIPTION:Grayslake Village Center
URL:https://livemusicbox.net/concert/grayslake-summerfest-botb-winner/
LOCATION:Grayslake Village Center\, Historic Downtown Grayslake\, Grayslake\, IL\, 60030\, United States
CATEGORIES:Festival
GEO:42.3444664;-88.041746
X-APPLE-STRUCTURED-LOCATION;VALUE=URI;X-ADDRESS=Grayslake Village Center Historic Downtown Grayslake Grayslake IL 60030 United States;X-APPLE-RADIUS=500;X-TITLE=Historic Downtown Grayslake:geo:-88.041746,42.3444664
END:VEVENT
BEGIN:VEVENT
DTSTART;TZID=America/Chicago:20260815T160000
DTEND;TZID=America/Chicago:20260815T173000
DTSTAMP:20260420T202114
CREATED:20260415T173355Z
LAST-MODIFIED:20260415T195832Z
UID:10000750-1786809600-1786815000@livemusicbox.net
SUMMARY:Grayslake Summerfest 2026 - School of Rock
DESCRIPTION:Grayslake Village Center
URL:https://livemusicbox.net/concert/grayslake-summerfest-school-of-rock/
LOCATION:Grayslake Village Center\, Historic Downtown Grayslake\, Grayslake\, IL\, 60030\, United States
CATEGORIES:Festival
GEO:42.3444664;-88.041746
X-APPLE-STRUCTURED-LOCATION;VALUE=URI;X-ADDRESS=Grayslake Village Center Historic Downtown Grayslake Grayslake IL 60030 United States;X-APPLE-RADIUS=500;X-TITLE=Historic Downtown Grayslake:geo:-88.041746,42.3444664
END:VEVENT
BEGIN:VEVENT
DTSTART;TZID=America/Chicago:20260815T173000
DTEND;TZID=America/Chicago:20260815T183000
DTSTAMP:20260420T202114
CREATED:20260415T173355Z
LAST-MODIFIED:20260420T184355Z
UID:10000751-1786815000-1786818600@livemusicbox.net
SUMMARY:Grayslake Summerfest 2026 - Last One Standing
DESCRIPTION:Last One Standing is a 5-piece band covering a mix of country\, classic rock\, and oldies in the Lehigh Valley and the Poconos; you will find us playing at local pubs\, clubs\, and events. Rikki & Friends is a few of us available for smaller acoustic gigs.
URL:https://livemusicbox.net/concert/grayslake-summerfest-last-one-standing/
LOCATION:Grayslake Village Center\, Historic Downtown Grayslake\, Grayslake\, IL\, 60030\, United States
CATEGORIES:Classic Rock,Country,Festival,Oldies
ATTACH;FMTTYPE=image/jpeg:https://livemusicbox.net/wp-content/uploads/2026/04/Last-One-Standing-Band-250.jpg
GEO:42.3444664;-88.041746
X-APPLE-STRUCTURED-LOCATION;VALUE=URI;X-ADDRESS=Grayslake Village Center Historic Downtown Grayslake Grayslake IL 60030 United States;X-APPLE-RADIUS=500;X-TITLE=Historic Downtown Grayslake:geo:-88.041746,42.3444664
END:VEVENT
BEGIN:VEVENT
DTSTART;TZID=America/Chicago:20260815T183000
DTEND;TZID=America/Chicago:20260815T203000
DTSTAMP:20260420T202114
CREATED:20260415T173356Z
LAST-MODIFIED:20260420T183609Z
UID:10000752-1786818600-1786825800@livemusicbox.net
SUMMARY:Grayslake Summerfest 2026 - The Red Roses
DESCRIPTION:Hits of Radiohead\, Weezer\, Jimmy Eat World\, Modest Mouse\, Beck\, Coldplay and more! The Red Roses perform the alternative and indie hits that Millennials grew up on. Angular guitars\, buzzy synths\, driving beats and soaring vocals\, all brought to the stage with edgy passion and authenticity.
URL:https://livemusicbox.net/concert/grayslake-summerfest-the-red-roses/
LOCATION:Grayslake Village Center\, Historic Downtown Grayslake\, Grayslake\, IL\, 60030\, United States
CATEGORIES:Alternative Rock,Festival,Indie Pop,Rock
ATTACH;FMTTYPE=image/jpeg:https://livemusicbox.net/wp-content/uploads/2026/04/2025-bands-red-roses-250.jpg
GEO:42.3444664;-88.041746
X-APPLE-STRUCTURED-LOCATION;VALUE=URI;X-ADDRESS=Grayslake Village Center Historic Downtown Grayslake Grayslake IL 60030 United States;X-APPLE-RADIUS=500;X-TITLE=Historic Downtown Grayslake:geo:-88.041746,42.3444664
END:VEVENT
BEGIN:VEVENT
DTSTART;TZID=America/Chicago:20260815T190000
DTEND;TZID=America/Chicago:20260815T190000
DTSTAMP:20260420T202114
CREATED:20260415T230717Z
LAST-MODIFIED:20260415T230841Z
UID:10000880-1786820400-1786820400@livemusicbox.net
SUMMARY:Hypnotized – Fleetwood Mac Tribute
DESCRIPTION:Phoenix Park Bandshell
URL:https://livemusicbox.net/concert/hypnotized-fleetwood-mac-tribute/
LOCATION:IL
END:VEVENT
BEGIN:VEVENT
DTSTART;TZID=America/Chicago:20260815T203000
DTEND;TZID=America/Chicago:20260815T223000
DTSTAMP:20260420T202114
CREATED:20260415T173356Z
LAST-MODIFIED:20260415T195519Z
UID:10000753-1786825800-1786833000@livemusicbox.net
SUMMARY:Grayslake Summerfest 2026 - Boy Mob
DESCRIPTION:Grayslake Village Center
URL:https://livemusicbox.net/concert/grayslake-summerfest-boy-mob/
LOCATION:Grayslake Village Center\, Historic Downtown Grayslake\, Grayslake\, IL\, 60030\, United States
CATEGORIES:Festival
GEO:42.3444664;-88.041746
X-APPLE-STRUCTURED-LOCATION;VALUE=URI;X-ADDRESS=Grayslake Village Center Historic Downtown Grayslake Grayslake IL 60030 United States;X-APPLE-RADIUS=500;X-TITLE=Historic Downtown Grayslake:geo:-88.041746,42.3444664
END:VEVENT
BEGIN:VEVENT
DTSTART;TZID=America/Chicago:20260815T223000
DTEND;TZID=America/Chicago:20260815T233000
DTSTAMP:20260420T202114
CREATED:20260415T173356Z
LAST-MODIFIED:20260421T011346Z
UID:10000754-1786833000-1786836600@livemusicbox.net
SUMMARY:Grayslake Summerfest 2026 - 7th Heaven
DESCRIPTION:7th Heaven is a Chicago\, Illinois-based rock band known for their high-energy performances and a blend of original music and classic covers\, the band has become a staple in the Midwest music scene and beyond. Celebrating 40 years of amazing performances and music. \nThe band has achieved significant success\, charting #1 on the Midwest Billboard Charts three times and delivering seven major radio hits\, including songs like “Stoplight\,” “Better This Way\,” and “Sing.” Their discography includes popular releases like the 2004 double CD Silver (30 tracks) and the 2008 album USA-UK. 7th Heaven is celebrated for their signature “30 Songs in 30 Minutes” medley\, a crowd-pleasing mix of 70s and 80s hits.
URL:https://livemusicbox.net/concert/grayslake-summerfest-7th-heaven/
LOCATION:Grayslake Village Center\, Historic Downtown Grayslake\, Grayslake\, IL\, 60030\, United States
CATEGORIES: Soft Rock,Acoustic Classic Rock,Classic Rock,Festival,Pop,Rock
ATTACH;FMTTYPE=image/jpeg:https://livemusicbox.net/wp-content/uploads/2026/01/7th-Heaven-2026-250.jpg
GEO:42.3444664;-88.041746
X-APPLE-STRUCTURED-LOCATION;VALUE=URI;X-ADDRESS=Grayslake Village Center Historic Downtown Grayslake Grayslake IL 60030 United States;X-APPLE-RADIUS=500;X-TITLE=Historic Downtown Grayslake:geo:-88.041746,42.3444664
END:VEVENT
BEGIN:VEVENT
DTSTART;TZID=America/Chicago:20260816T143000
DTEND;TZID=America/Chicago:20260816T163000
DTSTAMP:20260420T202114
CREATED:20260415T222857Z
LAST-MODIFIED:20260421T011019Z
UID:10000854-1786890600-1786897800@livemusicbox.net
SUMMARY:Kief's Reef Summer Concert Series 2026 - Yankee Cowboys
DESCRIPTION:Upbeat\, exciting\, modern country music with rockin’ blasts from the past! This dynamic group is known for their big sound\, soaring harmonies\, energetic stage presence\, and tight musicianship. Come out to a show and see what all the buzz is about!
URL:https://livemusicbox.net/concert/yankee-cowboys/
LOCATION:Kiefs Reef\, 3505 S. Wright Road\, McHenry\, IL\, 60050\, United States
CATEGORIES:Concert in the Park,Country,Country Rock,Rock
ATTACH;FMTTYPE=image/jpeg:https://livemusicbox.net/wp-content/uploads/2026/04/yankeecowboy-250.jpg
GEO:42.2791833;-88.2286689
X-APPLE-STRUCTURED-LOCATION;VALUE=URI;X-ADDRESS=Kiefs Reef 3505 S. Wright Road McHenry IL 60050 United States;X-APPLE-RADIUS=500;X-TITLE=3505 S. Wright Road:geo:-88.2286689,42.2791833
END:VEVENT
BEGIN:VEVENT
DTSTART;TZID=America/Chicago:20260820T190000
DTEND;TZID=America/Chicago:20260820T210000
DTSTAMP:20260420T202114
CREATED:20260415T172945Z
LAST-MODIFIED:20260420T184708Z
UID:10000748-1787252400-1787259600@livemusicbox.net
SUMMARY:Hoffman Estates Summer Sounds On the Green 2026 - Heartache Tonight
DESCRIPTION:QSummer Sounds on the Green 2026 at Virginia Mary Hayter Village Green • 5510 Prairie Stone Parkway • Hoffman Estates\, IL (across from the Now Arena). ALL EVENTS ARE FREE AND START AT 7PM. Recreating the Eagles experience with the unique blend of country and rock that defined the California sound.
URL:https://livemusicbox.net/concert/hoffman-estates-summer-sounds-on-the-green-2026-heartache-tonight/
LOCATION:Hoffman Estates Village Green\, 5510 Prairie Stone Pkwy\, Hoffman Estates\, IL\, 60169\, United States
CATEGORIES:Classic Rock,Concert in the Park,Rock
ATTACH;FMTTYPE=image/jpeg:https://livemusicbox.net/wp-content/uploads/2026/04/Heartache-Tonight-250.jpg
GEO:42.0705846;-88.2159943
X-APPLE-STRUCTURED-LOCATION;VALUE=URI;X-ADDRESS=Hoffman Estates Village Green 5510 Prairie Stone Pkwy Hoffman Estates IL 60169 United States;X-APPLE-RADIUS=500;X-TITLE=5510 Prairie Stone Pkwy:geo:-88.2159943,42.0705846
END:VEVENT
BEGIN:VEVENT
DTSTART;TZID=America/Chicago:20260821T190000
DTEND;TZID=America/Chicago:20260821T210000
DTSTAMP:20260420T202114
CREATED:20260414T160715Z
LAST-MODIFIED:20260418T151413Z
UID:10000685-1787338800-1787346000@livemusicbox.net
SUMMARY:Fox Lake Friday Night Summer Concert Series 2026 - Legends of Rock: Radio Gaga – A Tribute to Queen & Lady Gaga
DESCRIPTION:Music Market Memories at Lakefront Park! Market 5-8pm | Music 7-9pm. Theme: Legends of Rock: Big Block Party featuring Radio Gaga. \nThe haus of GAGA meets the majesty of QUEEN in Radio Gaga\, the epic tribute that transcends generations. Don’t miss your chance to see two icons sharing one message on one stage in this smash-hit stage production. For the first time\, you will hear all the hits of Queen and Lady Gaga\, complete with eye-popping costuming\, dazzling choreography\, and unmatched showmanship. Prepare to be wowed as the vision and spirit of these performers emanates from the stage\, delivering the “Concert That Never Was”!
URL:https://livemusicbox.net/concert/fox-lake-friday-night-summer-concert-series-2026-legends-of-rock-big-block-party/
LOCATION:Fox Lake Lakefront Park\, 10 Riverview Avenue\, Fox Lake\, IL\, 60020\, United States
CATEGORIES:Classic Rock,Concert in the Park,Pop,Rock
ATTACH;FMTTYPE=image/jpeg:https://livemusicbox.net/wp-content/uploads/2026/04/623768386_1338458321643016_2921183933714577274_n.jpg
GEO:42.4023891;-88.1835548
X-APPLE-STRUCTURED-LOCATION;VALUE=URI;X-ADDRESS=Fox Lake Lakefront Park 10 Riverview Avenue Fox Lake IL 60020 United States;X-APPLE-RADIUS=500;X-TITLE=10 Riverview Avenue:geo:-88.1835548,42.4023891
END:VEVENT
BEGIN:VEVENT
DTSTART;TZID=America/Chicago:20260821T190000
DTEND;TZID=America/Chicago:20260821T220000
DTSTAMP:20260420T202114
CREATED:20260415T173759Z
LAST-MODIFIED:20260420T193232Z
UID:10000769-1787338800-1787349600@livemusicbox.net
SUMMARY:J J Twigs Summer Concert Series 2026 - Yankee Cowboy
DESCRIPTION:Upbeat\, exciting\, modern country music with rockin’ blasts from the past! This dynamic group is known for their big sound\, soaring harmonies\, energetic stage presence\, and tight musicianship. Come out to a show and see what all the buzz is about! \nJJ Twig’s Pizza & Pub
URL:https://livemusicbox.net/concert/j-j-twigs-summer-concert-series-2026-yankee-cowboy/
LOCATION:JJ Twigs Wauconda\, 1200 N Rand Rd\, Wauconda\, IL\, 60084\, United States
CATEGORIES:Concert in the Park
ATTACH;FMTTYPE=image/jpeg:https://livemusicbox.net/wp-content/uploads/2026/04/yankeecowboy-250.jpg
GEO:42.277979;-88.1542974
X-APPLE-STRUCTURED-LOCATION;VALUE=URI;X-ADDRESS=JJ Twigs Wauconda 1200 N Rand Rd Wauconda IL 60084 United States;X-APPLE-RADIUS=500;X-TITLE=1200 N Rand Rd:geo:-88.1542974,42.277979
END:VEVENT
BEGIN:VEVENT
DTSTART;TZID=America/Chicago:20260822T143000
DTEND;TZID=America/Chicago:20260822T163000
DTSTAMP:20260420T202114
CREATED:20260415T222857Z
LAST-MODIFIED:20260421T010329Z
UID:10000855-1787409000-1787416200@livemusicbox.net
SUMMARY:Kief's Reef Summer Concert Series 2026 - Leaving Scarlett
DESCRIPTION:Leaving Scarlet is the explosive Chicagoland rock and dance cover band guaranteed to deliver an unforgettable escape.  We are the band that won the WDRV 97.1 The Drive Battle of the Bands semi-finals and performed on the big stage at the NASCAR Chicagoland Speedway in Joliet!
URL:https://livemusicbox.net/concert/leaving-scarlett-2/
LOCATION:Kiefs Reef\, 3505 S. Wright Road\, McHenry\, IL\, 60050\, United States
CATEGORIES:Concert in the Park,Dance,Rock
ATTACH;FMTTYPE=image/jpeg:https://livemusicbox.net/wp-content/uploads/2026/04/Leaving-Scarlet-250.jpg
GEO:42.2791833;-88.2286689
X-APPLE-STRUCTURED-LOCATION;VALUE=URI;X-ADDRESS=Kiefs Reef 3505 S. Wright Road McHenry IL 60050 United States;X-APPLE-RADIUS=500;X-TITLE=3505 S. Wright Road:geo:-88.2286689,42.2791833
END:VEVENT
BEGIN:VEVENT
DTSTART;TZID=America/Chicago:20260822T180000
DTEND;TZID=America/Chicago:20260822T210000
DTSTAMP:20260420T202114
CREATED:20260415T173813Z
LAST-MODIFIED:20260421T005106Z
UID:10000770-1787421600-1787432400@livemusicbox.net
SUMMARY:J J Twigs Summer Concert Series 2026 - Stay Tuned Band
DESCRIPTION:Seven Years Strong – Playing hot country\, classic and acoustic rock ‘n roll songs!
URL:https://livemusicbox.net/concert/j-j-twigs-summer-concert-series-2026-stay-tuned/
LOCATION:JJ Twigs Wauconda\, 1200 N Rand Rd\, Wauconda\, IL\, 60084\, United States
CATEGORIES:Classic Rock,Concert in the Park,Country,Country Rock,Rock
ATTACH;FMTTYPE=image/jpeg:https://livemusicbox.net/wp-content/uploads/2026/04/Stay-Tuned-Band-250.jpg
GEO:42.277979;-88.1542974
X-APPLE-STRUCTURED-LOCATION;VALUE=URI;X-ADDRESS=JJ Twigs Wauconda 1200 N Rand Rd Wauconda IL 60084 United States;X-APPLE-RADIUS=500;X-TITLE=1200 N Rand Rd:geo:-88.1542974,42.277979
END:VEVENT
BEGIN:VEVENT
DTSTART;TZID=America/Chicago:20260822T190000
DTEND;TZID=America/Chicago:20260822T210000
DTSTAMP:20260420T202114
CREATED:20260415T230731Z
LAST-MODIFIED:20260421T004406Z
UID:10000881-1787425200-1787432400@livemusicbox.net
SUMMARY:Phoenix Park Band Shell Summer Concert Series 2026 Infinity – Classics to Current: Ultimate Rock Experience
DESCRIPTION:“Classic to Current: The Ultimate Rock Experience” Formed in 1985\, Infinity grew from being not only a Journey Tribute band\, but one of the top drawing cover – bands in the Midwest. Two-plus decades rocking the hundreds of local music festivals lighting up the Chicago suburbs each summer have put Infinity in front of hundreds of thousands of fans. Consequently\, the band has built an incredible following\, making them the Top most successful cover bands in the nation’s third-largest metropolis. Infinity continues to break attendance records at Clubs and Festivals across Chicago and the Midwest.
URL:https://livemusicbox.net/concert/infinity-classics-to-current-ultimate-rock-experience/
LOCATION:Phoenix Park Bandshell Delavan\, 111 E Wisconsin St\, Delavan\, IL\, 53115\, United States
CATEGORIES:Classic Rock,Concert in the Park,Pop,Rock
ATTACH;FMTTYPE=image/jpeg:https://livemusicbox.net/wp-content/uploads/2026/04/infinity-journey-250.jpg
GEO:42.6300351;-88.6476331
X-APPLE-STRUCTURED-LOCATION;VALUE=URI;X-ADDRESS=Phoenix Park Bandshell Delavan 111 E Wisconsin St Delavan IL 53115 United States;X-APPLE-RADIUS=500;X-TITLE=111 E Wisconsin St:geo:-88.6476331,42.6300351
END:VEVENT
BEGIN:VEVENT
DTSTART;TZID=America/Chicago:20260823T143000
DTEND;TZID=America/Chicago:20260823T163000
DTSTAMP:20260420T202114
CREATED:20260415T183519Z
LAST-MODIFIED:20260421T003833Z
UID:10000810-1787495400-1787502600@livemusicbox.net
SUMMARY:Kief's Reef Summer Concert Series 2026 - Cherry Bomb Chicago
DESCRIPTION:Chicago’s Tribute to the Best Female Artists 90s to Today! Halestorm to Hole\, Gaga to Garbage\, Alanis to Avril\, Billie to Blondie\, Pink to Paramore to Pretty Reckless\, Chappell & Olivia & Dorothy & so much more! Be ready to party when you join us!
URL:https://livemusicbox.net/concert/kiefs-reef-2026-cherry-bomb-chicago/
LOCATION:Kiefs Reef\, 3505 S. Wright Road\, McHenry\, IL\, 60050\, United States
CATEGORIES:Concert in the Park,Pop,Rock
GEO:42.2791833;-88.2286689
X-APPLE-STRUCTURED-LOCATION;VALUE=URI;X-ADDRESS=Kiefs Reef 3505 S. Wright Road McHenry IL 60050 United States;X-APPLE-RADIUS=500;X-TITLE=3505 S. Wright Road:geo:-88.2286689,42.2791833
END:VEVENT
END:VCALENDAR