BEGIN:VCALENDAR
VERSION:2.0
PRODID:-//Live Music Box - ECPv6.15.20//NONSGML v1.0//EN
CALSCALE:GREGORIAN
METHOD:PUBLISH
X-WR-CALNAME:Live Music Box
X-ORIGINAL-URL:https://livemusicbox.net
X-WR-CALDESC:Events for Live Music Box
REFRESH-INTERVAL;VALUE=DURATION:PT1H
X-Robots-Tag:noindex
X-PUBLISHED-TTL:PT1H
BEGIN:VTIMEZONE
TZID:America/Chicago
BEGIN:DAYLIGHT
TZOFFSETFROM:-0600
TZOFFSETTO:-0500
TZNAME:CDT
DTSTART:20250309T080000
END:DAYLIGHT
BEGIN:STANDARD
TZOFFSETFROM:-0500
TZOFFSETTO:-0600
TZNAME:CST
DTSTART:20251102T070000
END:STANDARD
BEGIN:DAYLIGHT
TZOFFSETFROM:-0600
TZOFFSETTO:-0500
TZNAME:CDT
DTSTART:20260308T080000
END:DAYLIGHT
BEGIN:STANDARD
TZOFFSETFROM:-0500
TZOFFSETTO:-0600
TZNAME:CST
DTSTART:20261101T070000
END:STANDARD
BEGIN:DAYLIGHT
TZOFFSETFROM:-0600
TZOFFSETTO:-0500
TZNAME:CDT
DTSTART:20270314T080000
END:DAYLIGHT
BEGIN:STANDARD
TZOFFSETFROM:-0500
TZOFFSETTO:-0600
TZNAME:CST
DTSTART:20271107T070000
END:STANDARD
END:VTIMEZONE
BEGIN:VEVENT
DTSTART;TZID=America/Chicago:20261003T180000
DTEND;TZID=America/Chicago:20261003T210000
DTSTAMP:20260421T170409
CREATED:20260415T173814Z
LAST-MODIFIED:20260420T191234Z
UID:10000774-1791050400-1791061200@livemusicbox.net
SUMMARY:J J Twigs Summer Concert Series 2026 - Kevin Purcell and Friends
DESCRIPTION:Kevin blows up a storm but leaves plenty of room for the rest of the band to show their stuff too. Nobody holds back… \nJJ Twig’s Pizza & Pub
URL:https://livemusicbox.net/concert/j-j-twigs-summer-concert-series-2026-kevin-purcell-and-friends/
LOCATION:JJ Twigs Wauconda\, 1200 N Rand Rd\, Wauconda\, IL\, 60084\, United States
CATEGORIES:Concert in the Park
ATTACH;FMTTYPE=image/jpeg:https://livemusicbox.net/wp-content/uploads/2026/04/Keven-Percel-250.jpg
GEO:42.277979;-88.1542974
X-APPLE-STRUCTURED-LOCATION;VALUE=URI;X-ADDRESS=JJ Twigs Wauconda 1200 N Rand Rd Wauconda IL 60084 United States;X-APPLE-RADIUS=500;X-TITLE=1200 N Rand Rd:geo:-88.1542974,42.277979
END:VEVENT
END:VCALENDAR