BEGIN:VCALENDAR
VERSION:2.0
PRODID:-//Live Music Box - ECPv6.15.20//NONSGML v1.0//EN
CALSCALE:GREGORIAN
METHOD:PUBLISH
X-WR-CALNAME:Live Music Box
X-ORIGINAL-URL:https://livemusicbox.net
X-WR-CALDESC:Events for Live Music Box
REFRESH-INTERVAL;VALUE=DURATION:PT1H
X-Robots-Tag:noindex
X-PUBLISHED-TTL:PT1H
BEGIN:VTIMEZONE
TZID:America/Chicago
BEGIN:DAYLIGHT
TZOFFSETFROM:-0600
TZOFFSETTO:-0500
TZNAME:CDT
DTSTART:20250309T080000
END:DAYLIGHT
BEGIN:STANDARD
TZOFFSETFROM:-0500
TZOFFSETTO:-0600
TZNAME:CST
DTSTART:20251102T070000
END:STANDARD
BEGIN:DAYLIGHT
TZOFFSETFROM:-0600
TZOFFSETTO:-0500
TZNAME:CDT
DTSTART:20260308T080000
END:DAYLIGHT
BEGIN:STANDARD
TZOFFSETFROM:-0500
TZOFFSETTO:-0600
TZNAME:CST
DTSTART:20261101T070000
END:STANDARD
BEGIN:DAYLIGHT
TZOFFSETFROM:-0600
TZOFFSETTO:-0500
TZNAME:CDT
DTSTART:20270314T080000
END:DAYLIGHT
BEGIN:STANDARD
TZOFFSETFROM:-0500
TZOFFSETTO:-0600
TZNAME:CST
DTSTART:20271107T070000
END:STANDARD
END:VTIMEZONE
BEGIN:VEVENT
DTSTART;TZID=America/Chicago:20260523T190000
DTEND;TZID=America/Chicago:20260523T210000
DTSTAMP:20260425T100755
CREATED:20260415T230601Z
LAST-MODIFIED:20260422T035821Z
UID:10000866-1779562800-1779570000@livemusicbox.net
SUMMARY:Phoenix Park Band Shell Summer Concert Series 2026 - Feels Like The First Time – Foreigner Tribute
DESCRIPTION: Feels Like The First Time is an American 7-piece rock band formed in 2017 as a tribute to the music of British/American rock band Foreigner and is based out of the Midwest\, USA. The band is made up of veteran musicians with decades of experience entertaining rock music fans at premier venues\, festivals and concert events. The members of Feels Like The First Time having grown up with the music of Foreigner\, are proud to  perform for you\, as they pay tribute to the music of Foreigner!
URL:https://livemusicbox.net/concert/feels-like-the-first-time-foreigner-tribute/
LOCATION:Phoenix Park Bandshell Delavan\, 111 E Wisconsin St\, Delavan\, IL\, 53115\, United States
CATEGORIES:Classic Rock,Concert in the Park,Rock
ATTACH;FMTTYPE=image/jpeg:https://livemusicbox.net/wp-content/uploads/2026/04/Feels-Like-The-First-Time-250.jpg
GEO:42.6300351;-88.6476331
X-APPLE-STRUCTURED-LOCATION;VALUE=URI;X-ADDRESS=Phoenix Park Bandshell Delavan 111 E Wisconsin St Delavan IL 53115 United States;X-APPLE-RADIUS=500;X-TITLE=111 E Wisconsin St:geo:-88.6476331,42.6300351
END:VEVENT
BEGIN:VEVENT
DTSTART;TZID=America/Chicago:20260530T190000
DTEND;TZID=America/Chicago:20260530T203000
DTSTAMP:20260425T100755
CREATED:20260415T230601Z
LAST-MODIFIED:20260422T033152Z
UID:10000867-1780167600-1780173000@livemusicbox.net
SUMMARY:Phoenix Park Band Shell Summer Concert Series 2026 - Joel Baer Band
DESCRIPTION:Joel Baer Big Band is a dedicated group of musicians keeping the American big band tradition alive.
URL:https://livemusicbox.net/concert/joel-baer-band/
LOCATION:Phoenix Park Bandshell Delavan\, 111 E Wisconsin St\, Delavan\, IL\, 53115\, United States
CATEGORIES:Big Band,Concert in the Park
ATTACH;FMTTYPE=image/jpeg:https://livemusicbox.net/wp-content/uploads/2026/04/Joel-Baer-Band-250.jpg
GEO:42.6300351;-88.6476331
X-APPLE-STRUCTURED-LOCATION;VALUE=URI;X-ADDRESS=Phoenix Park Bandshell Delavan 111 E Wisconsin St Delavan IL 53115 United States;X-APPLE-RADIUS=500;X-TITLE=111 E Wisconsin St:geo:-88.6476331,42.6300351
END:VEVENT
BEGIN:VEVENT
DTSTART;TZID=America/Chicago:20260606T190000
DTEND;TZID=America/Chicago:20260606T210000
DTSTAMP:20260425T100755
CREATED:20260415T230601Z
LAST-MODIFIED:20260422T031055Z
UID:10000868-1780772400-1780779600@livemusicbox.net
SUMMARY:Phoenix Park Band Shell Summer Concert Series 2026 - The Britins – Beatles Tribute
DESCRIPTION:On February 9\, 1964\, America would be introduced to a phenomenon that would ultimately change rock and roll forever.\nThat group was called The Beatles. Milwaukee’s very own BriTins recreate the era that influenced so many top groups and artists today.\nJoin The BriTins as they play hits from the Fab Four\, from “Love Me Do” to “Let It Be”.\nFollow along on a Magical Mystery Tour of sights and sounds through that remarkable era of the 1960’s\, recreated on authentic Beatles gear.
URL:https://livemusicbox.net/concert/the-britins-beatles-tribute/
LOCATION:Phoenix Park Bandshell Delavan\, 111 E Wisconsin St\, Delavan\, IL\, 53115\, United States
CATEGORIES:British Invasion,Classic Rock,Concert in the Park,Pop,Rock
ATTACH;FMTTYPE=image/jpeg:https://livemusicbox.net/wp-content/uploads/2026/04/meetthebritins-250.jpg
GEO:42.6300351;-88.6476331
X-APPLE-STRUCTURED-LOCATION;VALUE=URI;X-ADDRESS=Phoenix Park Bandshell Delavan 111 E Wisconsin St Delavan IL 53115 United States;X-APPLE-RADIUS=500;X-TITLE=111 E Wisconsin St:geo:-88.6476331,42.6300351
END:VEVENT
BEGIN:VEVENT
DTSTART;TZID=America/Chicago:20260613T190000
DTEND;TZID=America/Chicago:20260613T210000
DTSTAMP:20260425T100755
CREATED:20260415T230602Z
LAST-MODIFIED:20260422T020619Z
UID:10000869-1781377200-1781384400@livemusicbox.net
SUMMARY:Phoenix Park Band Shell Summer Concert Series 2026 - Cold Sweat and the Brew City Horns
DESCRIPTION:Cold-Sweat is an award winning 8-piece Horn Band that performs incredible renditions of the very best of Chicago\, Earth Wind & Fire\, and Chaka Khan along with Dance\, Pop\, and Rock hits – be prepared to dance till you drop
URL:https://livemusicbox.net/concert/cold-sweat-and-the-brew-city-horns-pop-rock/
LOCATION:Phoenix Park Bandshell Delavan\, 111 E Wisconsin St\, Delavan\, IL\, 53115\, United States
CATEGORIES:Concert in the Park,Pop,Rock
ATTACH;FMTTYPE=image/jpeg:https://livemusicbox.net/wp-content/uploads/2026/04/Cold-Sweat-and-the-Brew-City-Horns-250.jpg
GEO:42.6300351;-88.6476331
X-APPLE-STRUCTURED-LOCATION;VALUE=URI;X-ADDRESS=Phoenix Park Bandshell Delavan 111 E Wisconsin St Delavan IL 53115 United States;X-APPLE-RADIUS=500;X-TITLE=111 E Wisconsin St:geo:-88.6476331,42.6300351
END:VEVENT
BEGIN:VEVENT
DTSTART;TZID=America/Chicago:20260620T190000
DTEND;TZID=America/Chicago:20260620T210000
DTSTAMP:20260425T100755
CREATED:20260415T230602Z
LAST-MODIFIED:20260422T010145Z
UID:10000870-1781982000-1781989200@livemusicbox.net
SUMMARY:Phoenix Park Band Shell Summer Concert Series 2026 - Take it Easy – Eagles Tribute
DESCRIPTION:Take It Easy performs from the vast catalog of music by Joe Walsh\, Don Henley\, Glenn Frey\, Timothy B Schmit\, Bernie Leadon\, Randy Meisner and Don Felder.
URL:https://livemusicbox.net/concert/take-it-easy-eagles-tribute/
LOCATION:Phoenix Park Bandshell Delavan\, 111 E Wisconsin St\, Delavan\, IL\, 53115\, United States
CATEGORIES:Classic Rock,Concert in the Park,Rock
ATTACH;FMTTYPE=image/jpeg:https://livemusicbox.net/wp-content/uploads/2026/04/Take-it-Easy-Eagles-Tribute-Band-250.jpg
GEO:42.6300351;-88.6476331
X-APPLE-STRUCTURED-LOCATION;VALUE=URI;X-ADDRESS=Phoenix Park Bandshell Delavan 111 E Wisconsin St Delavan IL 53115 United States;X-APPLE-RADIUS=500;X-TITLE=111 E Wisconsin St:geo:-88.6476331,42.6300351
END:VEVENT
BEGIN:VEVENT
DTSTART;TZID=America/Chicago:20260626T190000
DTEND;TZID=America/Chicago:20260626T203000
DTSTAMP:20260425T100755
CREATED:20260415T230603Z
LAST-MODIFIED:20260421T182233Z
UID:10000871-1782500400-1782505800@livemusicbox.net
SUMMARY:Phoenix Park Band Shell Summer Concert Series 2026 - Watertown 1st Brigade Band
DESCRIPTION:Phoenix Park Bandshell
URL:https://livemusicbox.net/concert/watertown-1st-brigade-band-patriotic/
LOCATION:Phoenix Park Bandshell Delavan\, 111 E Wisconsin St\, Delavan\, IL\, 53115\, United States
CATEGORIES:Concert in the Park
GEO:42.6300351;-88.6476331
X-APPLE-STRUCTURED-LOCATION;VALUE=URI;X-ADDRESS=Phoenix Park Bandshell Delavan 111 E Wisconsin St Delavan IL 53115 United States;X-APPLE-RADIUS=500;X-TITLE=111 E Wisconsin St:geo:-88.6476331,42.6300351
END:VEVENT
BEGIN:VEVENT
DTSTART;TZID=America/Chicago:20260627T190000
DTEND;TZID=America/Chicago:20260627T210000
DTSTAMP:20260425T100755
CREATED:20260415T230603Z
LAST-MODIFIED:20260421T180710Z
UID:10000872-1782586800-1782594000@livemusicbox.net
SUMMARY:Phoenix Park Band Shell Summer Concert Series 2026 - Eric Diamond – Neil Diamond Tribute
DESCRIPTION:Eric “Diamond” has been performing as Neil Diamond for the last 20 years and has been Wisconsin’s Favorite Neil Diamond Tribute Artist since 2009.  He has been told on countless occasions that he “sounds more like Neil than Neil Diamond does”.  Primarily focusing his solo shows around his home base of southeastern Wisconsin\, for the last thirteen years Eric has toured the casinos\, theaters and festivals of the Midwest
URL:https://livemusicbox.net/concert/eric-diamond-neil-diamond-tribute/
LOCATION:Phoenix Park Bandshell Delavan\, 111 E Wisconsin St\, Delavan\, IL\, 53115\, United States
CATEGORIES:Acoustic Classic Rock,American Rock,Classic Rock,Concert in the Park,Jazz,Pop,Rock
ATTACH;FMTTYPE=image/jpeg:https://livemusicbox.net/wp-content/uploads/2026/04/Eric-Diamond-250.jpg
GEO:42.6300351;-88.6476331
X-APPLE-STRUCTURED-LOCATION;VALUE=URI;X-ADDRESS=Phoenix Park Bandshell Delavan 111 E Wisconsin St Delavan IL 53115 United States;X-APPLE-RADIUS=500;X-TITLE=111 E Wisconsin St:geo:-88.6476331,42.6300351
END:VEVENT
BEGIN:VEVENT
DTSTART;TZID=America/Chicago:20260703T160000
DTEND;TZID=America/Chicago:20260703T170000
DTSTAMP:20260425T100755
CREATED:20260415T230603Z
LAST-MODIFIED:20260421T171801Z
UID:10000873-1783094400-1783098000@livemusicbox.net
SUMMARY:Phoenix Park Band Shell Summer Concert Series 2026 - Palmyra/Eagle Community Band
DESCRIPTION:Phoenix Park Bandshell
URL:https://livemusicbox.net/concert/palmyra-eagle-community-band-americana/
LOCATION:Phoenix Park Bandshell Delavan\, 111 E Wisconsin St\, Delavan\, IL\, 53115\, United States
CATEGORIES:Americana,Concert in the Park
GEO:42.6300351;-88.6476331
X-APPLE-STRUCTURED-LOCATION;VALUE=URI;X-ADDRESS=Phoenix Park Bandshell Delavan 111 E Wisconsin St Delavan IL 53115 United States;X-APPLE-RADIUS=500;X-TITLE=111 E Wisconsin St:geo:-88.6476331,42.6300351
END:VEVENT
BEGIN:VEVENT
DTSTART;TZID=America/Chicago:20260704T180000
DTEND;TZID=America/Chicago:20260704T193000
DTSTAMP:20260425T100755
CREATED:20260415T230604Z
LAST-MODIFIED:20260421T170201Z
UID:10000874-1783188000-1783193400@livemusicbox.net
SUMMARY:Phoenix Park Band Shell Summer Concert Series 2026 - Gary Stebnitz
DESCRIPTION:Phoenix Park Bandshell
URL:https://livemusicbox.net/concert/gary-stebnitz/
LOCATION:Phoenix Park Bandshell Delavan\, 111 E Wisconsin St\, Delavan\, IL\, 53115\, United States
CATEGORIES:Acoustic Rock,Americana,Concert in the Park,Fireworks
GEO:42.6300351;-88.6476331
X-APPLE-STRUCTURED-LOCATION;VALUE=URI;X-ADDRESS=Phoenix Park Bandshell Delavan 111 E Wisconsin St Delavan IL 53115 United States;X-APPLE-RADIUS=500;X-TITLE=111 E Wisconsin St:geo:-88.6476331,42.6300351
END:VEVENT
BEGIN:VEVENT
DTSTART;TZID=America/Chicago:20260711T190000
DTEND;TZID=America/Chicago:20260711T210000
DTSTAMP:20260425T100755
CREATED:20260415T230604Z
LAST-MODIFIED:20260421T153118Z
UID:10000875-1783796400-1783803600@livemusicbox.net
SUMMARY:Phoenix Park Band Shell Summer Concert Series 2026 -  Nauti-Nauti
DESCRIPTION:Remember when the Doobie Brothers told you to listen to the music? Or when Christopher Cross promised to ride like the wind? What about when Linda Ronstadt told you you’re no good? Or when Hall and Oates begged you to look into their private eyes?  \nThe members of NAUTI-NAUTI do! \nBoasting a four-decade résumé of local bands that include Robin Banks\, Men of Our Times\, Mr. Big Stuff\, Can’t Touch This\, Love & Thunder\, Little Vito and the Torpedoes\, sometimes i…\, the Edge\, Fresh Hot Fritters\, the Mayvilles\, Prime Time\, Soul 2 Soul\, ThunderHeart\, the CarTunes\, Lickity Split and so many more\, NAUTI-NAUTI is putting the “Yacht Rock” in “Rock”ford.
URL:https://livemusicbox.net/concert/nauti-nauti-yacht-rock/
LOCATION:Phoenix Park Bandshell Delavan\, 111 E Wisconsin St\, Delavan\, IL\, 53115\, United States
CATEGORIES:Classic Rock,Concert in the Park,Pop,Rock,Yacht Rock
ATTACH;FMTTYPE=image/jpeg:https://livemusicbox.net/wp-content/uploads/2026/04/Nauti-Nauti-250.jpg
GEO:42.6300351;-88.6476331
X-APPLE-STRUCTURED-LOCATION;VALUE=URI;X-ADDRESS=Phoenix Park Bandshell Delavan 111 E Wisconsin St Delavan IL 53115 United States;X-APPLE-RADIUS=500;X-TITLE=111 E Wisconsin St:geo:-88.6476331,42.6300351
END:VEVENT
BEGIN:VEVENT
DTSTART;TZID=America/Chicago:20260718T190000
DTEND;TZID=America/Chicago:20260718T210000
DTSTAMP:20260425T100755
CREATED:20260415T230716Z
LAST-MODIFIED:20260421T145335Z
UID:10000876-1784401200-1784408400@livemusicbox.net
SUMMARY:Phoenix Park Band Shell Summer Concert Series 2026 - The Chicago Experience – Chicago Tribute
DESCRIPTION:The Chicago Experience is the nation’s premiere tribute to the legendary band “Chicago.”
URL:https://livemusicbox.net/concert/the-chicago-experience-chicago-tribute/
LOCATION:Phoenix Park Bandshell Delavan\, 111 E Wisconsin St\, Delavan\, IL\, 53115\, United States
CATEGORIES:Classic Rock,Concert in the Park,Pop
ATTACH;FMTTYPE=image/jpeg:https://livemusicbox.net/wp-content/uploads/2026/04/The-Chicago-Experience-250.jpg
GEO:42.6300351;-88.6476331
X-APPLE-STRUCTURED-LOCATION;VALUE=URI;X-ADDRESS=Phoenix Park Bandshell Delavan 111 E Wisconsin St Delavan IL 53115 United States;X-APPLE-RADIUS=500;X-TITLE=111 E Wisconsin St:geo:-88.6476331,42.6300351
END:VEVENT
BEGIN:VEVENT
DTSTART;TZID=America/Chicago:20260719T160000
DTEND;TZID=America/Chicago:20260719T173000
DTSTAMP:20260425T100755
CREATED:20260415T230716Z
LAST-MODIFIED:20260421T142327Z
UID:10000877-1784476800-1784482200@livemusicbox.net
SUMMARY:Phoenix Park Band Shell Summer Concert Series 2026 - Ladies Must Swing
DESCRIPTION:Our story is about inspiration and encouragement given by lovers of good music and finding out what entertains and makes them happy. Over 27 years ago\, LMS became Ladies Must Swing which came from Linda Marty Schmitz\, President of the Madison Jazz Society\, which also gave us our very first performance opportunity! \nThe presence of women playing jazz has gotten a lot of attention over the last decade and we are grateful for that. We intend to keep the musical momentum going and invite you to come see us\, hear us\, dance to us\, celebrate with us\, and re-live history!
URL:https://livemusicbox.net/concert/ladies-must-swing-swing/
LOCATION:Phoenix Park Bandshell Delavan\, 111 E Wisconsin St\, Delavan\, IL\, 53115\, United States
CATEGORIES: Swing,Concert in the Park
ATTACH;FMTTYPE=image/jpeg:https://livemusicbox.net/wp-content/uploads/2026/04/Ladies-Must-Swing-250.jpg
GEO:42.6300351;-88.6476331
X-APPLE-STRUCTURED-LOCATION;VALUE=URI;X-ADDRESS=Phoenix Park Bandshell Delavan 111 E Wisconsin St Delavan IL 53115 United States;X-APPLE-RADIUS=500;X-TITLE=111 E Wisconsin St:geo:-88.6476331,42.6300351
END:VEVENT
BEGIN:VEVENT
DTSTART;TZID=America/Chicago:20260802T130000
DTEND;TZID=America/Chicago:20260802T160000
DTSTAMP:20260425T100755
CREATED:20260415T230717Z
LAST-MODIFIED:20260421T031021Z
UID:10000878-1785675600-1785686400@livemusicbox.net
SUMMARY:Phoenix Park Band Shell Summer Concert Series 2026 - Icons of Country – Jason Aldean & Luke Bryan Tribute & More! Car Show
DESCRIPTION:3 tribute artists… 1 big show! Choose from our roster of tribute artists!
URL:https://livemusicbox.net/concert/icons-of-country-jason-aldean-luke-bryan-tribute-more-car-show/
LOCATION:Phoenix Park Bandshell Delavan\, 111 E Wisconsin St\, Delavan\, IL\, 53115\, United States
CATEGORIES:Concert in the Park,Country,Country Rock
ATTACH;FMTTYPE=image/jpeg:https://livemusicbox.net/wp-content/uploads/2026/04/Icons-of-Country-Tribute-Show-Band-250.jpg
GEO:42.6300351;-88.6476331
X-APPLE-STRUCTURED-LOCATION;VALUE=URI;X-ADDRESS=Phoenix Park Bandshell Delavan 111 E Wisconsin St Delavan IL 53115 United States;X-APPLE-RADIUS=500;X-TITLE=111 E Wisconsin St:geo:-88.6476331,42.6300351
END:VEVENT
BEGIN:VEVENT
DTSTART;TZID=America/Chicago:20260808T190000
DTEND;TZID=America/Chicago:20260808T210000
DTSTAMP:20260425T100755
CREATED:20260415T230717Z
LAST-MODIFIED:20260421T023000Z
UID:10000879-1786215600-1786222800@livemusicbox.net
SUMMARY:Phoenix Park Band Shell Summer Concert Series 2026 - The Electric Cars Band – Cars Tribute
DESCRIPTION:The Electric Cars stand as more than a tribute band – they are agents of an era\, bringing the timeless 1980’s hits of The Cars to a new generation. With a set that includes classics like “Just What I Needed\,” “My Best Friend’s Girl\,” and the hit ballad “Drive\,” they faithfully recreate the magic of The Cars’ chart-toppers\, taking audiences on a nostalgic journey through the band’s greatest hits and deep cuts.
URL:https://livemusicbox.net/concert/the-electric-cars-band-cars-tribute/
LOCATION:Phoenix Park Bandshell Delavan\, 111 E Wisconsin St\, Delavan\, IL\, 53115\, United States
CATEGORIES:Classic Rock,Concert in the Park,Rock
ATTACH;FMTTYPE=image/jpeg:https://livemusicbox.net/wp-content/uploads/2026/04/Electric-Cars-Band-250.jpg
GEO:42.6300351;-88.6476331
X-APPLE-STRUCTURED-LOCATION;VALUE=URI;X-ADDRESS=Phoenix Park Bandshell Delavan 111 E Wisconsin St Delavan IL 53115 United States;X-APPLE-RADIUS=500;X-TITLE=111 E Wisconsin St:geo:-88.6476331,42.6300351
END:VEVENT
BEGIN:VEVENT
DTSTART;TZID=America/Chicago:20260815T190000
DTEND;TZID=America/Chicago:20260815T210000
DTSTAMP:20260425T100755
CREATED:20260415T230717Z
LAST-MODIFIED:20260421T012613Z
UID:10000880-1786820400-1786827600@livemusicbox.net
SUMMARY:Phoenix Park Band Shell Summer Concert Series 2026 - Hypnotized – Fleetwood Mac Tribute
DESCRIPTION:Hypnotized\, a tribute group to Fleetwood Mac\, evokes the spirit and sound of the 70’s.
URL:https://livemusicbox.net/concert/hypnotized-fleetwood-mac-tribute/
LOCATION:Phoenix Park Bandshell Delavan\, 111 E Wisconsin St\, Delavan\, IL\, 53115\, United States
CATEGORIES:Classic Rock,Concert in the Park,Rock
ATTACH;FMTTYPE=image/jpeg:https://livemusicbox.net/wp-content/uploads/2026/04/Hypnotized-Fleetwood-Mac-Tribute-Band-250.jpg
GEO:42.6300351;-88.6476331
X-APPLE-STRUCTURED-LOCATION;VALUE=URI;X-ADDRESS=Phoenix Park Bandshell Delavan 111 E Wisconsin St Delavan IL 53115 United States;X-APPLE-RADIUS=500;X-TITLE=111 E Wisconsin St:geo:-88.6476331,42.6300351
END:VEVENT
BEGIN:VEVENT
DTSTART;TZID=America/Chicago:20260822T190000
DTEND;TZID=America/Chicago:20260822T210000
DTSTAMP:20260425T100755
CREATED:20260415T230731Z
LAST-MODIFIED:20260421T004406Z
UID:10000881-1787425200-1787432400@livemusicbox.net
SUMMARY:Phoenix Park Band Shell Summer Concert Series 2026 Infinity – Classics to Current: Ultimate Rock Experience
DESCRIPTION:“Classic to Current: The Ultimate Rock Experience” Formed in 1985\, Infinity grew from being not only a Journey Tribute band\, but one of the top drawing cover – bands in the Midwest. Two-plus decades rocking the hundreds of local music festivals lighting up the Chicago suburbs each summer have put Infinity in front of hundreds of thousands of fans. Consequently\, the band has built an incredible following\, making them the Top most successful cover bands in the nation’s third-largest metropolis. Infinity continues to break attendance records at Clubs and Festivals across Chicago and the Midwest.
URL:https://livemusicbox.net/concert/infinity-classics-to-current-ultimate-rock-experience/
LOCATION:Phoenix Park Bandshell Delavan\, 111 E Wisconsin St\, Delavan\, IL\, 53115\, United States
CATEGORIES:Classic Rock,Concert in the Park,Pop,Rock
ATTACH;FMTTYPE=image/jpeg:https://livemusicbox.net/wp-content/uploads/2026/04/infinity-journey-250.jpg
GEO:42.6300351;-88.6476331
X-APPLE-STRUCTURED-LOCATION;VALUE=URI;X-ADDRESS=Phoenix Park Bandshell Delavan 111 E Wisconsin St Delavan IL 53115 United States;X-APPLE-RADIUS=500;X-TITLE=111 E Wisconsin St:geo:-88.6476331,42.6300351
END:VEVENT
BEGIN:VEVENT
DTSTART;TZID=America/Chicago:20260829T190000
DTEND;TZID=America/Chicago:20260829T210000
DTSTAMP:20260425T100755
CREATED:20260415T230731Z
LAST-MODIFIED:20260421T000559Z
UID:10000882-1788030000-1788037200@livemusicbox.net
SUMMARY:Phoenix Park Band Shell Summer Concert Series 2026 - 7th Heaven – Rock & Roll Variety
DESCRIPTION:7th Heaven is a Chicago\, Illinois-based rock band known for their high-energy performances and a blend of original music and classic covers\, the band has become a staple in the Midwest music scene and beyond. Celebrating 40 years of amazing performances and music. \nThe band has achieved significant success\, charting #1 on the Midwest Billboard Charts three times and delivering seven major radio hits\, including songs like “Stoplight\,” “Better This Way\,” and “Sing.” Their discography includes popular releases like the 2004 double CD Silver (30 tracks) and the 2008 album USA-UK. 7th Heaven is celebrated for their signature “30 Songs in 30 Minutes” medley\, a crowd-pleasing mix of 70s and 80s hits.
URL:https://livemusicbox.net/concert/7th-heaven-rock-roll-variety/
LOCATION:Phoenix Park Bandshell Delavan\, 111 E Wisconsin St\, Delavan\, IL\, 53115\, United States
CATEGORIES:Rock
ATTACH;FMTTYPE=image/jpeg:https://livemusicbox.net/wp-content/uploads/2026/01/7th-Heaven-2026-250.jpg
GEO:42.6300351;-88.6476331
X-APPLE-STRUCTURED-LOCATION;VALUE=URI;X-ADDRESS=Phoenix Park Bandshell Delavan 111 E Wisconsin St Delavan IL 53115 United States;X-APPLE-RADIUS=500;X-TITLE=111 E Wisconsin St:geo:-88.6476331,42.6300351
END:VEVENT
BEGIN:VEVENT
DTSTART;TZID=America/Chicago:20260905T190000
DTEND;TZID=America/Chicago:20260905T210000
DTSTAMP:20260425T100755
CREATED:20260415T230732Z
LAST-MODIFIED:20260420T235848Z
UID:10000883-1788634800-1788642000@livemusicbox.net
SUMMARY:Phoenix Park Band Shell Summer Concert Series 2026 - Steely Dane – Steely Dan Tribute
DESCRIPTION:STEELY DANE – THE ULTIMATE STEELY DAN TRIBUTE \n14 OF MIDWEST’S FINEST MUSICIANS UNITE TO PERFORM  \nTHE MUSIC OF STEELY DAN AND DONALD FAGEN. \nThe songs of Steely Dan form the soundtrack for so many of our lives. The band brought together Jazz\, Rock\, and R&B sensibilities to form a whole new kind of pop music. These are the songs that remind many of us of that summer of 1978\, …but don’t look now\, it’s also resonating with younger crowds as well. \nPhoenix Park Bandshell
URL:https://livemusicbox.net/concert/steely-dane-steely-dan-tribute/
LOCATION:Phoenix Park Bandshell Delavan\, 111 E Wisconsin St\, Delavan\, IL\, 53115\, United States
CATEGORIES:Classic Rock,Concert in the Park,Jazz,Pop,R&B/Soul,Rock
ATTACH;FMTTYPE=image/jpeg:https://livemusicbox.net/wp-content/uploads/2026/04/Steely-Dane-250.jpg
GEO:42.6300351;-88.6476331
X-APPLE-STRUCTURED-LOCATION;VALUE=URI;X-ADDRESS=Phoenix Park Bandshell Delavan 111 E Wisconsin St Delavan IL 53115 United States;X-APPLE-RADIUS=500;X-TITLE=111 E Wisconsin St:geo:-88.6476331,42.6300351
END:VEVENT
END:VCALENDAR