BEGIN:VCALENDAR
VERSION:2.0
PRODID:-//Live Music Box - ECPv6.15.20//NONSGML v1.0//EN
CALSCALE:GREGORIAN
METHOD:PUBLISH
X-WR-CALNAME:Live Music Box
X-ORIGINAL-URL:https://livemusicbox.net
X-WR-CALDESC:Events for Live Music Box
REFRESH-INTERVAL;VALUE=DURATION:PT1H
X-Robots-Tag:noindex
X-PUBLISHED-TTL:PT1H
BEGIN:VTIMEZONE
TZID:America/Chicago
BEGIN:DAYLIGHT
TZOFFSETFROM:-0600
TZOFFSETTO:-0500
TZNAME:CDT
DTSTART:20250309T080000
END:DAYLIGHT
BEGIN:STANDARD
TZOFFSETFROM:-0500
TZOFFSETTO:-0600
TZNAME:CST
DTSTART:20251102T070000
END:STANDARD
BEGIN:DAYLIGHT
TZOFFSETFROM:-0600
TZOFFSETTO:-0500
TZNAME:CDT
DTSTART:20260308T080000
END:DAYLIGHT
BEGIN:STANDARD
TZOFFSETFROM:-0500
TZOFFSETTO:-0600
TZNAME:CST
DTSTART:20261101T070000
END:STANDARD
BEGIN:DAYLIGHT
TZOFFSETFROM:-0600
TZOFFSETTO:-0500
TZNAME:CDT
DTSTART:20270314T080000
END:DAYLIGHT
BEGIN:STANDARD
TZOFFSETFROM:-0500
TZOFFSETTO:-0600
TZNAME:CST
DTSTART:20271107T070000
END:STANDARD
END:VTIMEZONE
BEGIN:VEVENT
DTSTART;TZID=America/Chicago:20260711T143000
DTEND;TZID=America/Chicago:20260711T143000
DTSTAMP:20260421T010006
CREATED:20260415T222826Z
LAST-MODIFIED:20260415T222826Z
UID:10000842-1783780200-1783780200@livemusicbox.net
SUMMARY:GENR8R
DESCRIPTION:GENR8R- Todays Rock and Pop Hits
URL:https://livemusicbox.net/concert/genr8r/
LOCATION:IL
CATEGORIES:Pop,Rock
END:VEVENT
BEGIN:VEVENT
DTSTART;TZID=America/Chicago:20260711T180000
DTEND;TZID=America/Chicago:20260711T200000
DTSTAMP:20260421T010006
CREATED:20260415T173743Z
LAST-MODIFIED:20260416T003743Z
UID:10000761-1783792800-1783800000@livemusicbox.net
SUMMARY:J J Twigs Summer Concert Series 2026 - Logan Ramey
DESCRIPTION:JJ Twig’s Pizza & Pub
URL:https://livemusicbox.net/concert/j-j-twigs-summer-concert-series-2026-logan-ramey/
LOCATION:JJ Twigs Wauconda\, 1200 N Rand Rd\, Wauconda\, IL\, 60084\, United States
CATEGORIES:Concert in the Park
GEO:42.277979;-88.1542974
X-APPLE-STRUCTURED-LOCATION;VALUE=URI;X-ADDRESS=JJ Twigs Wauconda 1200 N Rand Rd Wauconda IL 60084 United States;X-APPLE-RADIUS=500;X-TITLE=1200 N Rand Rd:geo:-88.1542974,42.277979
END:VEVENT
BEGIN:VEVENT
DTSTART;TZID=America/Chicago:20260711T190000
DTEND;TZID=America/Chicago:20260711T190000
DTSTAMP:20260421T010006
CREATED:20260415T230604Z
LAST-MODIFIED:20260415T230841Z
UID:10000875-1783796400-1783796400@livemusicbox.net
SUMMARY:Nauti-Nauti – Yacht Rock
DESCRIPTION:Phoenix Park Bandshell
URL:https://livemusicbox.net/concert/nauti-nauti-yacht-rock/
LOCATION:IL
CATEGORIES:Yacht Rock
END:VEVENT
BEGIN:VEVENT
DTSTART;TZID=America/Chicago:20260712T153000
DTEND;TZID=America/Chicago:20260712T153000
DTSTAMP:20260421T010006
CREATED:20260415T183434Z
LAST-MODIFIED:20260416T044107Z
UID:10000797-1783870200-1783870200@livemusicbox.net
SUMMARY:Kief's Reef Summer Concert Series 2026 - Southbound Chicago
DESCRIPTION:Kief’s Reef
URL:https://livemusicbox.net/concert/kiefs-reef-2026-southbound-chicago-2/
LOCATION:IL
END:VEVENT
BEGIN:VEVENT
DTSTART;TZID=America/Chicago:20260712T153000
DTEND;TZID=America/Chicago:20260712T153000
DTSTAMP:20260421T010006
CREATED:20260415T222826Z
LAST-MODIFIED:20260415T222826Z
UID:10000843-1783870200-1783870200@livemusicbox.net
SUMMARY:Southbound Chicago
DESCRIPTION:Southbound Chicago – Country Rock
URL:https://livemusicbox.net/concert/southbound-chicago-2/
LOCATION:IL
CATEGORIES:Country Rock
END:VEVENT
BEGIN:VEVENT
DTSTART;TZID=America/Chicago:20260715T180000
DTEND;TZID=America/Chicago:20260715T200000
DTSTAMP:20260421T010006
CREATED:20260413T163713Z
LAST-MODIFIED:20260417T023555Z
UID:10000671-1784138400-1784145600@livemusicbox.net
SUMMARY:Bristol Wood Summer Concert Series 2026 - Sawdust Symphony
DESCRIPTION:In delivering their show to audiences the Sawdust Symphony tries to arrange sets to maximize the listening pleasures of the festival\, private parties\, or nightclub venues.  The mix is never the same\, the music is fresh and lively\, and everyone has a great time.
URL:https://livemusicbox.net/concert/bristol-woodstock-6/
LOCATION:IL
CATEGORIES:American New Grass,Concert in the Park
ATTACH;FMTTYPE=image/jpeg:https://livemusicbox.net/wp-content/uploads/2026/04/Sawdust-250.jpg
END:VEVENT
BEGIN:VEVENT
DTSTART;TZID=America/Chicago:20260716T180000
DTEND;TZID=America/Chicago:20260716T200000
DTSTAMP:20260421T010006
CREATED:20260415T225105Z
LAST-MODIFIED:20260421T051147Z
UID:10000861-1784224800-1784232000@livemusicbox.net
SUMMARY:Rhythm of the Lake Kenosha Concert Series 2026 - Gabriel Harris
DESCRIPTION:Enjoy live music with Gabriel Harris as part of the Rhythm on the Lake series at Old Settlers Park. Presented by Kenosha County Parks every Thursday 6-8 PM.
URL:https://livemusicbox.net/concert/rhythm-on-the-lake-gabriel-harris/
LOCATION:Kenosha Old Settlers Park\, 24100 75th Street\, Salem\, WI\, 53170\, United States
CATEGORIES:Rock
ATTACH;FMTTYPE=image/jpeg:https://livemusicbox.net/wp-content/uploads/2026/04/Gabriel-Harris-250.jpg
GEO:42.5692257;-88.0977083
X-APPLE-STRUCTURED-LOCATION;VALUE=URI;X-ADDRESS=Kenosha Old Settlers Park 24100 75th Street Salem WI 53170 United States;X-APPLE-RADIUS=500;X-TITLE=24100 75th Street:geo:-88.0977083,42.5692257
END:VEVENT
BEGIN:VEVENT
DTSTART;TZID=America/Chicago:20260716T180000
DTEND;TZID=America/Chicago:20260716T200000
DTSTAMP:20260421T010006
CREATED:20260415T231758Z
LAST-MODIFIED:20260416T040053Z
UID:10000891-1784224800-1784232000@livemusicbox.net
SUMMARY:Rockford Jams Summer Concert Series - Rocks Off
DESCRIPTION:Opening performances begin at 6 PM; Headliners at 7 PM. Part of the 2026 Rockford Jams series.
URL:https://livemusicbox.net/concert/rocks-off/
LOCATION:IL
CATEGORIES:Concert in the Park
END:VEVENT
BEGIN:VEVENT
DTSTART;TZID=America/Chicago:20260716T190000
DTEND;TZID=America/Chicago:20260716T203000
DTSTAMP:20260421T010006
CREATED:20260415T163228Z
LAST-MODIFIED:20260415T163228Z
UID:10000725-1784228400-1784233800@livemusicbox.net
SUMMARY:Summer Concerts in the Park - Reckless
DESCRIPTION:
URL:https://livemusicbox.net/concert/summer-concerts-in-the-park-reckless/
LOCATION:IL
END:VEVENT
BEGIN:VEVENT
DTSTART;TZID=America/Chicago:20260716T190000
DTEND;TZID=America/Chicago:20260716T210000
DTSTAMP:20260421T010006
CREATED:20260415T172944Z
LAST-MODIFIED:20260420T190236Z
UID:10000743-1784228400-1784235600@livemusicbox.net
SUMMARY:Hoffman Estates Summer Sounds On the Green 2026 - Burning Red - Taylor Swift Tribute Band
DESCRIPTION:Summer Sounds on the Green 2026 at Virginia Mary Hayter Village Green • 5510 Prairie Stone Parkway • Hoffman Estates\, IL (across from the Now Arena). ALL EVENTS ARE FREE AND START AT 7PM. The region’s premier tribute to the music of Taylor Swift.
URL:https://livemusicbox.net/concert/hoffman-estates-summer-sounds-on-the-green-2026-burning-red/
LOCATION:Hoffman Estates Village Green\, 5510 Prairie Stone Pkwy\, Hoffman Estates\, IL\, 60169\, United States
CATEGORIES:Concert in the Park,Pop,Rock
ATTACH;FMTTYPE=image/jpeg:https://livemusicbox.net/wp-content/uploads/2026/04/Burning-Red-Taylor-Swift-250.jpg
GEO:42.0705846;-88.2159943
X-APPLE-STRUCTURED-LOCATION;VALUE=URI;X-ADDRESS=Hoffman Estates Village Green 5510 Prairie Stone Pkwy Hoffman Estates IL 60169 United States;X-APPLE-RADIUS=500;X-TITLE=5510 Prairie Stone Pkwy:geo:-88.2159943,42.0705846
END:VEVENT
BEGIN:VEVENT
DTSTART;TZID=America/Chicago:20260717T190000
DTEND;TZID=America/Chicago:20260717T210000
DTSTAMP:20260421T010006
CREATED:20260414T160714Z
LAST-MODIFIED:20260420T164455Z
UID:10000680-1784314800-1784322000@livemusicbox.net
SUMMARY:Fox Lake Friday Night Summer Concert Series 2026 - Punk for a Purpose w/American Idiots
DESCRIPTION:American Idiots is a high-powered Green Day tribute band known for delivering electrifying live performances that replicate the rebellious spirit and iconic sound of the original band. Driven by a genuine passion for Green Day and fueled by the love of fans everywhere\, American Idiots brings a high-energy show packed with the songs\, look\, harmonies\, and hooks that true Green Day fans deserve. \nMusic Market Memories at Lakefront Park! Market 5-8pm | Music 7-9pm. Theme: Punk for a Purpose featuring American Idiots.
URL:https://livemusicbox.net/concert/fox-lake-friday-night-summer-concert-series-2026-punk-for-a-purpose/
LOCATION:Fox Lake Lakefront Park\, 10 Riverview Avenue\, Fox Lake\, IL\, 60020\, United States
CATEGORIES:Concert in the Park,Garbage Rock,Punk,Rock
ATTACH;FMTTYPE=image/jpeg:https://livemusicbox.net/wp-content/uploads/2026/04/American-Idiots-Green-Day-Tribute-Band-250.jpg
GEO:42.4023891;-88.1835548
X-APPLE-STRUCTURED-LOCATION;VALUE=URI;X-ADDRESS=Fox Lake Lakefront Park 10 Riverview Avenue Fox Lake IL 60020 United States;X-APPLE-RADIUS=500;X-TITLE=10 Riverview Avenue:geo:-88.1835548,42.4023891
END:VEVENT
BEGIN:VEVENT
DTSTART;TZID=America/Chicago:20260717T190000
DTEND;TZID=America/Chicago:20260717T210000
DTSTAMP:20260421T010006
CREATED:20260415T173743Z
LAST-MODIFIED:20260416T003626Z
UID:10000762-1784314800-1784322000@livemusicbox.net
SUMMARY:J J Twigs Summer Concert Series 2026 - Music by Ben and Mike
DESCRIPTION:JJ Twig’s Pizza & Pub
URL:https://livemusicbox.net/concert/j-j-twigs-summer-concert-series-2026-music-by-ben-and-mike/
LOCATION:JJ Twigs Wauconda\, 1200 N Rand Rd\, Wauconda\, IL\, 60084\, United States
CATEGORIES:Concert in the Park
GEO:42.277979;-88.1542974
X-APPLE-STRUCTURED-LOCATION;VALUE=URI;X-ADDRESS=JJ Twigs Wauconda 1200 N Rand Rd Wauconda IL 60084 United States;X-APPLE-RADIUS=500;X-TITLE=1200 N Rand Rd:geo:-88.1542974,42.277979
END:VEVENT
BEGIN:VEVENT
DTSTART;TZID=America/Chicago:20260718T143000
DTEND;TZID=America/Chicago:20260718T143000
DTSTAMP:20260421T010006
CREATED:20260415T183434Z
LAST-MODIFIED:20260416T044020Z
UID:10000798-1784385000-1784385000@livemusicbox.net
SUMMARY:Kief's Reef Summer Concert Series 2026 - Aberdeen Drive
DESCRIPTION:Kief’s Reef
URL:https://livemusicbox.net/concert/kiefs-reef-2026-aberdeen-drive/
LOCATION:IL
END:VEVENT
BEGIN:VEVENT
DTSTART;TZID=America/Chicago:20260718T143000
DTEND;TZID=America/Chicago:20260718T143000
DTSTAMP:20260421T010006
CREATED:20260415T222826Z
LAST-MODIFIED:20260415T222826Z
UID:10000844-1784385000-1784385000@livemusicbox.net
SUMMARY:Aberdeen Drive
DESCRIPTION:Todays Hits
URL:https://livemusicbox.net/concert/aberdeen-drive/
LOCATION:IL
END:VEVENT
BEGIN:VEVENT
DTSTART;TZID=America/Chicago:20260718T190000
DTEND;TZID=America/Chicago:20260718T190000
DTSTAMP:20260421T010006
CREATED:20260415T230716Z
LAST-MODIFIED:20260415T230841Z
UID:10000876-1784401200-1784401200@livemusicbox.net
SUMMARY:The Chicago Experience – Chicago Tribute
DESCRIPTION:Phoenix Park Bandshell
URL:https://livemusicbox.net/concert/the-chicago-experience-chicago-tribute/
LOCATION:IL
END:VEVENT
BEGIN:VEVENT
DTSTART;TZID=America/Chicago:20260719T143000
DTEND;TZID=America/Chicago:20260719T143000
DTSTAMP:20260421T010006
CREATED:20260415T183434Z
LAST-MODIFIED:20260416T043930Z
UID:10000799-1784471400-1784471400@livemusicbox.net
SUMMARY:Kief's Reef Summer Concert Series 2026 - Kicked Outta Choir
DESCRIPTION:Kief’s Reef
URL:https://livemusicbox.net/concert/kiefs-reef-2026-kicked-outta-choir/
LOCATION:IL
END:VEVENT
BEGIN:VEVENT
DTSTART;TZID=America/Chicago:20260719T143000
DTEND;TZID=America/Chicago:20260719T143000
DTSTAMP:20260421T010006
CREATED:20260415T222827Z
LAST-MODIFIED:20260415T222827Z
UID:10000845-1784471400-1784471400@livemusicbox.net
SUMMARY:Kicked Outta Choir
DESCRIPTION:Kicked Outta Choir- Edgy 80’s
URL:https://livemusicbox.net/concert/kicked-outta-choir/
LOCATION:IL
END:VEVENT
BEGIN:VEVENT
DTSTART;TZID=America/Chicago:20260719T160000
DTEND;TZID=America/Chicago:20260719T160000
DTSTAMP:20260421T010006
CREATED:20260415T230716Z
LAST-MODIFIED:20260415T230841Z
UID:10000877-1784476800-1784476800@livemusicbox.net
SUMMARY:Ladies Must Swing – Swing
DESCRIPTION:Phoenix Park Bandshell
URL:https://livemusicbox.net/concert/ladies-must-swing-swing/
LOCATION:IL
CATEGORIES: Swing
END:VEVENT
BEGIN:VEVENT
DTSTART;TZID=America/Chicago:20260722T180000
DTEND;TZID=America/Chicago:20260722T180000
DTSTAMP:20260421T010006
CREATED:20260415T183449Z
LAST-MODIFIED:20260416T043845Z
UID:10000800-1784743200-1784743200@livemusicbox.net
SUMMARY:Kief's Reef Summer Concert Series 2026 - Donnelly Trio
DESCRIPTION:Kief’s Reef
URL:https://livemusicbox.net/concert/kiefs-reef-2026-donnelly-trio/
LOCATION:IL
END:VEVENT
BEGIN:VEVENT
DTSTART;TZID=America/Chicago:20260722T180000
DTEND;TZID=America/Chicago:20260722T180000
DTSTAMP:20260421T010006
CREATED:20260415T222841Z
LAST-MODIFIED:20260415T222841Z
UID:10000846-1784743200-1784743200@livemusicbox.net
SUMMARY:Donnelly Trio
DESCRIPTION:Donnelly Trio- Caribbean Rock- Jamaican Jerk Chicken
URL:https://livemusicbox.net/concert/donnelly-trio/
LOCATION:IL
CATEGORIES:Caribbean Rock
END:VEVENT
BEGIN:VEVENT
DTSTART;TZID=America/Chicago:20260722T180000
DTEND;TZID=America/Chicago:20260722T200000
DTSTAMP:20260421T010006
CREATED:20260413T163713Z
LAST-MODIFIED:20260421T050035Z
UID:10000672-1784743200-1784750400@livemusicbox.net
SUMMARY:Bristol Wood Summer Concert Series 2026 - John-Michael Montella
DESCRIPTION:Juxtaposing modern looping technology with alternative instrumentation\, John-Michael creates an unforgettable One-Man Band experience. Fresh\, Impactful\, Crispy.
URL:https://livemusicbox.net/concert/bristol-woodstock-7/
LOCATION:IL
CATEGORIES:Concert in the Park,One Man Band
ATTACH;FMTTYPE=image/jpeg:https://livemusicbox.net/wp-content/uploads/2026/04/John-Michael-250.jpg
END:VEVENT
BEGIN:VEVENT
DTSTART;TZID=America/Chicago:20260723T180000
DTEND;TZID=America/Chicago:20260723T200000
DTSTAMP:20260421T010006
CREATED:20260415T225106Z
LAST-MODIFIED:20260421T050235Z
UID:10000862-1784829600-1784836800@livemusicbox.net
SUMMARY:Rhythm of the Lake Kenosha Concert Series 2026 - Nicole Nystrom & The Tumbleweed Band
DESCRIPTION:Nicole Nystrom & The Tumbleweed BandCountry Singer•Songwriter•Horsewoman Living the Dream.Bringing you country & americana music with a western\, bluesy flair!
URL:https://livemusicbox.net/concert/rhythm-on-the-lake-nicole-nystrom-the-tumbleweed-band/
LOCATION:IL
CATEGORIES:American Folk,American New Grass,Concert in the Park,Country
ATTACH;FMTTYPE=image/jpeg:https://livemusicbox.net/wp-content/uploads/2026/04/Nicole-Nystrom-The-Tumbleweed-Band-250.jpg
END:VEVENT
BEGIN:VEVENT
DTSTART;TZID=America/Chicago:20260723T180000
DTEND;TZID=America/Chicago:20260723T200000
DTSTAMP:20260421T010006
CREATED:20260415T231758Z
LAST-MODIFIED:20260421T045017Z
UID:10000892-1784829600-1784836800@livemusicbox.net
SUMMARY:Rockford Jams Summer Concert Series 2026  - Second Hand News
DESCRIPTION:Second Hand News recreates the experience of seeing Fleetwood Mac in their heyday. Made up of veteran Chicago musicians (Melissa Brausch\, Josh Chicoine\, Mike Holtz\, Dan Ingenthron\, Mike Vanier\, and Lindsay Weinberg)\, the band features spot-on vocal harmonies\, careful attention to detail\, and electric live shows. Through the talents of these seasoned performers\, the spirit and musicianship of Mick Fleetwood\, John McVie\, Christine McVie\, Stevie Nicks\, and Lindsey Buckingham come to life on stage. Audiences are energized by dynamic deliveries of favorites from the band’s extensive catalog of hits as well as deep cuts beloved by superfans. The fun these musicians have recreating these classic songs together is infectious\, and will bring you to your feet in shared appreciation for one of the greatest bands of all time.
URL:https://livemusicbox.net/concert/second-hand-news/
LOCATION:Rockford Sinnissippi Music Shell\, 2010 Arlington Ave\, Rockford\, IL\, 61107\, United States
CATEGORIES:Classic Rock,Concert in the Park,Rock
ATTACH;FMTTYPE=image/jpeg:https://livemusicbox.net/wp-content/uploads/2025/05/Second-Hand-News-250.jpg
GEO:42.2810888;-89.0667579
X-APPLE-STRUCTURED-LOCATION;VALUE=URI;X-ADDRESS=Rockford Sinnissippi Music Shell 2010 Arlington Ave Rockford IL 61107 United States;X-APPLE-RADIUS=500;X-TITLE=2010 Arlington Ave:geo:-89.0667579,42.2810888
END:VEVENT
BEGIN:VEVENT
DTSTART;TZID=America/Chicago:20260723T183000
DTEND;TZID=America/Chicago:20260723T200000
DTSTAMP:20260421T010006
CREATED:20260415T232441Z
LAST-MODIFIED:20260421T044555Z
UID:10000901-1784831400-1784836800@livemusicbox.net
SUMMARY:Roselle Plaza Summer Concert Series 2026 - Disco Circus
DESCRIPTION:2026 Plaza Concert Series featuring Disco Circus on Thursday\, July 23 in Downtown Roselle. Food vendors: Dave’s Holy Smokes BBQ – Panzi’z – Delish Cakes\, Pollyanna Brewery – Lynfred Winery – 1913 Restaurant & Bar. Thursdays 6:30-8:00pm – Sponsored by Roselle Park District\, Village of Roselle\, and Itasca Bank & Trust Co.
URL:https://livemusicbox.net/concert/2026-plaza-concert-series-disco-circus/
LOCATION:Roselle Concert Series Petal Plaza\, Petal Plaza Downtown Roselle\, Roselle\, IL\, 60172\, United States
CATEGORIES:Dance,Dance Rock,Disco
ATTACH;FMTTYPE=image/jpeg:https://livemusicbox.net/wp-content/uploads/2026/04/Disco-Circus-Concert-Logo-250.jpg
GEO:41.9822406;-88.0773796
X-APPLE-STRUCTURED-LOCATION;VALUE=URI;X-ADDRESS=Roselle Concert Series Petal Plaza Petal Plaza Downtown Roselle Roselle IL 60172 United States;X-APPLE-RADIUS=500;X-TITLE=Petal Plaza Downtown Roselle:geo:-88.0773796,41.9822406
END:VEVENT
BEGIN:VEVENT
DTSTART;TZID=America/Chicago:20260723T190000
DTEND;TZID=America/Chicago:20260723T203000
DTSTAMP:20260421T010006
CREATED:20260415T163228Z
LAST-MODIFIED:20260421T044054Z
UID:10000726-1784833200-1784838600@livemusicbox.net
SUMMARY:Algonquin Summer Concert Series 2026 - Brass From the Past
DESCRIPTION:Not only is Brass from the Past rated one of Chicago’s top cover bands for the hits of Motown\, pop\, jazz\, R&B\, soul\, rock\, and funk\, but it’s the HOTTEST horn band in the Midwest! Let your guests enjoy their evening listening to this electrifying.
URL:https://livemusicbox.net/concert/summer-concerts-in-the-park-brass-from-the-past/
LOCATION:Algonquin Concert Towne Park\, 100 Jefferson St\, Algonquin\, IL\, 60102\, United States
CATEGORIES: Motown,Concert in the Park,Jazz,Pop,R&B/Soul,Rock
ATTACH;FMTTYPE=image/jpeg:https://livemusicbox.net/wp-content/uploads/2026/04/Brass-From-the-Past-250.jpg
GEO:42.1684128;-88.2950714
X-APPLE-STRUCTURED-LOCATION;VALUE=URI;X-ADDRESS=Algonquin Concert Towne Park 100 Jefferson St Algonquin IL 60102 United States;X-APPLE-RADIUS=500;X-TITLE=100 Jefferson St:geo:-88.2950714,42.1684128
END:VEVENT
BEGIN:VEVENT
DTSTART;TZID=America/Chicago:20260723T190000
DTEND;TZID=America/Chicago:20260723T210000
DTSTAMP:20260421T010006
CREATED:20260415T172945Z
LAST-MODIFIED:20260420T185310Z
UID:10000744-1784833200-1784840400@livemusicbox.net
SUMMARY:Hoffman Estates Summer Sounds On the Green 2026 - Mariachi Universitário
DESCRIPTION:Summer Sounds on the Green 2026 at Virginia Mary Hayter Village Green • 5510 Prairie Stone Parkway • Hoffman Estates\, IL (across from the Now Arena). ALL EVENTS ARE FREE AND START AT 7PM. This vibrant Latin band brings a mix of salsa\, merengue\, cumbia\, cha-cha and boleros to the stage.
URL:https://livemusicbox.net/concert/hoffman-estates-summer-sounds-on-the-green-2026-mariachi-universitario/
LOCATION:Hoffman Estates Village Green\, 5510 Prairie Stone Pkwy\, Hoffman Estates\, IL\, 60169\, United States
CATEGORIES:Concert in the Park
GEO:42.0705846;-88.2159943
X-APPLE-STRUCTURED-LOCATION;VALUE=URI;X-ADDRESS=Hoffman Estates Village Green 5510 Prairie Stone Pkwy Hoffman Estates IL 60169 United States;X-APPLE-RADIUS=500;X-TITLE=5510 Prairie Stone Pkwy:geo:-88.2159943,42.0705846
END:VEVENT
BEGIN:VEVENT
DTSTART;TZID=America/Chicago:20260724T190000
DTEND;TZID=America/Chicago:20260724T210000
DTSTAMP:20260421T010006
CREATED:20260414T160715Z
LAST-MODIFIED:20260420T163340Z
UID:10000681-1784919600-1784926800@livemusicbox.net
SUMMARY:Fox Lake Friday Night Summer Concert Series 2026 - Holiday Heatwave w/Logan Ramey
DESCRIPTION:Logan Ramey’s Tribute to Elvis is a show like no other. Presented with high energy\, audience interaction\, and respect. He is a performer that audiences will be sure to love! \n\n\nMulti award winning Elvis Tribute Artist\, Logan Ramey has recently been making his mark in the industry! Performing to sold out venues across the Midwest\, he has gained the respect of fans & colleagues alike. Even Elvis Presley’s step-brother has said “When I heard [Logan]… now if I close my eyes that’s Elvis. It touched my heart. The only person I ever heard sing like that was my brother\, and [Logan] was real close – SCARY\,  that’s how close it was.” \n\n\nIf you are looking for an authentic & respectful Tribute to Elvis. Look No Further.  \n\nMusic Market Memories at Lakefront Park! Market 5-8pm | Music 7-9pm. Theme: Holiday Heatwave featuring Logan Ramey.
URL:https://livemusicbox.net/concert/fox-lake-friday-night-summer-concert-series-2026-holiday-heatwave/
LOCATION:IL
CATEGORIES: Golden Oldies,Classic Rock,Concert in the Park,Rhythm & Blues,Rock
ATTACH;FMTTYPE=image/jpeg:https://livemusicbox.net/wp-content/uploads/2026/04/Logan-Remy-elvis-250.jpg
END:VEVENT
BEGIN:VEVENT
DTSTART;TZID=America/Chicago:20260724T190000
DTEND;TZID=America/Chicago:20260724T220000
DTSTAMP:20260421T010006
CREATED:20260415T173743Z
LAST-MODIFIED:20260421T043608Z
UID:10000763-1784919600-1784930400@livemusicbox.net
SUMMARY:J J Twigs Summer Concert Series 2026 - Focal Point
DESCRIPTION:Delivering a concert rock experience that will take you thru the best of the 70’s 80’ 90’s to hits of today. Focal Point features 5 talented musician’s with great chops\, strong harmonies and a passion to create a live performance experience..
URL:https://livemusicbox.net/concert/j-j-twigs-summer-concert-series-2026-focal-point-band/
LOCATION:JJ Twigs Wauconda\, 1200 N Rand Rd\, Wauconda\, IL\, 60084\, United States
CATEGORIES:Classic Rock,Concert in the Park,Rock
ATTACH;FMTTYPE=image/jpeg:https://livemusicbox.net/wp-content/uploads/2026/04/Focal-Point-250.jpg
GEO:42.277979;-88.1542974
X-APPLE-STRUCTURED-LOCATION;VALUE=URI;X-ADDRESS=JJ Twigs Wauconda 1200 N Rand Rd Wauconda IL 60084 United States;X-APPLE-RADIUS=500;X-TITLE=1200 N Rand Rd:geo:-88.1542974,42.277979
END:VEVENT
BEGIN:VEVENT
DTSTART;TZID=America/Chicago:20260725T143000
DTEND;TZID=America/Chicago:20260725T163000
DTSTAMP:20260421T010006
CREATED:20260415T183449Z
LAST-MODIFIED:20260421T042727Z
UID:10000801-1784989800-1784997000@livemusicbox.net
SUMMARY:Kief's Reef Summer Concert Series 2026 - Whiskey Devils Band
DESCRIPTION:Whiskey Devils light up the stage with a high-energy mix of country and rock hits\, delivering powerhouse vocals\, tight harmonies\, and nonstop crowd-pleasing tunes. Every show is a guaranteed good time filled with singing\, dancing\, and great music.
URL:https://livemusicbox.net/concert/kiefs-reef-2026-whiskey-devil-2/
LOCATION:Kiefs Reef\, 3505 S. Wright Road\, McHenry\, IL\, 60050\, United States
CATEGORIES:Concert in the Park,Country,Country Rock,Rock
ATTACH;FMTTYPE=image/jpeg:https://livemusicbox.net/wp-content/uploads/2026/04/Whiskey-Devils-Band-250.jpg
GEO:42.2791833;-88.2286689
X-APPLE-STRUCTURED-LOCATION;VALUE=URI;X-ADDRESS=Kiefs Reef 3505 S. Wright Road McHenry IL 60050 United States;X-APPLE-RADIUS=500;X-TITLE=3505 S. Wright Road:geo:-88.2286689,42.2791833
END:VEVENT
BEGIN:VEVENT
DTSTART;TZID=America/Chicago:20260725T180000
DTEND;TZID=America/Chicago:20260725T210000
DTSTAMP:20260421T010006
CREATED:20260415T173743Z
LAST-MODIFIED:20260421T041742Z
UID:10000764-1785002400-1785013200@livemusicbox.net
SUMMARY:J J Twigs Summer Concert Series 2026 - Justin Wallace
DESCRIPTION:At just 23 years old\, this talented Johnsburg\, IL. native has already achieved remarkable milestones in his music career. Starting at the age of 17\, Justin has honed his skills and now he’s sharing the stage with renowned artists like David Cook\, winner of American Idol\, and AGT’s very own Mitch Rossell. \nIf you’re looking for a night out filled with great music\, you won’t want to miss Justin’s performances at local venues . With his versatile repertoire spanning across Country\, Rock\, Pop\, and Alternative genres\, there’s something for everyone to enjoy.
URL:https://livemusicbox.net/concert/j-j-twigs-summer-concert-series-2026-justin-wallace/
LOCATION:JJ Twigs Wauconda\, 1200 N Rand Rd\, Wauconda\, IL\, 60084\, United States
CATEGORIES:Concert in the Park,Country,Country Rock,Rock
ATTACH;FMTTYPE=image/jpeg:https://livemusicbox.net/wp-content/uploads/2026/04/Justin-Wallace-250.jpg
GEO:42.277979;-88.1542974
X-APPLE-STRUCTURED-LOCATION;VALUE=URI;X-ADDRESS=JJ Twigs Wauconda 1200 N Rand Rd Wauconda IL 60084 United States;X-APPLE-RADIUS=500;X-TITLE=1200 N Rand Rd:geo:-88.1542974,42.277979
END:VEVENT
END:VCALENDAR