BEGIN:VCALENDAR
VERSION:2.0
PRODID:-//Live Music Box - ECPv6.15.20//NONSGML v1.0//EN
CALSCALE:GREGORIAN
METHOD:PUBLISH
X-WR-CALNAME:Live Music Box
X-ORIGINAL-URL:https://livemusicbox.net
X-WR-CALDESC:Events for Live Music Box
REFRESH-INTERVAL;VALUE=DURATION:PT1H
X-Robots-Tag:noindex
X-PUBLISHED-TTL:PT1H
BEGIN:VTIMEZONE
TZID:America/Chicago
BEGIN:DAYLIGHT
TZOFFSETFROM:-0600
TZOFFSETTO:-0500
TZNAME:CDT
DTSTART:20250309T080000
END:DAYLIGHT
BEGIN:STANDARD
TZOFFSETFROM:-0500
TZOFFSETTO:-0600
TZNAME:CST
DTSTART:20251102T070000
END:STANDARD
BEGIN:DAYLIGHT
TZOFFSETFROM:-0600
TZOFFSETTO:-0500
TZNAME:CDT
DTSTART:20260308T080000
END:DAYLIGHT
BEGIN:STANDARD
TZOFFSETFROM:-0500
TZOFFSETTO:-0600
TZNAME:CST
DTSTART:20261101T070000
END:STANDARD
BEGIN:DAYLIGHT
TZOFFSETFROM:-0600
TZOFFSETTO:-0500
TZNAME:CDT
DTSTART:20270314T080000
END:DAYLIGHT
BEGIN:STANDARD
TZOFFSETFROM:-0500
TZOFFSETTO:-0600
TZNAME:CST
DTSTART:20271107T070000
END:STANDARD
END:VTIMEZONE
BEGIN:VEVENT
DTSTART;TZID=America/Chicago:20260625T190000
DTEND;TZID=America/Chicago:20260625T203000
DTSTAMP:20260421T195025
CREATED:20260411T201837Z
LAST-MODIFIED:20260411T201837Z
UID:10000664-1782414000-1782419400@livemusicbox.net
SUMMARY:Algonquin's Summer Concert Series 2026 - ARRA
DESCRIPTION:ARRA (American Rock “n’ Roll Association) has been delivering the ultimate classic rock experience to Chicagoland audiences for over 35 years. As one of the most enduring and celebrated classic rock tributes in the Midwest\, they’ve built a loyal following by faithfully recreating the biggest rock hits of all time — 100% live\, with no backing tracks. In an era where many bands rely on pre-recorded support\, ARRA keeps it real with pure\, live musicianship.
URL:https://livemusicbox.net/concert/algonquins-summer-concert-series-2026-arra/
LOCATION:Algonquin Concert Towne Park\, 100 Jefferson St\, Algonquin\, IL\, 60102\, United States
CATEGORIES:Classic Rock,Concert in the Park,Pop,Rock
ATTACH;FMTTYPE=image/jpeg:https://livemusicbox.net/wp-content/uploads/2026/04/Arra-Classic-Rock-250.jpg
GEO:42.1684128;-88.2950714
X-APPLE-STRUCTURED-LOCATION;VALUE=URI;X-ADDRESS=Algonquin Concert Towne Park 100 Jefferson St Algonquin IL 60102 United States;X-APPLE-RADIUS=500;X-TITLE=100 Jefferson St:geo:-88.2950714,42.1684128
END:VEVENT
BEGIN:VEVENT
DTSTART;TZID=America/Chicago:20260625T183000
DTEND;TZID=America/Chicago:20260625T200000
DTSTAMP:20260421T195025
CREATED:20260415T232441Z
LAST-MODIFIED:20260421T182445Z
UID:10000899-1782412200-1782417600@livemusicbox.net
SUMMARY:Roselle Plaza Summer Concert Series 2026 - Trabuco
DESCRIPTION:2026 Plaza Concert Series featuring Trabuco (with Salsa Dancing) on Thursday\, June 25 in Downtown Roselle. Food vendors: My Cocina – Serna’s Grill – Delish Cakes\, Pollyanna Brewery – Lynfred Winery – 1913 Restaurant & Bar. Thursdays 6:30-8:00pm – Sponsored by Roselle Park District\, Village of Roselle\, and Itasca Bank & Trust Co.
URL:https://livemusicbox.net/concert/2026-plaza-concert-series-trabuco/
LOCATION:Roselle Concert Series Petal Plaza\, Petal Plaza Downtown Roselle\, Roselle\, IL\, 60172\, United States
CATEGORIES:Concert in the Park
GEO:41.9822406;-88.0773796
X-APPLE-STRUCTURED-LOCATION;VALUE=URI;X-ADDRESS=Roselle Concert Series Petal Plaza Petal Plaza Downtown Roselle Roselle IL 60172 United States;X-APPLE-RADIUS=500;X-TITLE=Petal Plaza Downtown Roselle:geo:-88.0773796,41.9822406
END:VEVENT
BEGIN:VEVENT
DTSTART;TZID=America/Chicago:20260625T180000
DTEND;TZID=America/Chicago:20260625T200000
DTSTAMP:20260421T195025
CREATED:20260415T225104Z
LAST-MODIFIED:20260421T054330Z
UID:10000858-1782410400-1782417600@livemusicbox.net
SUMMARY:Rhythm of the Lake Kenosha Concert Series 2026 - The Roundabouts
DESCRIPTION:Americana Band featuring Rick Branch\, Terry Peterson\, Chris Sipos\, Bill Taylor and Greg Diethrich. Enjoy live music with The Roundabouts as part of the Rhythm on the Lake series at Old Settlers Park. Presented by Kenosha County Parks every Thursday 6-8 PM.
URL:https://livemusicbox.net/concert/rhythm-on-the-lake-the-roundabouts/
LOCATION:Kenosha Old Settlers Park\, 24100 75th Street\, Salem\, WI\, 53170\, United States
CATEGORIES:American Folk,American Rock,Americana,Concert in the Park,Rock
ATTACH;FMTTYPE=image/jpeg:https://livemusicbox.net/wp-content/uploads/2026/04/Roundabouts-Kenosha-250.jpg
GEO:42.5692257;-88.0977083
X-APPLE-STRUCTURED-LOCATION;VALUE=URI;X-ADDRESS=Kenosha Old Settlers Park 24100 75th Street Salem WI 53170 United States;X-APPLE-RADIUS=500;X-TITLE=24100 75th Street:geo:-88.0977083,42.5692257
END:VEVENT
BEGIN:VEVENT
DTSTART;TZID=America/Chicago:20260624T180000
DTEND;TZID=America/Chicago:20260624T200000
DTSTAMP:20260421T195025
CREATED:20260413T163614Z
LAST-MODIFIED:20260421T182734Z
UID:10000668-1782324000-1782331200@livemusicbox.net
SUMMARY:Bristol Woods Summer Concert Series 2026 - The Thompson Duo
DESCRIPTION:The Thompson Duo is a husband and wife union founded through music. A career that spans two plus decades professionally and\, perform over 150 shows annually. We have performed for crowds ranging from 50 to 15\,000 plus.
URL:https://livemusicbox.net/concert/bristol-woodstock-3/
LOCATION:Bristol Woodstock Woods Park\, 9800 County Hwy M B\, Bristol\, WI\, 53104\, United States
CATEGORIES:Acoustic Classic Rock,Classic Rock,Concert in the Park,Country
ATTACH;FMTTYPE=image/jpeg:https://livemusicbox.net/wp-content/uploads/2026/04/The-Thompson-Duo-250.jpg
GEO:42.5338136;-88.0069783
X-APPLE-STRUCTURED-LOCATION;VALUE=URI;X-ADDRESS=Bristol Woodstock Woods Park 9800 County Hwy M B Bristol WI 53104 United States;X-APPLE-RADIUS=500;X-TITLE=9800 County Hwy M B:geo:-88.0069783,42.5338136
END:VEVENT
BEGIN:VEVENT
DTSTART;TZID=America/Chicago:20260623T190000
DTEND;TZID=America/Chicago:20260623T203000
DTSTAMP:20260421T195025
CREATED:20260403T164100Z
LAST-MODIFIED:20260403T170718Z
UID:10000656-1782241200-1782246600@livemusicbox.net
SUMMARY:Franklin Park Summer Concert  2026 with Abby Kay Band
DESCRIPTION:The Abby Kay Band plays with contagious energy and connects with any type of audience. Abby Kay provides soulful vocals with an edge and the band brings the perfect blend of searing guitar and a rockin’ rhythm section that keeps the boots stomping and the crowd singing along.  Rock\, country\, blues\, and pop blend together seamlessly for a one-of-a-kind show you won’t catch anywhere else. This authentic and talented band promises to keep live and original music alive.
URL:https://livemusicbox.net/concert/franklin-park-summer-concert-with-abby-kay-band/
LOCATION:Franklin Park North Park Baseball Fields\, 10040 Addison Avenue\, Franklin Park\, IL\, 60131\, United States
CATEGORIES:Blues. Country,Concert in the Park,Pop,Rock
ATTACH;FMTTYPE=image/jpeg:https://livemusicbox.net/wp-content/uploads/2025/04/Abby-Kay-Band-250.jpg
GEO:41.9450275;-87.8767621
X-APPLE-STRUCTURED-LOCATION;VALUE=URI;X-ADDRESS=Franklin Park North Park Baseball Fields 10040 Addison Avenue Franklin Park IL 60131 United States;X-APPLE-RADIUS=500;X-TITLE=10040 Addison Avenue:geo:-87.8767621,41.9450275
END:VEVENT
BEGIN:VEVENT
DTSTART;TZID=America/Chicago:20260623T180000
DTEND;TZID=America/Chicago:20260623T200000
DTSTAMP:20260421T195025
CREATED:20260415T231757Z
LAST-MODIFIED:20260421T182958Z
UID:10000887-1782237600-1782244800@livemusicbox.net
SUMMARY:Rockford Jams Summer Concert Series 2026  - Phantom Regiment
DESCRIPTION:Opening performances begin at 6 PM; Headliners at 7 PM. Part of the 2026 Rockford Jams series.
URL:https://livemusicbox.net/concert/phantom-regiment/
LOCATION:Rockford Sinnissippi Music Shell\, 2010 Arlington Ave\, Rockford\, IL\, 61107\, United States
CATEGORIES:Concert in the Park
GEO:42.2810888;-89.0667579
X-APPLE-STRUCTURED-LOCATION;VALUE=URI;X-ADDRESS=Rockford Sinnissippi Music Shell 2010 Arlington Ave Rockford IL 61107 United States;X-APPLE-RADIUS=500;X-TITLE=2010 Arlington Ave:geo:-89.0667579,42.2810888
END:VEVENT
BEGIN:VEVENT
DTSTART;TZID=America/Chicago:20260621T143000
DTEND;TZID=America/Chicago:20260621T143000
DTSTAMP:20260421T195025
CREATED:20260415T183404Z
LAST-MODIFIED:20260421T183205Z
UID:10000788-1782052200-1782052200@livemusicbox.net
SUMMARY:Kief's Reef Summer Concert Series 2026 -Whiskey Devil
DESCRIPTION:Whiskey Devils light up the stage with a high-energy mix of country and rock hits\, delivering powerhouse vocals\, tight harmonies\, and nonstop crowd-pleasing tunes. Every show is a guaranteed good time filled with singing\, dancing\, and great music.
URL:https://livemusicbox.net/concert/kiefs-reef-2026-whiskey-devil/
LOCATION:Kiefs Reef\, 3505 S. Wright Road\, McHenry\, IL\, 60050\, United States
CATEGORIES:Acoustic Rock,Concert in the Park,Country,Rock
ATTACH;FMTTYPE=image/jpeg:https://livemusicbox.net/wp-content/uploads/2026/04/Whiskey-Devils-Band-250.jpg
GEO:42.2791833;-88.2286689
X-APPLE-STRUCTURED-LOCATION;VALUE=URI;X-ADDRESS=Kiefs Reef 3505 S. Wright Road McHenry IL 60050 United States;X-APPLE-RADIUS=500;X-TITLE=3505 S. Wright Road:geo:-88.2286689,42.2791833
END:VEVENT
BEGIN:VEVENT
DTSTART;TZID=America/Chicago:20260620T190000
DTEND;TZID=America/Chicago:20260620T190000
DTSTAMP:20260421T195025
CREATED:20260415T230602Z
LAST-MODIFIED:20260415T230839Z
UID:10000870-1781982000-1781982000@livemusicbox.net
SUMMARY:Take it Easy – Eagles Tribute
DESCRIPTION:Phoenix Park Bandshell
URL:https://livemusicbox.net/concert/take-it-easy-eagles-tribute/
END:VEVENT
BEGIN:VEVENT
DTSTART;TZID=America/Chicago:20260620T143000
DTEND;TZID=America/Chicago:20260620T143000
DTSTAMP:20260421T195025
CREATED:20260415T222518Z
LAST-MODIFIED:20260415T222756Z
UID:10000833-1781965800-1781965800@livemusicbox.net
SUMMARY:Karla And The Phat Cats
DESCRIPTION:Karla And The Phat Cats- Dance Rock & Roll
URL:https://livemusicbox.net/concert/karla-and-the-phat-cats/
CATEGORIES:Dance Rock
END:VEVENT
BEGIN:VEVENT
DTSTART;TZID=America/Chicago:20260620T143000
DTEND;TZID=America/Chicago:20260620T143000
DTSTAMP:20260421T195025
CREATED:20260415T183404Z
LAST-MODIFIED:20260416T045022Z
UID:10000787-1781965800-1781965800@livemusicbox.net
SUMMARY:Kief's Reef Summer Concert Series 2026 - Karla And The Phat Cats
DESCRIPTION:Kief’s Reef
URL:https://livemusicbox.net/concert/kiefs-reef-2026-karla-and-the-phat-cats/
END:VEVENT
BEGIN:VEVENT
DTSTART;TZID=America/Chicago:20260619T190000
DTEND;TZID=America/Chicago:20260619T210000
DTSTAMP:20260421T195025
CREATED:20260414T160714Z
LAST-MODIFIED:20260420T165933Z
UID:10000678-1781895600-1781902800@livemusicbox.net
SUMMARY:Fox Lake Friday Night Summer Concert Series 2026 - The Rainbow Lounge
DESCRIPTION:Simply Elton is not just dressing up in a crazy costume and mimicking a pop icon. It is master musician Brian Harris bringing the music of Sir Elton John to life – a true concert experience of some of the greatest rock & roll music ever created. Energy\, costuming\, brilliant virtuoso piano playing and spot-on Elton vocals…..    it’s all there. Whether a full band performance backed by stellar musicians or a tour-de-force solo engagement\, Simply Elton gives audiences EVERYTHING they expect from an Elton John concert \nMusic Market Memories at Lakefront Park! Market 5-8pm | Music 7-9pm. Theme: The Rainbow Lounge featuring Simply Elton.
URL:https://livemusicbox.net/concert/fox-lake-friday-night-summer-concert-series-2026-the-rainbow-lounge/
LOCATION:Fox Lake Lakefront Park\, 10 Riverview Avenue\, Fox Lake\, IL\, 60020\, United States
CATEGORIES:Classic Rock,Pop,Rock
ATTACH;FMTTYPE=image/jpeg:https://livemusicbox.net/wp-content/uploads/2026/04/Simply-Elton-250.jpg
GEO:42.4023891;-88.1835548
X-APPLE-STRUCTURED-LOCATION;VALUE=URI;X-ADDRESS=Fox Lake Lakefront Park 10 Riverview Avenue Fox Lake IL 60020 United States;X-APPLE-RADIUS=500;X-TITLE=10 Riverview Avenue:geo:-88.1835548,42.4023891
END:VEVENT
BEGIN:VEVENT
DTSTART;TZID=America/Chicago:20260619T180000
DTEND;TZID=America/Chicago:20260619T210000
DTSTAMP:20260421T195025
CREATED:20260415T173742Z
LAST-MODIFIED:20260416T004107Z
UID:10000758-1781892000-1781902800@livemusicbox.net
SUMMARY:J J Twigs Summer Concert Series 2026 - Voyage Band
DESCRIPTION:JJ Twig’s Pizza & Pub
URL:https://livemusicbox.net/concert/j-j-twigs-summer-concert-series-2026-voyage-band/
LOCATION:JJ Twigs Wauconda\, 1200 N Rand Rd\, Wauconda\, IL\, 60084\, United States
CATEGORIES:Concert in the Park
GEO:42.277979;-88.1542974
X-APPLE-STRUCTURED-LOCATION;VALUE=URI;X-ADDRESS=JJ Twigs Wauconda 1200 N Rand Rd Wauconda IL 60084 United States;X-APPLE-RADIUS=500;X-TITLE=1200 N Rand Rd:geo:-88.1542974,42.277979
END:VEVENT
BEGIN:VEVENT
DTSTART;TZID=America/Chicago:20260618T190000
DTEND;TZID=America/Chicago:20260618T210000
DTSTAMP:20260421T195025
CREATED:20260415T172943Z
LAST-MODIFIED:20260420T190626Z
UID:10000740-1781809200-1781816400@livemusicbox.net
SUMMARY:Hoffman Estates Summer Sounds On the Green 2026 - Eric Case Band
DESCRIPTION:Summer Sounds on the Green 2026 at Virginia Mary Hayter Village Green • 5510 Prairie Stone Parkway • Hoffman Estates\, IL (across from the Now Arena). ALL EVENTS ARE FREE AND START AT 7PM. A signature sound that weaves together the raw energy of rock-and-roll with the lyrical depth of the country tradition.
URL:https://livemusicbox.net/concert/hoffman-estates-summer-sounds-on-the-green-2026-eric-case-band/
LOCATION:Hoffman Estates Village Green\, 5510 Prairie Stone Pkwy\, Hoffman Estates\, IL\, 60169\, United States
CATEGORIES:American Rock,Concert in the Park
ATTACH;FMTTYPE=image/jpeg:https://livemusicbox.net/wp-content/uploads/2026/04/Eric-Case-Band-250.jpg
GEO:42.0705846;-88.2159943
X-APPLE-STRUCTURED-LOCATION;VALUE=URI;X-ADDRESS=Hoffman Estates Village Green 5510 Prairie Stone Pkwy Hoffman Estates IL 60169 United States;X-APPLE-RADIUS=500;X-TITLE=5510 Prairie Stone Pkwy:geo:-88.2159943,42.0705846
END:VEVENT
BEGIN:VEVENT
DTSTART;TZID=America/Chicago:20260618T190000
DTEND;TZID=America/Chicago:20260618T203000
DTSTAMP:20260421T195025
CREATED:20260411T201437Z
LAST-MODIFIED:20260411T203645Z
UID:10000663-1781809200-1781814600@livemusicbox.net
SUMMARY:Algonquin Summer Concert Series 2026 - Elton Jeff and the Honky Cats
DESCRIPTION:Elton Jeff & The Honky Cats is Chicagoland and Northwest Indiana’s premier Elton John tribute band!!! \nElton Jeff & The Honky Cats is not just another tribute act. It’s a musical celebration spanning over six decades\, featuring a review of Elton John’s chart-topping favorites that have been embraced by multiple generations. Their performance gives music enthusiasts a well-crafted experience featuring the heaviest hitters from the Elton John catalog.
URL:https://livemusicbox.net/concert/algonquin-summer-concerts-2026-elton-jeff-and-the-honky-cats/
LOCATION:Algonquin Concert Towne Park\, 100 Jefferson St\, Algonquin\, IL\, 60102\, United States
CATEGORIES:Classic Rock,Concert in the Park,Pop,Rock
ATTACH;FMTTYPE=image/jpeg:https://livemusicbox.net/wp-content/uploads/2026/04/Elton-Jeff-and-Honky-Cats-250.jpg
GEO:42.1684128;-88.2950714
X-APPLE-STRUCTURED-LOCATION;VALUE=URI;X-ADDRESS=Algonquin Concert Towne Park 100 Jefferson St Algonquin IL 60102 United States;X-APPLE-RADIUS=500;X-TITLE=100 Jefferson St:geo:-88.2950714,42.1684128
END:VEVENT
BEGIN:VEVENT
DTSTART;TZID=America/Chicago:20260618T183000
DTEND;TZID=America/Chicago:20260618T183000
DTSTAMP:20260421T195025
CREATED:20260415T222518Z
LAST-MODIFIED:20260415T222756Z
UID:10000832-1781807400-1781807400@livemusicbox.net
SUMMARY:Ryan Budyak
DESCRIPTION:Ryan Budyak- Alternative Rock
URL:https://livemusicbox.net/concert/ryan-budyak/
CATEGORIES:Alternative Rock
END:VEVENT
BEGIN:VEVENT
DTSTART;TZID=America/Chicago:20260618T183000
DTEND;TZID=America/Chicago:20260618T183000
DTSTAMP:20260421T195025
CREATED:20260415T183404Z
LAST-MODIFIED:20260416T045108Z
UID:10000786-1781807400-1781807400@livemusicbox.net
SUMMARY:Kief's Reef Summer Concert Series 2026 - Ryan Budyak
DESCRIPTION:Kief’s Reef
URL:https://livemusicbox.net/concert/kiefs-reef-2026-ryan-budyak/
END:VEVENT
BEGIN:VEVENT
DTSTART;TZID=America/Chicago:20260618T180000
DTEND;TZID=America/Chicago:20260618T200000
DTSTAMP:20260421T195025
CREATED:20260415T231757Z
LAST-MODIFIED:20260416T041101Z
UID:10000886-1781805600-1781812800@livemusicbox.net
SUMMARY:Rockford Jams Summer Concert Series - Blooze Brothers
DESCRIPTION:Opening performances begin at 6 PM; Headliners at 7 PM. Part of the 2026 Rockford Jams series.
URL:https://livemusicbox.net/concert/blooze-brothers/
CATEGORIES:Concert in the Park
END:VEVENT
BEGIN:VEVENT
DTSTART;TZID=America/Chicago:20260618T180000
DTEND;TZID=America/Chicago:20260618T200000
DTSTAMP:20260421T195025
CREATED:20260415T225104Z
LAST-MODIFIED:20260421T054756Z
UID:10000857-1781805600-1781812800@livemusicbox.net
SUMMARY:Rhythm of the Lake Kenosha Concert Series 2026 - Marcya Danielle
DESCRIPTION:Enjoy live music with Marcya Danielle as part of the Rhythm on the Lake series at Old Settlers Park. Presented by Kenosha County Parks every Thursday 6-8 PM.
URL:https://livemusicbox.net/concert/rhythm-on-the-lake-marcya-danielle/
LOCATION:Kenosha Old Settlers Park\, 24100 75th Street\, Salem\, WI\, 53170\, United States
CATEGORIES:Concert in the Park
GEO:42.5692257;-88.0977083
X-APPLE-STRUCTURED-LOCATION;VALUE=URI;X-ADDRESS=Kenosha Old Settlers Park 24100 75th Street Salem WI 53170 United States;X-APPLE-RADIUS=500;X-TITLE=24100 75th Street:geo:-88.0977083,42.5692257
END:VEVENT
BEGIN:VEVENT
DTSTART;TZID=America/Chicago:20260617T190000
DTEND;TZID=America/Chicago:20260617T203000
DTSTAMP:20260421T195025
CREATED:20260403T164059Z
LAST-MODIFIED:20260403T171014Z
UID:10000655-1781722800-1781728200@livemusicbox.net
SUMMARY:Music At the Mansion with Abby Kay Band
DESCRIPTION:The Abby Kay Band plays with contagious energy and connects with any type of audience. Abby Kay provides soulful vocals with an edge and the band brings the perfect blend of searing guitar and a rockin’ rhythm section that keeps the boots stomping and the crowd singing along.  Rock\, country\, blues\, and pop blend together seamlessly for a one-of-a-kind show you won’t catch anywhere else. This authentic and talented band promises to keep live and original music alive.
URL:https://livemusicbox.net/concert/music-at-the-mansion-with-abby-kay-band/
LOCATION:Music at the Mansion Ellwood House Museum\, 420 Linden Place\, Dekalb\, IL\, 60115\, United States
CATEGORIES:Blues. Country,Pop,Rock
ATTACH;FMTTYPE=image/jpeg:https://livemusicbox.net/wp-content/uploads/2025/04/Abby-Kay-Band-250.jpg
GEO:41.9354953;-88.7534834
X-APPLE-STRUCTURED-LOCATION;VALUE=URI;X-ADDRESS=Music at the Mansion Ellwood House Museum 420 Linden Place Dekalb IL 60115 United States;X-APPLE-RADIUS=500;X-TITLE=420 Linden Place:geo:-88.7534834,41.9354953
END:VEVENT
BEGIN:VEVENT
DTSTART;TZID=America/Chicago:20260617T180000
DTEND;TZID=America/Chicago:20260617T200000
DTSTAMP:20260421T195025
CREATED:20260413T163614Z
LAST-MODIFIED:20260417T024200Z
UID:10000667-1781719200-1781726400@livemusicbox.net
SUMMARY:Bristol Wood Summer Concert Series 2026 - The Rough Cut
DESCRIPTION:The Rough Cut plays a wide variety of music from many different genres. Country\, rock\, folk\, pop in
URL:https://livemusicbox.net/concert/bristol-woodstock-2/
CATEGORIES:Concert in the Park,Country,Folk,Pop,Rock,Rock Folk
END:VEVENT
BEGIN:VEVENT
DTSTART;TZID=America/Chicago:20260616T180000
DTEND;TZID=America/Chicago:20260616T200000
DTSTAMP:20260421T195025
CREATED:20260415T231759Z
LAST-MODIFIED:20260416T035504Z
UID:10000897-1781632800-1781640000@livemusicbox.net
SUMMARY:Rockford Jams Summer Concert Series - Rockford Concert Band
DESCRIPTION:Opening performances begin at 6 PM; Headliners at 7 PM. Part of the 2026 Rockford Jams series. Multiple dates listed.
URL:https://livemusicbox.net/concert/rockford-concert-band/
CATEGORIES:Concert in the Park
END:VEVENT
BEGIN:VEVENT
DTSTART;TZID=America/Chicago:20260614T143000
DTEND;TZID=America/Chicago:20260614T143000
DTSTAMP:20260421T195025
CREATED:20260415T222518Z
LAST-MODIFIED:20260415T222756Z
UID:10000831-1781447400-1781447400@livemusicbox.net
SUMMARY:My 80's Band
DESCRIPTION:My 80’s Band – Iconic 80’s Hits
URL:https://livemusicbox.net/concert/my-80s-band/
END:VEVENT
BEGIN:VEVENT
DTSTART;TZID=America/Chicago:20260614T143000
DTEND;TZID=America/Chicago:20260614T143000
DTSTAMP:20260421T195025
CREATED:20260415T183404Z
LAST-MODIFIED:20260416T045153Z
UID:10000785-1781447400-1781447400@livemusicbox.net
SUMMARY:Kief's Reef Summer Concert Series 2026 - My 80's Band
DESCRIPTION:Kief’s Reef
URL:https://livemusicbox.net/concert/kiefs-reef-2026-my-80s-band/
END:VEVENT
BEGIN:VEVENT
DTSTART;TZID=America/Chicago:20260614T140000
DTEND;TZID=America/Chicago:20260614T160000
DTSTAMP:20260421T195025
CREATED:20260415T145338Z
LAST-MODIFIED:20260415T200216Z
UID:10000723-1781445600-1781452800@livemusicbox.net
SUMMARY:American English at Franklin Park Fest 2026
DESCRIPTION:American English (Beatles Tribute) performing at the Franklin Park Fest Music Line-Up
URL:https://livemusicbox.net/concert/american-english-at-franklin-park-fest/
LOCATION:Franklin Park North Park Baseball Fields\, 10040 Addison Avenue\, Franklin Park\, IL\, 60131\, United States
CATEGORIES:Classic Rock,Festival,Pop,Rock
GEO:41.9450275;-87.8767621
X-APPLE-STRUCTURED-LOCATION;VALUE=URI;X-ADDRESS=Franklin Park North Park Baseball Fields 10040 Addison Avenue Franklin Park IL 60131 United States;X-APPLE-RADIUS=500;X-TITLE=10040 Addison Avenue:geo:-87.8767621,41.9450275
END:VEVENT
BEGIN:VEVENT
DTSTART;TZID=America/Chicago:20260614T120000
DTEND;TZID=America/Chicago:20260614T131500
DTSTAMP:20260421T195025
CREATED:20260415T145325Z
LAST-MODIFIED:20260415T200336Z
UID:10000721-1781438400-1781442900@livemusicbox.net
SUMMARY:1924 at Franklin Park Fest 2026
DESCRIPTION:1924 (Pop/Rock) performing at the Franklin Park Fest Music Line-Up
URL:https://livemusicbox.net/concert/1924-at-franklin-park-fest/
LOCATION:Franklin Park North Park Baseball Fields\, 10040 Addison Avenue\, Franklin Park\, IL\, 60131\, United States
CATEGORIES:Festival,Pop,Rock
GEO:41.9450275;-87.8767621
X-APPLE-STRUCTURED-LOCATION;VALUE=URI;X-ADDRESS=Franklin Park North Park Baseball Fields 10040 Addison Avenue Franklin Park IL 60131 United States;X-APPLE-RADIUS=500;X-TITLE=10040 Addison Avenue:geo:-87.8767621,41.9450275
END:VEVENT
BEGIN:VEVENT
DTSTART;TZID=America/Chicago:20260613T203000
DTEND;TZID=America/Chicago:20260613T223000
DTSTAMP:20260421T195025
CREATED:20260415T145324Z
LAST-MODIFIED:20260420T173841Z
UID:10000720-1781382600-1781389800@livemusicbox.net
SUMMARY:The Boy Band Night at Franklin Park Fest 2026
DESCRIPTION:With acts covering pop\, country\, funk\, rock\, Motown\, hip-hop\, Americana\, and more\, TRSE has built a brand that’s become synonymous with great nights and great memories. If you’ve booked—or attended—a TRSE show\, you already know: it’s handled. From identifying the perfect fit for your event to helping shape your lineup\, we offer a white glove experience every step of the way. Every TRSE artist brings more than just songs. These are seasoned performers with top-tier equipment\, expert showmanship\, and a clear commitment to exceeding expectations. Whether you need a band to emcee a wedding\, anchor a festival stage\, or pack a dance floor at a local bar\, TRSE will help you build the night people talk about for years to come.
URL:https://livemusicbox.net/concert/the-boy-band-night-at-franklin-park-fest/
LOCATION:Franklin Park North Park Baseball Fields\, 10040 Addison Avenue\, Franklin Park\, IL\, 60131\, United States
CATEGORIES: Motown,Americana,Country,Festival,Funk,Hip Hop,Rap,Rock
ATTACH;FMTTYPE=image/jpeg:https://livemusicbox.net/wp-content/uploads/2026/04/the-boy-band-night-250.jpg
GEO:41.9450275;-87.8767621
X-APPLE-STRUCTURED-LOCATION;VALUE=URI;X-ADDRESS=Franklin Park North Park Baseball Fields 10040 Addison Avenue Franklin Park IL 60131 United States;X-APPLE-RADIUS=500;X-TITLE=10040 Addison Avenue:geo:-87.8767621,41.9450275
END:VEVENT
BEGIN:VEVENT
DTSTART;TZID=America/Chicago:20260613T190000
DTEND;TZID=America/Chicago:20260613T190000
DTSTAMP:20260421T195025
CREATED:20260415T230602Z
LAST-MODIFIED:20260415T230839Z
UID:10000869-1781377200-1781377200@livemusicbox.net
SUMMARY:Cold Sweat and the Brew City Horns – Pop & Rock
DESCRIPTION:Phoenix Park Bandshell
URL:https://livemusicbox.net/concert/cold-sweat-and-the-brew-city-horns-pop-rock/
CATEGORIES:Pop,Rock
END:VEVENT
BEGIN:VEVENT
DTSTART;TZID=America/Chicago:20260613T174500
DTEND;TZID=America/Chicago:20260613T194500
DTSTAMP:20260421T195025
CREATED:20260415T145324Z
LAST-MODIFIED:20260420T174218Z
UID:10000719-1781372700-1781379900@livemusicbox.net
SUMMARY:Addicted To Love at Franklin Park Fest 2026
DESCRIPTION:Ready to experience the magic of Robert Palmer?\n\nAddicted To Love\, North America’s Premier Robert Palmer Tribute Band\, pays heartfelt homage to this legendary British singer\, performing Palmer’s classics in a spectacular show filled with non-stop hits. \n\nAddicted To Love (Robert Palmer/80’s ladies) performing at the Franklin Park Fest Music Line-Up
URL:https://livemusicbox.net/concert/addicted-to-love-at-franklin-park-fest/
LOCATION:Franklin Park North Park Baseball Fields\, 10040 Addison Avenue\, Franklin Park\, IL\, 60131\, United States
CATEGORIES:Classic Rock,Festival,Rock
ATTACH;FMTTYPE=image/jpeg:https://livemusicbox.net/wp-content/uploads/2026/04/Addicted-to-Love-Robert-Palmer-Tribute-Band-250.jpg
GEO:41.9450275;-87.8767621
X-APPLE-STRUCTURED-LOCATION;VALUE=URI;X-ADDRESS=Franklin Park North Park Baseball Fields 10040 Addison Avenue Franklin Park IL 60131 United States;X-APPLE-RADIUS=500;X-TITLE=10040 Addison Avenue:geo:-87.8767621,41.9450275
END:VEVENT
BEGIN:VEVENT
DTSTART;TZID=America/Chicago:20260613T153000
DTEND;TZID=America/Chicago:20260613T170000
DTSTAMP:20260421T195025
CREATED:20260415T145324Z
LAST-MODIFIED:20260420T174244Z
UID:10000718-1781364600-1781370000@livemusicbox.net
SUMMARY:One Of The Boyzz at Franklin Park Fest 2026
DESCRIPTION:Weaned on the hard-driving industrial-strength rock ‘n’ roll of Chicago’s Fox River Valley\, Buck has\, for decades\, traveled the same well-worn regional highways that eventually lifted Bob Seger\, John Mellencamp and Ted Nugent into the international spotlight. \nOne Of The Boyzz (Soulful Rock) performing at the Franklin Park Fest Music Line-Up
URL:https://livemusicbox.net/concert/one-of-the-boyzz-at-franklin-park-fest/
LOCATION:Franklin Park North Park Baseball Fields\, 10040 Addison Avenue\, Franklin Park\, IL\, 60131\, United States
CATEGORIES:Festival,Soulful Rock
ATTACH;FMTTYPE=image/jpeg:https://livemusicbox.net/wp-content/uploads/2026/04/One-of-These-Nights-250.jpg
GEO:41.9450275;-87.8767621
X-APPLE-STRUCTURED-LOCATION;VALUE=URI;X-ADDRESS=Franklin Park North Park Baseball Fields 10040 Addison Avenue Franklin Park IL 60131 United States;X-APPLE-RADIUS=500;X-TITLE=10040 Addison Avenue:geo:-87.8767621,41.9450275
END:VEVENT
BEGIN:VEVENT
DTSTART;TZID=America/Chicago:20260613T143000
DTEND;TZID=America/Chicago:20260613T143000
DTSTAMP:20260421T195025
CREATED:20260415T222505Z
LAST-MODIFIED:20260415T222741Z
UID:10000830-1781361000-1781361000@livemusicbox.net
SUMMARY:Leaving Scarlett
DESCRIPTION:Leaving Scarlett- High Energy Rock & Dance
URL:https://livemusicbox.net/concert/leaving-scarlett/
CATEGORIES:Dance,Rock
END:VEVENT
END:VCALENDAR