BEGIN:VCALENDAR
VERSION:2.0
PRODID:-//Live Music Box - ECPv6.15.20//NONSGML v1.0//EN
CALSCALE:GREGORIAN
METHOD:PUBLISH
X-WR-CALNAME:Live Music Box
X-ORIGINAL-URL:https://livemusicbox.net
X-WR-CALDESC:Events for Live Music Box
REFRESH-INTERVAL;VALUE=DURATION:PT1H
X-Robots-Tag:noindex
X-PUBLISHED-TTL:PT1H
BEGIN:VTIMEZONE
TZID:America/Chicago
BEGIN:DAYLIGHT
TZOFFSETFROM:-0600
TZOFFSETTO:-0500
TZNAME:CDT
DTSTART:20250309T080000
END:DAYLIGHT
BEGIN:STANDARD
TZOFFSETFROM:-0500
TZOFFSETTO:-0600
TZNAME:CST
DTSTART:20251102T070000
END:STANDARD
BEGIN:DAYLIGHT
TZOFFSETFROM:-0600
TZOFFSETTO:-0500
TZNAME:CDT
DTSTART:20260308T080000
END:DAYLIGHT
BEGIN:STANDARD
TZOFFSETFROM:-0500
TZOFFSETTO:-0600
TZNAME:CST
DTSTART:20261101T070000
END:STANDARD
BEGIN:DAYLIGHT
TZOFFSETFROM:-0600
TZOFFSETTO:-0500
TZNAME:CDT
DTSTART:20270314T080000
END:DAYLIGHT
BEGIN:STANDARD
TZOFFSETFROM:-0500
TZOFFSETTO:-0600
TZNAME:CST
DTSTART:20271107T070000
END:STANDARD
END:VTIMEZONE
BEGIN:VEVENT
DTSTART;TZID=America/Chicago:20260613T153000
DTEND;TZID=America/Chicago:20260613T170000
DTSTAMP:20260422T204813
CREATED:20260415T145324Z
LAST-MODIFIED:20260422T020554Z
UID:10000718-1781364600-1781370000@livemusicbox.net
SUMMARY:Franklin Park Fest 2026 - One Of The Boyzz
DESCRIPTION:Weaned on the hard-driving industrial-strength rock ‘n’ roll of Chicago’s Fox River Valley\, Buck has\, for decades\, traveled the same well-worn regional highways that eventually lifted Bob Seger\, John Mellencamp and Ted Nugent into the international spotlight. \nOne Of The Boyzz (Soulful Rock) performing at the Franklin Park Fest Music Line-Up
URL:https://livemusicbox.net/concert/one-of-the-boyzz-at-franklin-park-fest/
LOCATION:Franklin Park North Park Baseball Fields\, 10040 Addison Avenue\, Franklin Park\, IL\, 60131\, United States
CATEGORIES:Festival,Soulful Rock
ATTACH;FMTTYPE=image/jpeg:https://livemusicbox.net/wp-content/uploads/2026/04/One-of-These-Nights-250.jpg
GEO:41.9450275;-87.8767621
X-APPLE-STRUCTURED-LOCATION;VALUE=URI;X-ADDRESS=Franklin Park North Park Baseball Fields 10040 Addison Avenue Franklin Park IL 60131 United States;X-APPLE-RADIUS=500;X-TITLE=10040 Addison Avenue:geo:-87.8767621,41.9450275
END:VEVENT
END:VCALENDAR