BEGIN:VCALENDAR
VERSION:2.0
PRODID:-//Live Music Box - ECPv6.15.20//NONSGML v1.0//EN
CALSCALE:GREGORIAN
METHOD:PUBLISH
X-ORIGINAL-URL:https://livemusicbox.net
X-WR-CALDESC:Events for Live Music Box
REFRESH-INTERVAL;VALUE=DURATION:PT1H
X-Robots-Tag:noindex
X-PUBLISHED-TTL:PT1H
BEGIN:VTIMEZONE
TZID:America/Chicago
BEGIN:DAYLIGHT
TZOFFSETFROM:-0600
TZOFFSETTO:-0500
TZNAME:CDT
DTSTART:20250309T080000
END:DAYLIGHT
BEGIN:STANDARD
TZOFFSETFROM:-0500
TZOFFSETTO:-0600
TZNAME:CST
DTSTART:20251102T070000
END:STANDARD
BEGIN:DAYLIGHT
TZOFFSETFROM:-0600
TZOFFSETTO:-0500
TZNAME:CDT
DTSTART:20260308T080000
END:DAYLIGHT
BEGIN:STANDARD
TZOFFSETFROM:-0500
TZOFFSETTO:-0600
TZNAME:CST
DTSTART:20261101T070000
END:STANDARD
BEGIN:DAYLIGHT
TZOFFSETFROM:-0600
TZOFFSETTO:-0500
TZNAME:CDT
DTSTART:20270314T080000
END:DAYLIGHT
BEGIN:STANDARD
TZOFFSETFROM:-0500
TZOFFSETTO:-0600
TZNAME:CST
DTSTART:20271107T070000
END:STANDARD
END:VTIMEZONE
BEGIN:VEVENT
DTSTART;TZID=America/Chicago:20260611T203000
DTEND;TZID=America/Chicago:20260611T223000
DTSTAMP:20260422T171050
CREATED:20260415T145320Z
LAST-MODIFIED:20260422T023319Z
UID:10000713-1781209800-1781217000@livemusicbox.net
SUMMARY:Franklin Park Fest 2026 - Brass From The Past
DESCRIPTION:Not only is Brass from the Past rated one of Chicago’s top cover bands for the hits of Motown\, pop\, jazz\, R&B\, soul\, rock\, and funk\, but it’s the HOTTEST horn band in the Midwest! Let your guests enjoy their evening listening to this electrifying. \nBrass From The Past (Legends of Rock and Soul) performing at the Franklin Park Fest Music Line-Up
URL:https://livemusicbox.net/concert/brass-from-the-past-at-franklin-park-fest/
LOCATION:Franklin Park North Park Baseball Fields\, 10040 Addison Avenue\, Franklin Park\, IL\, 60131\, United States
CATEGORIES:Festival,Rock,Soul
ATTACH;FMTTYPE=image/jpeg:https://livemusicbox.net/wp-content/uploads/2026/04/Brass-From-the-Past-250.jpg
GEO:41.9450275;-87.8767621
X-APPLE-STRUCTURED-LOCATION;VALUE=URI;X-ADDRESS=Franklin Park North Park Baseball Fields 10040 Addison Avenue Franklin Park IL 60131 United States;X-APPLE-RADIUS=500;X-TITLE=10040 Addison Avenue:geo:-87.8767621,41.9450275
END:VEVENT
END:VCALENDAR