BEGIN:VCALENDAR
VERSION:2.0
PRODID:-//Live Music Box - ECPv6.15.20//NONSGML v1.0//EN
CALSCALE:GREGORIAN
METHOD:PUBLISH
X-ORIGINAL-URL:https://livemusicbox.net
X-WR-CALDESC:Events for Live Music Box
REFRESH-INTERVAL;VALUE=DURATION:PT1H
X-Robots-Tag:noindex
X-PUBLISHED-TTL:PT1H
BEGIN:VTIMEZONE
TZID:America/Chicago
BEGIN:DAYLIGHT
TZOFFSETFROM:-0600
TZOFFSETTO:-0500
TZNAME:CDT
DTSTART:20250309T080000
END:DAYLIGHT
BEGIN:STANDARD
TZOFFSETFROM:-0500
TZOFFSETTO:-0600
TZNAME:CST
DTSTART:20251102T070000
END:STANDARD
BEGIN:DAYLIGHT
TZOFFSETFROM:-0600
TZOFFSETTO:-0500
TZNAME:CDT
DTSTART:20260308T080000
END:DAYLIGHT
BEGIN:STANDARD
TZOFFSETFROM:-0500
TZOFFSETTO:-0600
TZNAME:CST
DTSTART:20261101T070000
END:STANDARD
BEGIN:DAYLIGHT
TZOFFSETFROM:-0600
TZOFFSETTO:-0500
TZNAME:CDT
DTSTART:20270314T080000
END:DAYLIGHT
BEGIN:STANDARD
TZOFFSETFROM:-0500
TZOFFSETTO:-0600
TZNAME:CST
DTSTART:20271107T070000
END:STANDARD
END:VTIMEZONE
BEGIN:VEVENT
DTSTART;TZID=America/Chicago:20260806T180000
DTEND;TZID=America/Chicago:20260806T200000
DTSTAMP:20260425T154114
CREATED:20260415T225106Z
LAST-MODIFIED:20260421T025533Z
UID:10000864-1786039200-1786046400@livemusicbox.net
SUMMARY:Rhythm of the Lake Kenosha Concert Series 2026 - Hindsight
DESCRIPTION:Enjoy live music with Hindsight as part of the Rhythm on the Lake series at Old Settlers Park. Presented by Kenosha County Parks every Thursday 6-8 PM.
URL:https://livemusicbox.net/concert/rhythm-on-the-lake-hindsight/
LOCATION:Kenosha Old Settlers Park\, 24100 75th Street\, Salem\, WI\, 53170\, United States
CATEGORIES:Classic Rock,Concert in the Park,Rock
ATTACH;FMTTYPE=image/jpeg:https://livemusicbox.net/wp-content/uploads/2026/04/Hindsight-250.jpg
GEO:42.5692257;-88.0977083
X-APPLE-STRUCTURED-LOCATION;VALUE=URI;X-ADDRESS=Kenosha Old Settlers Park 24100 75th Street Salem WI 53170 United States;X-APPLE-RADIUS=500;X-TITLE=24100 75th Street:geo:-88.0977083,42.5692257
END:VEVENT
BEGIN:VEVENT
DTSTART;TZID=America/Chicago:20260806T190000
DTEND;TZID=America/Chicago:20260806T203000
DTSTAMP:20260425T154114
CREATED:20260415T163228Z
LAST-MODIFIED:20260421T024507Z
UID:10000728-1786042800-1786048200@livemusicbox.net
SUMMARY:Algonquin Summer Concert Series 2026 - Jessie's Girl
DESCRIPTION:The crowds just get bigger and bigger. 2024’s most talked about 80’s band\, JESSIE’S GIRL\, takes 80’s fun to a higher level – A DANCE YOUR FACE OFF attitude! Every member has amazing musical roots and every song is embedded in the history of music.
URL:https://livemusicbox.net/concert/summer-concerts-in-the-park-jessies-girl/
LOCATION:Algonquin Concert Towne Park\, 100 Jefferson St\, Algonquin\, IL\, 60102\, United States
CATEGORIES:Classic Rock,Concert in the Park,Dance Rock,Pop,Rock
ATTACH;FMTTYPE=image/jpeg:https://livemusicbox.net/wp-content/uploads/2026/04/Jessies-Girl-Chciago-250.jpg
GEO:42.1684128;-88.2950714
X-APPLE-STRUCTURED-LOCATION;VALUE=URI;X-ADDRESS=Algonquin Concert Towne Park 100 Jefferson St Algonquin IL 60102 United States;X-APPLE-RADIUS=500;X-TITLE=100 Jefferson St:geo:-88.2950714,42.1684128
END:VEVENT
BEGIN:VEVENT
DTSTART;TZID=America/Chicago:20260807T190000
DTEND;TZID=America/Chicago:20260807T210000
DTSTAMP:20260425T154114
CREATED:20260414T160715Z
LAST-MODIFIED:20260417T183514Z
UID:10000683-1786129200-1786136400@livemusicbox.net
SUMMARY:Fox Lake Friday Night Summer Concert Series 2026 - Dog Days of Summer w Marty “Big Dog” Mercer
DESCRIPTION:A towering presence in both stature and sound\, Marty “Big Dog” Mercer is a commanding force in the modern blues scene. Inducted into the Chicago Blues Hall of Fame in 2016\, Mercer has spent nearly two decades delivering authentic\, high-energy Chicago blues and rock to audiences across the Midwest and beyond. \nKnown for his signature Southpaw Blues guitar style and a voice shaped by real-life experience\, Mercer blends aggressive\, soulful guitar work with lyrics that speak directly to the human condition. His powerful stage presence and larger-than-life personality draw audiences in from the first note and never let go.\nDelmark Records has aptly described Marty “Big Dog” Mercer as “pure Chicago blues.”
URL:https://livemusicbox.net/concert/fox-lake-friday-night-summer-concert-series-2026-dog-days-of-summer/
LOCATION:Fox Lake Lakefront Park\, 10 Riverview Avenue\, Fox Lake\, IL\, 60020\, United States
CATEGORIES:Blues,Classic Rock,Concert in the Park,Rock
ATTACH;FMTTYPE=image/jpeg:https://livemusicbox.net/wp-content/uploads/2026/04/Marty-Big-Dog-Mercer-250.jpg
GEO:42.4023891;-88.1835548
X-APPLE-STRUCTURED-LOCATION;VALUE=URI;X-ADDRESS=Fox Lake Lakefront Park 10 Riverview Avenue Fox Lake IL 60020 United States;X-APPLE-RADIUS=500;X-TITLE=10 Riverview Avenue:geo:-88.1835548,42.4023891
END:VEVENT
BEGIN:VEVENT
DTSTART;TZID=America/Chicago:20260808T143000
DTEND;TZID=America/Chicago:20260808T143000
DTSTAMP:20260425T154114
CREATED:20260415T222856Z
LAST-MODIFIED:20260421T023724Z
UID:10000851-1786199400-1786199400@livemusicbox.net
SUMMARY:Phoenix Park Band Shell Summer Concert Series 2026 - Phil Jackson
DESCRIPTION:Phil Jackson – 90’s 2000’s Experience
URL:https://livemusicbox.net/concert/phil-jackson/
LOCATION:Kiefs Reef\, 3505 S. Wright Road\, McHenry\, IL\, 60050\, United States
CATEGORIES:Rock
GEO:42.2791833;-88.2286689
X-APPLE-STRUCTURED-LOCATION;VALUE=URI;X-ADDRESS=Kiefs Reef 3505 S. Wright Road McHenry IL 60050 United States;X-APPLE-RADIUS=500;X-TITLE=3505 S. Wright Road:geo:-88.2286689,42.2791833
END:VEVENT
BEGIN:VEVENT
DTSTART;TZID=America/Chicago:20260808T190000
DTEND;TZID=America/Chicago:20260808T210000
DTSTAMP:20260425T154114
CREATED:20260415T230717Z
LAST-MODIFIED:20260421T023000Z
UID:10000879-1786215600-1786222800@livemusicbox.net
SUMMARY:Phoenix Park Band Shell Summer Concert Series 2026 - The Electric Cars Band – Cars Tribute
DESCRIPTION:The Electric Cars stand as more than a tribute band – they are agents of an era\, bringing the timeless 1980’s hits of The Cars to a new generation. With a set that includes classics like “Just What I Needed\,” “My Best Friend’s Girl\,” and the hit ballad “Drive\,” they faithfully recreate the magic of The Cars’ chart-toppers\, taking audiences on a nostalgic journey through the band’s greatest hits and deep cuts.
URL:https://livemusicbox.net/concert/the-electric-cars-band-cars-tribute/
LOCATION:Phoenix Park Bandshell Delavan\, 111 E Wisconsin St\, Delavan\, IL\, 53115\, United States
CATEGORIES:Classic Rock,Concert in the Park,Rock
ATTACH;FMTTYPE=image/jpeg:https://livemusicbox.net/wp-content/uploads/2026/04/Electric-Cars-Band-250.jpg
GEO:42.6300351;-88.6476331
X-APPLE-STRUCTURED-LOCATION;VALUE=URI;X-ADDRESS=Phoenix Park Bandshell Delavan 111 E Wisconsin St Delavan IL 53115 United States;X-APPLE-RADIUS=500;X-TITLE=111 E Wisconsin St:geo:-88.6476331,42.6300351
END:VEVENT
END:VCALENDAR