BEGIN:VCALENDAR
VERSION:2.0
PRODID:-//Live Music Box - ECPv6.15.20//NONSGML v1.0//EN
CALSCALE:GREGORIAN
METHOD:PUBLISH
X-WR-CALNAME:Live Music Box
X-ORIGINAL-URL:https://livemusicbox.net
X-WR-CALDESC:Events for Live Music Box
REFRESH-INTERVAL;VALUE=DURATION:PT1H
X-Robots-Tag:noindex
X-PUBLISHED-TTL:PT1H
BEGIN:VTIMEZONE
TZID:America/Chicago
BEGIN:DAYLIGHT
TZOFFSETFROM:-0600
TZOFFSETTO:-0500
TZNAME:CDT
DTSTART:20250309T080000
END:DAYLIGHT
BEGIN:STANDARD
TZOFFSETFROM:-0500
TZOFFSETTO:-0600
TZNAME:CST
DTSTART:20251102T070000
END:STANDARD
BEGIN:DAYLIGHT
TZOFFSETFROM:-0600
TZOFFSETTO:-0500
TZNAME:CDT
DTSTART:20260308T080000
END:DAYLIGHT
BEGIN:STANDARD
TZOFFSETFROM:-0500
TZOFFSETTO:-0600
TZNAME:CST
DTSTART:20261101T070000
END:STANDARD
BEGIN:DAYLIGHT
TZOFFSETFROM:-0600
TZOFFSETTO:-0500
TZNAME:CDT
DTSTART:20270314T080000
END:DAYLIGHT
BEGIN:STANDARD
TZOFFSETFROM:-0500
TZOFFSETTO:-0600
TZNAME:CST
DTSTART:20271107T070000
END:STANDARD
END:VTIMEZONE
BEGIN:VEVENT
DTSTART;TZID=America/Chicago:20260611T190000
DTEND;TZID=America/Chicago:20260611T203000
DTSTAMP:20260421T044424
CREATED:20260411T195538Z
LAST-MODIFIED:20260411T203721Z
UID:10000662-1781204400-1781209800@livemusicbox.net
SUMMARY:Algonquin Summer Concert Series 2026 - Shout Out
DESCRIPTION:Shout Out brings an exciting variety of music\, including hits from artists like: Justin Timberlake\, Katy Perry\, Beyoncé\, Usher\, and Maroon 5. Whether you’re into the 80s\, 90s\, early 2000s\, or today’s biggest hits\, Shout Out has something for everyone. Created by the award-winning band Maggie Speaks\, Shout Out delivers a high-energy performance that will keep the party going all night long.
URL:https://livemusicbox.net/concert/algonquin-summer-concerts-2026-shout-out/
LOCATION:Algonquin Concert Towne Park\, 100 Jefferson St\, Algonquin\, IL\, 60102\, United States
CATEGORIES:Concert in the Park,Pop
ATTACH;FMTTYPE=image/jpeg:https://livemusicbox.net/wp-content/uploads/2026/04/Shout-Out-250.jpg
GEO:42.1684128;-88.2950714
X-APPLE-STRUCTURED-LOCATION;VALUE=URI;X-ADDRESS=Algonquin Concert Towne Park 100 Jefferson St Algonquin IL 60102 United States;X-APPLE-RADIUS=500;X-TITLE=100 Jefferson St:geo:-88.2950714,42.1684128
END:VEVENT
BEGIN:VEVENT
DTSTART;TZID=America/Chicago:20260611T190000
DTEND;TZID=America/Chicago:20260611T210000
DTSTAMP:20260421T044424
CREATED:20260415T172943Z
LAST-MODIFIED:20260420T190810Z
UID:10000739-1781204400-1781211600@livemusicbox.net
SUMMARY:Hoffman Estates Summer Sounds On the Green 2026 - ARRA
DESCRIPTION:Summer Sounds on the Green 2026 at Virginia Mary Hayter Village Green • 5510 Prairie Stone Parkway • Hoffman Estates\, IL (across from the Now Arena). ALL EVENTS ARE FREE AND START AT 7PM. The ultimate classic rock experience to Chicagoland audiences for over 35 years.
URL:https://livemusicbox.net/concert/hoffman-estates-summer-sounds-on-the-green-2026-arra/
LOCATION:Hoffman Estates Village Green\, 5510 Prairie Stone Pkwy\, Hoffman Estates\, IL\, 60169\, United States
CATEGORIES:Classic Rock,Concert in the Park,Pop,Rock
ATTACH;FMTTYPE=image/jpeg:https://livemusicbox.net/wp-content/uploads/2026/04/Arra-Classic-Rock-250.jpg
GEO:42.0705846;-88.2159943
X-APPLE-STRUCTURED-LOCATION;VALUE=URI;X-ADDRESS=Hoffman Estates Village Green 5510 Prairie Stone Pkwy Hoffman Estates IL 60169 United States;X-APPLE-RADIUS=500;X-TITLE=5510 Prairie Stone Pkwy:geo:-88.2159943,42.0705846
END:VEVENT
END:VCALENDAR