BEGIN:VCALENDAR
VERSION:2.0
PRODID:-//Live Music Box - ECPv6.15.20//NONSGML v1.0//EN
CALSCALE:GREGORIAN
METHOD:PUBLISH
X-ORIGINAL-URL:https://livemusicbox.net
X-WR-CALDESC:Events for Live Music Box
REFRESH-INTERVAL;VALUE=DURATION:PT1H
X-Robots-Tag:noindex
X-PUBLISHED-TTL:PT1H
BEGIN:VTIMEZONE
TZID:America/Chicago
BEGIN:DAYLIGHT
TZOFFSETFROM:-0600
TZOFFSETTO:-0500
TZNAME:CDT
DTSTART:20250309T080000
END:DAYLIGHT
BEGIN:STANDARD
TZOFFSETFROM:-0500
TZOFFSETTO:-0600
TZNAME:CST
DTSTART:20251102T070000
END:STANDARD
BEGIN:DAYLIGHT
TZOFFSETFROM:-0600
TZOFFSETTO:-0500
TZNAME:CDT
DTSTART:20260308T080000
END:DAYLIGHT
BEGIN:STANDARD
TZOFFSETFROM:-0500
TZOFFSETTO:-0600
TZNAME:CST
DTSTART:20261101T070000
END:STANDARD
BEGIN:DAYLIGHT
TZOFFSETFROM:-0600
TZOFFSETTO:-0500
TZNAME:CDT
DTSTART:20270314T080000
END:DAYLIGHT
BEGIN:STANDARD
TZOFFSETFROM:-0500
TZOFFSETTO:-0600
TZNAME:CST
DTSTART:20271107T070000
END:STANDARD
END:VTIMEZONE
BEGIN:VEVENT
DTSTART;TZID=America/Chicago:20260501T190000
DTEND;TZID=America/Chicago:20260501T220000
DTSTAMP:20260422T171242
CREATED:20260414T162503Z
LAST-MODIFIED:20260417T180022Z
UID:10000689-1777662000-1777672800@livemusicbox.net
SUMMARY:Broken Oar Bands In The Barn - Electric Phase [UFO] + Wall Of Denial
DESCRIPTION:“Electric Phase” the premier UFO tribute band in the Mid-West!! \nNo cover charge in our heated broken barn.
URL:https://livemusicbox.net/concert/broken-oar-bands-in-the-barn-electric-phase-ufo-wall-of-denial/
LOCATION:Broken Oar Marina Bar & Grill\, 614 Rawson Bridge Rd\, Port Barrington\, IL\, 60010\, United States
CATEGORIES:Classic Rock,Metal,Rock
ATTACH;FMTTYPE=image/jpeg:https://livemusicbox.net/wp-content/uploads/2026/04/Electric-Phase-UFO-Tribute-Band-250.jpg
GEO:42.2489068;-88.2092142
X-APPLE-STRUCTURED-LOCATION;VALUE=URI;X-ADDRESS=Broken Oar Marina Bar & Grill 614 Rawson Bridge Rd Port Barrington IL 60010 United States;X-APPLE-RADIUS=500;X-TITLE=614 Rawson Bridge Rd:geo:-88.2092142,42.2489068
END:VEVENT
BEGIN:VEVENT
DTSTART;TZID=America/Chicago:20260509T200000
DTEND;TZID=America/Chicago:20260509T220000
DTSTAMP:20260422T171242
CREATED:20260414T162504Z
LAST-MODIFIED:20260417T154839Z
UID:10000695-1778356800-1778364000@livemusicbox.net
SUMMARY:Broken Oar Bands In The Barn - My Metal Heart
DESCRIPTION:Dressed to the NINES and turned up to TEN!\nExplosively re-creating the greatest rock playlist like you’ve never seen or heard it done before!\nNo cover charge in our heated broken barn.
URL:https://livemusicbox.net/concert/broken-oar-bands-in-the-barn-my-metal-heart/
LOCATION:Broken Oar Marina Bar & Grill\, 614 Rawson Bridge Rd\, Port Barrington\, IL\, 60010\, United States
CATEGORIES:Metal,Metal. Rock,Rock
ATTACH;FMTTYPE=image/jpeg:https://livemusicbox.net/wp-content/uploads/2026/04/My-Metal-Heart-250.jpg
GEO:42.2489068;-88.2092142
X-APPLE-STRUCTURED-LOCATION;VALUE=URI;X-ADDRESS=Broken Oar Marina Bar & Grill 614 Rawson Bridge Rd Port Barrington IL 60010 United States;X-APPLE-RADIUS=500;X-TITLE=614 Rawson Bridge Rd:geo:-88.2092142,42.2489068
END:VEVENT
BEGIN:VEVENT
DTSTART;TZID=America/Chicago:20260516T190000
DTEND;TZID=America/Chicago:20260516T220000
DTSTAMP:20260422T171242
CREATED:20260414T162520Z
LAST-MODIFIED:20260422T041617Z
UID:10000699-1778958000-1778968800@livemusicbox.net
SUMMARY:Broken Oar Bands In The Barn - Van Wailin' + Motley Ii
DESCRIPTION:Van Wailin’ is Chicago’s ultimate Van Halen Experience\, bringing the electrifying energy\, precision\, and party atmosphere of the legendary rock icons to every stage they hit. With scorching guitar solos\, powerhouse vocals\, and a rhythm section that drives the heartbeat of the music\, Van Wailin’ captures the essence of Van Halen’s heyday. \nNo cover charge in our heated broken barn.
URL:https://livemusicbox.net/concert/broken-oar-bands-in-the-barn-van-wailin-motley-ii/
LOCATION:Broken Oar Marina Bar & Grill\, 614 Rawson Bridge Rd\, Port Barrington\, IL\, 60010\, United States
CATEGORIES:Classic Rock,Metal,Metal. Rock,Rock
ATTACH;FMTTYPE=image/jpeg:https://livemusicbox.net/wp-content/uploads/2026/04/Van-Wailin-250.jpg
GEO:42.2489068;-88.2092142
X-APPLE-STRUCTURED-LOCATION;VALUE=URI;X-ADDRESS=Broken Oar Marina Bar & Grill 614 Rawson Bridge Rd Port Barrington IL 60010 United States;X-APPLE-RADIUS=500;X-TITLE=614 Rawson Bridge Rd:geo:-88.2092142,42.2489068
END:VEVENT
BEGIN:VEVENT
DTSTART;TZID=America/Chicago:20260524T200000
DTEND;TZID=America/Chicago:20260524T230000
DTSTAMP:20260422T171242
CREATED:20260414T162549Z
LAST-MODIFIED:20260414T225038Z
UID:10000706-1779652800-1779663600@livemusicbox.net
SUMMARY:Broken Oar Bands In The Barn - Rok Brigade
DESCRIPTION:Rok Brigade\, Def Leppard’s infectious melodies\, heavy guitars\, pounding drums and layered harmonies combine perfectly to give us some of the greatest rock anthems of all time! \nNo cover charge in our heated broken barn.
URL:https://livemusicbox.net/concert/broken-oar-bands-in-the-barn-rok-bridge/
LOCATION:Broken Oar Marina Bar & Grill\, 614 Rawson Bridge Rd\, Port Barrington\, IL\, 60010\, United States
CATEGORIES:Metal,Metal. Rock,Rock
ATTACH;FMTTYPE=image/jpeg:https://livemusicbox.net/wp-content/uploads/2026/04/Rok-Brigade.jpg
GEO:42.2489068;-88.2092142
X-APPLE-STRUCTURED-LOCATION;VALUE=URI;X-ADDRESS=Broken Oar Marina Bar & Grill 614 Rawson Bridge Rd Port Barrington IL 60010 United States;X-APPLE-RADIUS=500;X-TITLE=614 Rawson Bridge Rd:geo:-88.2092142,42.2489068
END:VEVENT
BEGIN:VEVENT
DTSTART;TZID=America/Chicago:20260605T190000
DTEND;TZID=America/Chicago:20260605T210000
DTSTAMP:20260422T171242
CREATED:20260414T160714Z
LAST-MODIFIED:20260420T170917Z
UID:10000676-1780686000-1780693200@livemusicbox.net
SUMMARY:Fox Lake Friday Night Summer Concert Series 2026 - Amped Up Opening Night w/Kashmir
DESCRIPTION:Kashmir is a very entertaining show bringing only the best of LED  ZEPPELIN to their fans. Kashmir seeks to re-create the experience of a  70’s Zeppelin show utilizing authentic vintage stage gear\, costumes\, and  special effects\, with great attention to detail in a non pretentious  way. \nMusic Market Memories at Lakefront Park! Market 5-8pm | Music 7-9pm. Theme: Amped Up Opening Night featuring Kashmir.
URL:https://livemusicbox.net/concert/fox-lake-friday-night-summer-concert-series-2026-amped-up-opening-night/
LOCATION:Fox Lake Lakefront Park\, 10 Riverview Avenue\, Fox Lake\, IL\, 60020\, United States
CATEGORIES:Classic Rock,Concert in the Park,Metal,Metal. Rock,Rock
ATTACH;FMTTYPE=image/jpeg:https://livemusicbox.net/wp-content/uploads/2026/04/Kashmir-250.jpg
GEO:42.4023891;-88.1835548
X-APPLE-STRUCTURED-LOCATION;VALUE=URI;X-ADDRESS=Fox Lake Lakefront Park 10 Riverview Avenue Fox Lake IL 60020 United States;X-APPLE-RADIUS=500;X-TITLE=10 Riverview Avenue:geo:-88.1835548,42.4023891
END:VEVENT
BEGIN:VEVENT
DTSTART;TZID=America/Chicago:20260606T143000
DTEND;TZID=America/Chicago:20260606T163000
DTSTAMP:20260422T171242
CREATED:20260415T222504Z
LAST-MODIFIED:20260422T031427Z
UID:10000827-1780756200-1780763400@livemusicbox.net
SUMMARY:Kiefs Reef Summer Concert Series 2026 - Physical Graffiti
DESCRIPTION:Physical Graffiti – Chicago’s Led Zeppelin Tribute \nHailing from the heart of Chicago\, Physical Graffiti delivers an electrifying tribute to the legendary Led Zeppelin\, capturing the raw energy\, iconic sound\, and mystique of one of rock’s most influential bands. Physical Graffiti channels the spirit of Zeppelin with powerful Female lead vocals\, searing guitar work\, thunderous drums\, that transports audiences back to the golden age of rock.
URL:https://livemusicbox.net/concert/physical-graffiti/
LOCATION:Kiefs Reef\, 3505 S. Wright Road\, McHenry\, IL\, 60050\, United States
CATEGORIES:Classic Rock,Concert in the Park,Metal,Rock
ATTACH;FMTTYPE=image/jpeg:https://livemusicbox.net/wp-content/uploads/2026/04/Physical-Graffiti-141.jpg
GEO:42.2791833;-88.2286689
X-APPLE-STRUCTURED-LOCATION;VALUE=URI;X-ADDRESS=Kiefs Reef 3505 S. Wright Road McHenry IL 60050 United States;X-APPLE-RADIUS=500;X-TITLE=3505 S. Wright Road:geo:-88.2286689,42.2791833
END:VEVENT
BEGIN:VEVENT
DTSTART;TZID=America/Chicago:20260612T183000
DTEND;TZID=America/Chicago:20260612T194500
DTSTAMP:20260422T171242
CREATED:20260415T145320Z
LAST-MODIFIED:20260422T022252Z
UID:10000714-1781289000-1781293500@livemusicbox.net
SUMMARY:Franklin Park Fest 2026 -Physical Graffiti
DESCRIPTION:Physical Graffiti – Chicago’s Led Zeppelin Tribute \nHailing from the heart of Chicago\, Physical Graffiti delivers an electrifying tribute to the legendary Led Zeppelin\, capturing the raw energy\, iconic sound\, and mystique of one of rock’s most influential bands. Physical Graffiti channels the spirit of Zeppelin with powerful Female lead vocals\, searing guitar work\, thunderous drums\, that transports audiences back to the golden age of rock. \nPhysical Graffiti (Led Zeppelin Tribute) performing at the Franklin Park Fest Music Line-Up
URL:https://livemusicbox.net/concert/physical-graffiti-at-franklin-park-fest/
LOCATION:Franklin Park North Park Baseball Fields\, 10040 Addison Avenue\, Franklin Park\, IL\, 60131\, United States
CATEGORIES:Classic Rock,Festival,Metal,Metal. Rock,Rock
ATTACH;FMTTYPE=image/jpeg:https://livemusicbox.net/wp-content/uploads/2026/04/Physical-Graffiti-141.jpg
GEO:41.9450275;-87.8767621
X-APPLE-STRUCTURED-LOCATION;VALUE=URI;X-ADDRESS=Franklin Park North Park Baseball Fields 10040 Addison Avenue Franklin Park IL 60131 United States;X-APPLE-RADIUS=500;X-TITLE=10040 Addison Avenue:geo:-87.8767621,41.9450275
END:VEVENT
BEGIN:VEVENT
DTSTART;TZID=America/Chicago:20260709T183000
DTEND;TZID=America/Chicago:20260709T200000
DTSTAMP:20260422T171242
CREATED:20260415T232441Z
LAST-MODIFIED:20260421T160707Z
UID:10000900-1783621800-1783627200@livemusicbox.net
SUMMARY:Roselle Plaza Summer Concert Series 2026 - Cowboy Co. The Country Music Show
DESCRIPTION:Cowboy Co. is a collective of musicians from the Chicagoland area\, providing a Nashville style experience of drinking\, dancing and most importantly Country Music. With a huge repertoire\, each set list is picked by the audience during the show\, making every single performance unique. The band plays modern hits from artists like Morgan Wallen\, Hardy\, Zach Bryan\, and Taylor Swift while simultaneously bringing Metallica\, Elvis\, Beyonce\, and more to the table. The band also offers pre-selected playlists for private events and parties and a non stop concert format for festivals\, allowing custom tailoring to any client’s needs.
URL:https://livemusicbox.net/concert/2026-plaza-concert-series-cowboy-co-the-country-music-show/
LOCATION:Roselle Concert Series Petal Plaza\, Petal Plaza Downtown Roselle\, Roselle\, IL\, 60172\, United States
CATEGORIES:Classic Rock,Concert in the Park,Country,Dance,Metal,Pop,Rock
ATTACH;FMTTYPE=image/jpeg:https://livemusicbox.net/wp-content/uploads/2026/04/Cowboy-Co.-The-Country-Music-Show-250.jpg
GEO:41.9822406;-88.0773796
X-APPLE-STRUCTURED-LOCATION;VALUE=URI;X-ADDRESS=Roselle Concert Series Petal Plaza Petal Plaza Downtown Roselle Roselle IL 60172 United States;X-APPLE-RADIUS=500;X-TITLE=Petal Plaza Downtown Roselle:geo:-88.0773796,41.9822406
END:VEVENT
BEGIN:VEVENT
DTSTART;TZID=America/Chicago:20260710T190000
DTEND;TZID=America/Chicago:20260710T210000
DTSTAMP:20260422T171242
CREATED:20260414T160714Z
LAST-MODIFIED:20260421T154953Z
UID:10000679-1783710000-1783717200@livemusicbox.net
SUMMARY:Fox Lake Friday Night Summer Concert Series 2026 - Totally 80s Neon Night w/The 1985
DESCRIPTION:The Midwest’s RADDEST tribute to the 1980s! Producing its Totally 80’s Mixtape LIVE! Experience that features the best of the 1980s rock\, pop\, new wave\, metal and club. While we just wanna have fun\, we take our roles as performers seriously. We have a fine-tuned\, super-charged technical show that combines videos\, lights\, costumes and more to create a totally immersive music experience. Our goal is to help you turn back time and party like it’s 1985! \nMusic Market Memories at Lakefront Park! Market 5-8pm | Music 7-9pm. Theme: Totally 80s Neon Night featuring The 1985.
URL:https://livemusicbox.net/concert/fox-lake-friday-night-summer-concert-series-2026-totally-80s-neon-night/
LOCATION:Fox Lake Lakefront Park\, 10 Riverview Avenue\, Fox Lake\, IL\, 60020\, United States
CATEGORIES:Concert in the Park,Metal,New Wave,Pop,Rock
ATTACH;FMTTYPE=image/jpeg:https://livemusicbox.net/wp-content/uploads/2026/04/The-1985-250.jpg
GEO:42.4023891;-88.1835548
X-APPLE-STRUCTURED-LOCATION;VALUE=URI;X-ADDRESS=Fox Lake Lakefront Park 10 Riverview Avenue Fox Lake IL 60020 United States;X-APPLE-RADIUS=500;X-TITLE=10 Riverview Avenue:geo:-88.1835548,42.4023891
END:VEVENT
END:VCALENDAR