BEGIN:VCALENDAR
VERSION:2.0
PRODID:-//Live Music Box - ECPv6.15.20//NONSGML v1.0//EN
CALSCALE:GREGORIAN
METHOD:PUBLISH
X-WR-CALNAME:Live Music Box
X-ORIGINAL-URL:https://livemusicbox.net
X-WR-CALDESC:Events for Live Music Box
REFRESH-INTERVAL;VALUE=DURATION:PT1H
X-Robots-Tag:noindex
X-PUBLISHED-TTL:PT1H
BEGIN:VTIMEZONE
TZID:America/Chicago
BEGIN:DAYLIGHT
TZOFFSETFROM:-0600
TZOFFSETTO:-0500
TZNAME:CDT
DTSTART:20250309T080000
END:DAYLIGHT
BEGIN:STANDARD
TZOFFSETFROM:-0500
TZOFFSETTO:-0600
TZNAME:CST
DTSTART:20251102T070000
END:STANDARD
BEGIN:DAYLIGHT
TZOFFSETFROM:-0600
TZOFFSETTO:-0500
TZNAME:CDT
DTSTART:20260308T080000
END:DAYLIGHT
BEGIN:STANDARD
TZOFFSETFROM:-0500
TZOFFSETTO:-0600
TZNAME:CST
DTSTART:20261101T070000
END:STANDARD
BEGIN:DAYLIGHT
TZOFFSETFROM:-0600
TZOFFSETTO:-0500
TZNAME:CDT
DTSTART:20270314T080000
END:DAYLIGHT
BEGIN:STANDARD
TZOFFSETFROM:-0500
TZOFFSETTO:-0600
TZNAME:CST
DTSTART:20271107T070000
END:STANDARD
END:VTIMEZONE
BEGIN:VEVENT
DTSTART;TZID=America/Chicago:20260802T130000
DTEND;TZID=America/Chicago:20260802T160000
DTSTAMP:20260421T032924
CREATED:20260415T230717Z
LAST-MODIFIED:20260421T031021Z
UID:10000878-1785675600-1785686400@livemusicbox.net
SUMMARY:Phoenix Park Band Shell Summer Concert Series 2026 - Icons of Country – Jason Aldean & Luke Bryan Tribute & More! Car Show
DESCRIPTION:3 tribute artists… 1 big show! Choose from our roster of tribute artists!
URL:https://livemusicbox.net/concert/icons-of-country-jason-aldean-luke-bryan-tribute-more-car-show/
LOCATION:Phoenix Park Bandshell Delavan\, 111 E Wisconsin St\, Delavan\, IL\, 53115\, United States
CATEGORIES:Concert in the Park,Country,Country Rock
ATTACH;FMTTYPE=image/jpeg:https://livemusicbox.net/wp-content/uploads/2026/04/Icons-of-Country-Tribute-Show-Band-250.jpg
GEO:42.6300351;-88.6476331
X-APPLE-STRUCTURED-LOCATION;VALUE=URI;X-ADDRESS=Phoenix Park Bandshell Delavan 111 E Wisconsin St Delavan IL 53115 United States;X-APPLE-RADIUS=500;X-TITLE=111 E Wisconsin St:geo:-88.6476331,42.6300351
END:VEVENT
END:VCALENDAR