BEGIN:VCALENDAR
VERSION:2.0
PRODID:-//Live Music Box - ECPv6.15.20//NONSGML v1.0//EN
CALSCALE:GREGORIAN
METHOD:PUBLISH
X-WR-CALNAME:Live Music Box
X-ORIGINAL-URL:https://livemusicbox.net
X-WR-CALDESC:Events for Live Music Box
REFRESH-INTERVAL;VALUE=DURATION:PT1H
X-Robots-Tag:noindex
X-PUBLISHED-TTL:PT1H
BEGIN:VTIMEZONE
TZID:America/Chicago
BEGIN:DAYLIGHT
TZOFFSETFROM:-0600
TZOFFSETTO:-0500
TZNAME:CDT
DTSTART:20250309T080000
END:DAYLIGHT
BEGIN:STANDARD
TZOFFSETFROM:-0500
TZOFFSETTO:-0600
TZNAME:CST
DTSTART:20251102T070000
END:STANDARD
BEGIN:DAYLIGHT
TZOFFSETFROM:-0600
TZOFFSETTO:-0500
TZNAME:CDT
DTSTART:20260308T080000
END:DAYLIGHT
BEGIN:STANDARD
TZOFFSETFROM:-0500
TZOFFSETTO:-0600
TZNAME:CST
DTSTART:20261101T070000
END:STANDARD
BEGIN:DAYLIGHT
TZOFFSETFROM:-0600
TZOFFSETTO:-0500
TZNAME:CDT
DTSTART:20270314T080000
END:DAYLIGHT
BEGIN:STANDARD
TZOFFSETFROM:-0500
TZOFFSETTO:-0600
TZNAME:CST
DTSTART:20271107T070000
END:STANDARD
END:VTIMEZONE
BEGIN:VEVENT
DTSTART;TZID=America/Chicago:20260501T190000
DTEND;TZID=America/Chicago:20260501T220000
DTSTAMP:20260419T082537
CREATED:20260414T162503Z
LAST-MODIFIED:20260417T180022Z
UID:10000689-1777662000-1777672800@livemusicbox.net
SUMMARY:Broken Oar Bands In The Barn - Electric Phase [UFO] + Wall Of Denial
DESCRIPTION:“Electric Phase” the premier UFO tribute band in the Mid-West!! \nNo cover charge in our heated broken barn.
URL:https://livemusicbox.net/concert/broken-oar-bands-in-the-barn-electric-phase-ufo-wall-of-denial/
LOCATION:Broken Oar Marina Bar & Grill\, 614 Rawson Bridge Rd\, Port Barrington\, IL\, 60010\, United States
CATEGORIES:Classic Rock,Metal,Rock
ATTACH;FMTTYPE=image/jpeg:https://livemusicbox.net/wp-content/uploads/2026/04/Electric-Phase-UFO-Tribute-Band-250.jpg
GEO:42.2489068;-88.2092142
X-APPLE-STRUCTURED-LOCATION;VALUE=URI;X-ADDRESS=Broken Oar Marina Bar & Grill 614 Rawson Bridge Rd Port Barrington IL 60010 United States;X-APPLE-RADIUS=500;X-TITLE=614 Rawson Bridge Rd:geo:-88.2092142,42.2489068
END:VEVENT
BEGIN:VEVENT
DTSTART;TZID=America/Chicago:20260502T140000
DTEND;TZID=America/Chicago:20260502T170000
DTSTAMP:20260419T082537
CREATED:20260414T162503Z
LAST-MODIFIED:20260417T173935Z
UID:10000690-1777730400-1777741200@livemusicbox.net
SUMMARY:Broken Oar Bands In The Barn - Cover Dogs
DESCRIPTION:Cover Dogs DELIVERS the hits you LOVE along with DEEP CUTS you never saw coming.\nJoin the pack!\nNo cover charge in our heated broken barn.
URL:https://livemusicbox.net/concert/broken-oar-bands-in-the-barn-cover-dogs/
LOCATION:Broken Oar Marina Bar & Grill\, 614 Rawson Bridge Rd\, Port Barrington\, IL\, 60010\, United States
CATEGORIES:Classic Rock,Rock
ATTACH;FMTTYPE=image/jpeg:https://livemusicbox.net/wp-content/uploads/2026/04/Cover-Dogs-250.jpg
GEO:42.2489068;-88.2092142
X-APPLE-STRUCTURED-LOCATION;VALUE=URI;X-ADDRESS=Broken Oar Marina Bar & Grill 614 Rawson Bridge Rd Port Barrington IL 60010 United States;X-APPLE-RADIUS=500;X-TITLE=614 Rawson Bridge Rd:geo:-88.2092142,42.2489068
END:VEVENT
BEGIN:VEVENT
DTSTART;TZID=America/Chicago:20260503T140000
DTEND;TZID=America/Chicago:20260503T170000
DTSTAMP:20260419T082537
CREATED:20260414T162504Z
LAST-MODIFIED:20260417T160616Z
UID:10000692-1777816800-1777827600@livemusicbox.net
SUMMARY:Broken Oar Bands In The Barn - The 3 Amigos (Pino Farina - Dan Peters - Rich Sawyer)
DESCRIPTION:Join Pino\, Rich\, Dan\, Janis & Frank for a special Cinco de Mayo concert and celebration at the Broken Oar in Port Barrington\, IL. \nNo cover charge in our heated broken barn.
URL:https://livemusicbox.net/concert/broken-oar-bands-in-the-barn-the-3-amigos-pino-farina-dan-peters-rich-sawyer/
LOCATION:Broken Oar Marina Bar & Grill\, 614 Rawson Bridge Rd\, Port Barrington\, IL\, 60010\, United States
CATEGORIES:Acoustic Rock,Classic Rock,Rock
ATTACH;FMTTYPE=image/jpeg:https://livemusicbox.net/wp-content/uploads/2026/04/the-3-amigos-250.jpg
GEO:42.2489068;-88.2092142
X-APPLE-STRUCTURED-LOCATION;VALUE=URI;X-ADDRESS=Broken Oar Marina Bar & Grill 614 Rawson Bridge Rd Port Barrington IL 60010 United States;X-APPLE-RADIUS=500;X-TITLE=614 Rawson Bridge Rd:geo:-88.2092142,42.2489068
END:VEVENT
BEGIN:VEVENT
DTSTART;TZID=America/Chicago:20260509T140000
DTEND;TZID=America/Chicago:20260509T170000
DTSTAMP:20260419T082537
CREATED:20260414T162504Z
LAST-MODIFIED:20260417T155135Z
UID:10000694-1778335200-1778346000@livemusicbox.net
SUMMARY:Broken Oar Bands In The Barn - Freebyrd [Lynard Skynyrd]
DESCRIPTION:Together they are committed Skynyrd fans with a shared vision to keep Lynyrd Skynyrd’s legacy alive. And in November 2019 Freebyrd formed to give Chicagoland the best Lynyrd Skynyrd tribute experience. Freebyrd recreates the intensity\, power\, and spirit of Lynyrd Skynyrd not seen since the days of the original lineup. Captivated and energetic audiences are dancing\, screaming\, clapping\, and singing along to Lynyrd Skynyrd songs. \nNo cover charge in our heated broken barn.
URL:https://livemusicbox.net/concert/broken-oar-bands-in-the-barn-freebyrd-lynard-skynyrd/
LOCATION:Broken Oar Marina Bar & Grill\, 614 Rawson Bridge Rd\, Port Barrington\, IL\, 60010\, United States
CATEGORIES:Classic Rock,Rock,Southern Rock
ATTACH;FMTTYPE=image/jpeg:https://livemusicbox.net/wp-content/uploads/2026/04/Freebyrd-Chicago-250.jpg
GEO:42.2489068;-88.2092142
X-APPLE-STRUCTURED-LOCATION;VALUE=URI;X-ADDRESS=Broken Oar Marina Bar & Grill 614 Rawson Bridge Rd Port Barrington IL 60010 United States;X-APPLE-RADIUS=500;X-TITLE=614 Rawson Bridge Rd:geo:-88.2092142,42.2489068
END:VEVENT
BEGIN:VEVENT
DTSTART;TZID=America/Chicago:20260510T140000
DTEND;TZID=America/Chicago:20260510T170000
DTSTAMP:20260419T082537
CREATED:20260414T162519Z
LAST-MODIFIED:20260417T153927Z
UID:10000696-1778421600-1778432400@livemusicbox.net
SUMMARY:Broken Oar Bands In The Barn - Mr. Blotto
DESCRIPTION:Mr. Blotto started in 1991 as an off-night musical vehicle for members of other local acts around the Chicago area. In response to repeated fan requests for tapes of shows and the surprise popularity of a series of bootlegs\, Mr. Blotto released its debut album entitled “Parking Karma” in August 1992. As the band’s popularity grew\, they added another member to play keyboards\, specifically the Hammond B-3 Organ. In July 1994\, the band released their second album entitled “Bad Hair Day.” With local radio play\, they began headlining larger clubs and theaters on consecutive nights. And with the introduction of tapers\, the music spread to a larger audience around the nation. The band’s third album entitled “Ancient Face” was released in July 1998. \nNo cover charge in our heated broken barn.
URL:https://livemusicbox.net/concert/broken-oar-bands-in-the-barn-mr-blotto/
LOCATION:Broken Oar Marina Bar & Grill\, 614 Rawson Bridge Rd\, Port Barrington\, IL\, 60010\, United States
CATEGORIES:Blues,Classic Rock,Rock
ATTACH;FMTTYPE=image/jpeg:https://livemusicbox.net/wp-content/uploads/2026/04/Mr-Blotto-250.jpg
GEO:42.2489068;-88.2092142
X-APPLE-STRUCTURED-LOCATION;VALUE=URI;X-ADDRESS=Broken Oar Marina Bar & Grill 614 Rawson Bridge Rd Port Barrington IL 60010 United States;X-APPLE-RADIUS=500;X-TITLE=614 Rawson Bridge Rd:geo:-88.2092142,42.2489068
END:VEVENT
BEGIN:VEVENT
DTSTART;TZID=America/Chicago:20260516T140000
DTEND;TZID=America/Chicago:20260516T170000
DTSTAMP:20260419T082537
CREATED:20260414T162519Z
LAST-MODIFIED:20260417T151638Z
UID:10000698-1778940000-1778950800@livemusicbox.net
SUMMARY:Broken Oar Bands In The Barn - Jeff Anthony Group
DESCRIPTION:“Decades of Rock. One Killer Show.” Jeff Anthony Group is a Chicago-bred rock band featuring scene veterans Jeff Anthony\, John Braun\, Guy Bazilewich\, and Dennis Frankowski. \nNo cover charge in our heated broken barn.
URL:https://livemusicbox.net/concert/broken-oar-bands-in-the-barn-jeff-anthony-group/
LOCATION:Broken Oar Marina Bar & Grill\, 614 Rawson Bridge Rd\, Port Barrington\, IL\, 60010\, United States
CATEGORIES:Classic Rock,Rock
ATTACH;FMTTYPE=image/jpeg:https://livemusicbox.net/wp-content/uploads/2026/04/Jeff-Anthony-Group-141.jpg
GEO:42.2489068;-88.2092142
X-APPLE-STRUCTURED-LOCATION;VALUE=URI;X-ADDRESS=Broken Oar Marina Bar & Grill 614 Rawson Bridge Rd Port Barrington IL 60010 United States;X-APPLE-RADIUS=500;X-TITLE=614 Rawson Bridge Rd:geo:-88.2092142,42.2489068
END:VEVENT
BEGIN:VEVENT
DTSTART;TZID=America/Chicago:20260516T190000
DTEND;TZID=America/Chicago:20260516T220000
DTSTAMP:20260419T082537
CREATED:20260414T162520Z
LAST-MODIFIED:20260417T151604Z
UID:10000699-1778958000-1778968800@livemusicbox.net
SUMMARY:Broken Oar Bands In The Barn - Van Wailin' + Motley Ii
DESCRIPTION:Van Wailin’ is Chicago’s ultimate Van Halen Experience\, bringing the electrifying energy\, precision\, and party atmosphere of the legendary rock icons to every stage they hit. With scorching guitar solos\, powerhouse vocals\, and a rhythm section that drives the heartbeat of the music\, Van Wailin’ captures the essence of Van Halen’s heyday. \nNo cover charge in our heated broken barn.
URL:https://livemusicbox.net/concert/broken-oar-bands-in-the-barn-van-wailin-motley-ii/
LOCATION:Broken Oar Marina Bar & Grill\, 614 Rawson Bridge Rd\, Port Barrington\, IL\, 60010\, United States
CATEGORIES:Classic Rock,Metal,Metal. Rock,Rock
ATTACH;FMTTYPE=image/jpeg:https://livemusicbox.net/wp-content/uploads/2026/04/Van-Wailin-250.jpg
GEO:42.2489068;-88.2092142
X-APPLE-STRUCTURED-LOCATION;VALUE=URI;X-ADDRESS=Broken Oar Marina Bar & Grill 614 Rawson Bridge Rd Port Barrington IL 60010 United States;X-APPLE-RADIUS=500;X-TITLE=614 Rawson Bridge Rd:geo:-88.2092142,42.2489068
END:VEVENT
BEGIN:VEVENT
DTSTART;TZID=America/Chicago:20260521T190000
DTEND;TZID=America/Chicago:20260521T213000
DTSTAMP:20260419T082537
CREATED:20260414T162535Z
LAST-MODIFIED:20260414T213202Z
UID:10000701-1779390000-1779399000@livemusicbox.net
SUMMARY:Broken Oar Bands In The Barn - Dead Pink Radio [Grateful Dead-Pink Floyd-Radiohead]
DESCRIPTION:No cover charge in our heated broken barn.
URL:https://livemusicbox.net/concert/broken-oar-bands-in-the-barn-dead-pink-radio-grateful-dead-pink-floyd-radiohead/
LOCATION:Broken Oar Marina Bar & Grill\, 614 Rawson Bridge Rd\, Port Barrington\, IL\, 60010\, United States
CATEGORIES:Blues,Classic Rock,Rock
ATTACH;FMTTYPE=image/jpeg:https://livemusicbox.net/wp-content/uploads/2026/04/Dark-Pink-Radio-250.jpg
GEO:42.2489068;-88.2092142
X-APPLE-STRUCTURED-LOCATION;VALUE=URI;X-ADDRESS=Broken Oar Marina Bar & Grill 614 Rawson Bridge Rd Port Barrington IL 60010 United States;X-APPLE-RADIUS=500;X-TITLE=614 Rawson Bridge Rd:geo:-88.2092142,42.2489068
END:VEVENT
BEGIN:VEVENT
DTSTART;TZID=America/Chicago:20260522T200000
DTEND;TZID=America/Chicago:20260522T230000
DTSTAMP:20260419T082537
CREATED:20260414T162535Z
LAST-MODIFIED:20260414T225328Z
UID:10000702-1779480000-1779490800@livemusicbox.net
SUMMARY:Broken Oar Bands In The Barn - Mellencougar
DESCRIPTION:Mellencougar\, is the only Tribute to John Mellencamp that has featured members of John’s actual band! \nMellencougar is made up of a group of musicians from the Midwest with an appreciation for the danceable poetry of John Mellencamp. \nThe shared experiences described in John’s lyrics bring the audience and band together while singing songs about our youthful and rebellious days in songs like “Hurt So Good”\, “Ain’t Even Done With The Night” and “I Need A Lover”\nThen songs such as “Check It Out”\, “Small Town”\, “Rain on the Scarecrow” and “Jack and Diane” are a reminder of what is important in life and how to recognize it. \nNo cover charge in our heated broken barn.
URL:https://livemusicbox.net/concert/broken-oar-bands-in-the-barn-mellencougar/
LOCATION:Broken Oar Marina Bar & Grill\, 614 Rawson Bridge Rd\, Port Barrington\, IL\, 60010\, United States
CATEGORIES:Classic Rock,Midwest Country,Rock
ATTACH;FMTTYPE=image/jpeg:https://livemusicbox.net/wp-content/uploads/2026/04/Mellengcougar-band-250.jpg
GEO:42.2489068;-88.2092142
X-APPLE-STRUCTURED-LOCATION;VALUE=URI;X-ADDRESS=Broken Oar Marina Bar & Grill 614 Rawson Bridge Rd Port Barrington IL 60010 United States;X-APPLE-RADIUS=500;X-TITLE=614 Rawson Bridge Rd:geo:-88.2092142,42.2489068
END:VEVENT
BEGIN:VEVENT
DTSTART;TZID=America/Chicago:20260523T140000
DTEND;TZID=America/Chicago:20260523T170000
DTSTAMP:20260419T082537
CREATED:20260414T162535Z
LAST-MODIFIED:20260414T225253Z
UID:10000703-1779544800-1779555600@livemusicbox.net
SUMMARY:Broken Oar Bands In The Barn - Nick Bell Band
DESCRIPTION:Named Chicago’s Hottest Up and Coming Guitar Player\, PERIOD by Rock Chicago Magazine in 2013\, Nick Bell is a prominent Midwest and Florida Blues Rock guitarist. Influenced by the heroes of early Hard rock; Nick plays with his own distinct\, fused\, Rock-BLUES style. \nNo cover charge in our heated broken barn.
URL:https://livemusicbox.net/concert/broken-oar-bands-in-the-barn-nick-bell-band/
LOCATION:Broken Oar Marina Bar & Grill\, 614 Rawson Bridge Rd\, Port Barrington\, IL\, 60010\, United States
CATEGORIES:Classic Rock,Metal. Rock,Pop,Rock
ATTACH;FMTTYPE=image/jpeg:https://livemusicbox.net/wp-content/uploads/2026/04/Nick-Bell-Band-250.jpg
GEO:42.2489068;-88.2092142
X-APPLE-STRUCTURED-LOCATION;VALUE=URI;X-ADDRESS=Broken Oar Marina Bar & Grill 614 Rawson Bridge Rd Port Barrington IL 60010 United States;X-APPLE-RADIUS=500;X-TITLE=614 Rawson Bridge Rd:geo:-88.2092142,42.2489068
END:VEVENT
BEGIN:VEVENT
DTSTART;TZID=America/Chicago:20260523T200000
DTEND;TZID=America/Chicago:20260523T230000
DTSTAMP:20260419T082537
CREATED:20260414T162535Z
LAST-MODIFIED:20260414T225206Z
UID:10000704-1779566400-1779577200@livemusicbox.net
SUMMARY:Broken Oar Bands In The Barn - Rumor Hazit
DESCRIPTION:Killers\,Pink\,Guns n Roses\, Whitney Houston\, Blink-182\, Tom Petty\, U2\, The Police\, Radio Head\, Bryan Adams\, Cranberries\, The Weekend\, Eminem\, Bon Jovi\, Aerosmith\, Journey\, Lady GaGa\, Luke Bryan\, Fleetwood Mac\, Lynyrd Skynyrd\, Miley Cyrus\, Foo Fighters\, Fallout Boy\, Lover Boy\, A-Ha\, Queen\, Pearl Jam and many many more! \nNo cover charge in our heated broken barn.
URL:https://livemusicbox.net/concert/broken-oar-bands-in-the-barn-rumor-hazit/
LOCATION:Broken Oar Marina Bar & Grill\, 614 Rawson Bridge Rd\, Port Barrington\, IL\, 60010\, United States
CATEGORIES:Classic Rock,Pop,Rock
ATTACH;FMTTYPE=image/jpeg:https://livemusicbox.net/wp-content/uploads/2026/04/rumor-hazit-250.jpg
GEO:42.2489068;-88.2092142
X-APPLE-STRUCTURED-LOCATION;VALUE=URI;X-ADDRESS=Broken Oar Marina Bar & Grill 614 Rawson Bridge Rd Port Barrington IL 60010 United States;X-APPLE-RADIUS=500;X-TITLE=614 Rawson Bridge Rd:geo:-88.2092142,42.2489068
END:VEVENT
BEGIN:VEVENT
DTSTART;TZID=America/Chicago:20260524T140000
DTEND;TZID=America/Chicago:20260524T170000
DTSTAMP:20260419T082537
CREATED:20260414T162535Z
LAST-MODIFIED:20260414T225125Z
UID:10000705-1779631200-1779642000@livemusicbox.net
SUMMARY:Broken Oar Bands In The Barn - ARRA
DESCRIPTION:ARRA (American Rock “n’ Roll Association) has been delivering the ultimate classic rock experience to Chicagoland audiences for over 35 years. As one of the most enduring and celebrated classic rock tributes in the Midwest\, they’ve built a loyal following by faithfully recreating the biggest rock hits of all time — 100% live\, with no backing tracks. In an era where many bands rely on pre-recorded support\, ARRA keeps it real with pure\, live musicianship. \nNo cover charge in our heated broken barn.
URL:https://livemusicbox.net/concert/broken-oar-bands-in-the-barn-arra/
LOCATION:Broken Oar Marina Bar & Grill\, 614 Rawson Bridge Rd\, Port Barrington\, IL\, 60010\, United States
CATEGORIES:Classic Rock,Pop,Rock
ATTACH;FMTTYPE=image/jpeg:https://livemusicbox.net/wp-content/uploads/2026/04/Arra-Classic-Rock-250.jpg
GEO:42.2489068;-88.2092142
X-APPLE-STRUCTURED-LOCATION;VALUE=URI;X-ADDRESS=Broken Oar Marina Bar & Grill 614 Rawson Bridge Rd Port Barrington IL 60010 United States;X-APPLE-RADIUS=500;X-TITLE=614 Rawson Bridge Rd:geo:-88.2092142,42.2489068
END:VEVENT
BEGIN:VEVENT
DTSTART;TZID=America/Chicago:20260529T200000
DTEND;TZID=America/Chicago:20260529T220000
DTSTAMP:20260419T082537
CREATED:20260414T162549Z
LAST-MODIFIED:20260414T224849Z
UID:10000708-1780084800-1780092000@livemusicbox.net
SUMMARY:Broken Oar Bands In The Barn - Kevin Purcell & The Nightburners
DESCRIPTION:Kevin blows up a storm but leaves plenty of room for the rest of the band to show their stuff too. Nobody holds back… \nNo cover charge in our heated broken barn.
URL:https://livemusicbox.net/concert/broken-oar-bands-in-the-barn-kevin-purcell-the-nightburners/
LOCATION:Broken Oar Marina Bar & Grill\, 614 Rawson Bridge Rd\, Port Barrington\, IL\, 60010\, United States
CATEGORIES:Blues,Classic Rock,Rock
ATTACH;FMTTYPE=image/jpeg:https://livemusicbox.net/wp-content/uploads/2026/04/Keven-Percel-250.jpg
GEO:42.2489068;-88.2092142
X-APPLE-STRUCTURED-LOCATION;VALUE=URI;X-ADDRESS=Broken Oar Marina Bar & Grill 614 Rawson Bridge Rd Port Barrington IL 60010 United States;X-APPLE-RADIUS=500;X-TITLE=614 Rawson Bridge Rd:geo:-88.2092142,42.2489068
END:VEVENT
END:VCALENDAR