BEGIN:VCALENDAR
VERSION:2.0
PRODID:-//Live Music Box - ECPv6.15.20//NONSGML v1.0//EN
CALSCALE:GREGORIAN
METHOD:PUBLISH
X-ORIGINAL-URL:https://livemusicbox.net
X-WR-CALDESC:Events for Live Music Box
REFRESH-INTERVAL;VALUE=DURATION:PT1H
X-Robots-Tag:noindex
X-PUBLISHED-TTL:PT1H
BEGIN:VTIMEZONE
TZID:America/Chicago
BEGIN:DAYLIGHT
TZOFFSETFROM:-0600
TZOFFSETTO:-0500
TZNAME:CDT
DTSTART:20250309T080000
END:DAYLIGHT
BEGIN:STANDARD
TZOFFSETFROM:-0500
TZOFFSETTO:-0600
TZNAME:CST
DTSTART:20251102T070000
END:STANDARD
BEGIN:DAYLIGHT
TZOFFSETFROM:-0600
TZOFFSETTO:-0500
TZNAME:CDT
DTSTART:20260308T080000
END:DAYLIGHT
BEGIN:STANDARD
TZOFFSETFROM:-0500
TZOFFSETTO:-0600
TZNAME:CST
DTSTART:20261101T070000
END:STANDARD
BEGIN:DAYLIGHT
TZOFFSETFROM:-0600
TZOFFSETTO:-0500
TZNAME:CDT
DTSTART:20270314T080000
END:DAYLIGHT
BEGIN:STANDARD
TZOFFSETFROM:-0500
TZOFFSETTO:-0600
TZNAME:CST
DTSTART:20271107T070000
END:STANDARD
END:VTIMEZONE
BEGIN:VEVENT
DTSTART;TZID=America/Chicago:20260612T190000
DTEND;TZID=America/Chicago:20260612T220000
DTSTAMP:20260425T070057
CREATED:20260415T173742Z
LAST-MODIFIED:20260422T171136Z
UID:10000757-1781290800-1781301600@livemusicbox.net
SUMMARY:JJ Twigs Summer Concert Series 2026 - Jimmy Nick
DESCRIPTION:Jimmy Nick is an old-fashioned\, guitar slinging blues prodigy who spent his teenage years being schooled by legendary bluesmen in the famous Chicago clubs of Kingston Mines\, Rosa’s Lounge\, and B.L.U.E.S. on Halsted.Over the last year Jimmy has recorded his first live album for a full house at The Raue Center for the Performing Arts\, performed over 200 shows*\, advanced to the semifinals at the International Blues Challenge in Memphis\, as well as headlined at Buddy Guy’s Legends\, and B.L.U.E.S on Halstead. Most recently\, he was featured on the WGN Morning News. In addition\, Jimmy has opened for the legendary Eddie Shaw\, Bobby Rush\, Toronzo Canon\, Dick Dale\, The Mike Wheeler Band and performed at SXSW. Jimmy has sold over 1\,500 copies of his 3rd studio album –Rare Breed\, which features Eddie Shaw performing with Jimmy on his original blues tune “Greedy Man”.
URL:https://livemusicbox.net/concert/j-j-twigs-summer-concert-series-2026-jimmy-nick/
LOCATION:JJ Twigs Wauconda\, 1200 N Rand Rd\, Wauconda\, IL\, 60084\, United States
CATEGORIES:Blues,Classic Rock,Concert in the Park,Rock
ATTACH;FMTTYPE=image/jpeg:https://livemusicbox.net/wp-content/uploads/2026/04/JimmyNick-250.jpg
GEO:42.277979;-88.1542974
X-APPLE-STRUCTURED-LOCATION;VALUE=URI;X-ADDRESS=JJ Twigs Wauconda 1200 N Rand Rd Wauconda IL 60084 United States;X-APPLE-RADIUS=500;X-TITLE=1200 N Rand Rd:geo:-88.1542974,42.277979
END:VEVENT
END:VCALENDAR