BEGIN:VCALENDAR
VERSION:2.0
PRODID:-//Live Music Box - ECPv6.15.20//NONSGML v1.0//EN
CALSCALE:GREGORIAN
METHOD:PUBLISH
X-ORIGINAL-URL:https://livemusicbox.net
X-WR-CALDESC:Events for Live Music Box
REFRESH-INTERVAL;VALUE=DURATION:PT1H
X-Robots-Tag:noindex
X-PUBLISHED-TTL:PT1H
BEGIN:VTIMEZONE
TZID:America/Chicago
BEGIN:DAYLIGHT
TZOFFSETFROM:-0600
TZOFFSETTO:-0500
TZNAME:CDT
DTSTART:20250309T080000
END:DAYLIGHT
BEGIN:STANDARD
TZOFFSETFROM:-0500
TZOFFSETTO:-0600
TZNAME:CST
DTSTART:20251102T070000
END:STANDARD
BEGIN:DAYLIGHT
TZOFFSETFROM:-0600
TZOFFSETTO:-0500
TZNAME:CDT
DTSTART:20260308T080000
END:DAYLIGHT
BEGIN:STANDARD
TZOFFSETFROM:-0500
TZOFFSETTO:-0600
TZNAME:CST
DTSTART:20261101T070000
END:STANDARD
BEGIN:DAYLIGHT
TZOFFSETFROM:-0600
TZOFFSETTO:-0500
TZNAME:CDT
DTSTART:20270314T080000
END:DAYLIGHT
BEGIN:STANDARD
TZOFFSETFROM:-0500
TZOFFSETTO:-0600
TZNAME:CST
DTSTART:20271107T070000
END:STANDARD
END:VTIMEZONE
BEGIN:VEVENT
DTSTART;TZID=America/Chicago:20260613T203000
DTEND;TZID=America/Chicago:20260613T223000
DTSTAMP:20260421T200912
CREATED:20260415T145324Z
LAST-MODIFIED:20260420T173841Z
UID:10000720-1781382600-1781389800@livemusicbox.net
SUMMARY:The Boy Band Night at Franklin Park Fest 2026
DESCRIPTION:With acts covering pop\, country\, funk\, rock\, Motown\, hip-hop\, Americana\, and more\, TRSE has built a brand that’s become synonymous with great nights and great memories. If you’ve booked—or attended—a TRSE show\, you already know: it’s handled. From identifying the perfect fit for your event to helping shape your lineup\, we offer a white glove experience every step of the way. Every TRSE artist brings more than just songs. These are seasoned performers with top-tier equipment\, expert showmanship\, and a clear commitment to exceeding expectations. Whether you need a band to emcee a wedding\, anchor a festival stage\, or pack a dance floor at a local bar\, TRSE will help you build the night people talk about for years to come.
URL:https://livemusicbox.net/concert/the-boy-band-night-at-franklin-park-fest/
LOCATION:Franklin Park North Park Baseball Fields\, 10040 Addison Avenue\, Franklin Park\, IL\, 60131\, United States
CATEGORIES: Motown,Americana,Country,Festival,Funk,Hip Hop,Rap,Rock
ATTACH;FMTTYPE=image/jpeg:https://livemusicbox.net/wp-content/uploads/2026/04/the-boy-band-night-250.jpg
GEO:41.9450275;-87.8767621
X-APPLE-STRUCTURED-LOCATION;VALUE=URI;X-ADDRESS=Franklin Park North Park Baseball Fields 10040 Addison Avenue Franklin Park IL 60131 United States;X-APPLE-RADIUS=500;X-TITLE=10040 Addison Avenue:geo:-87.8767621,41.9450275
END:VEVENT
END:VCALENDAR