BEGIN:VCALENDAR
VERSION:2.0
PRODID:-//Live Music Box - ECPv6.15.20//NONSGML v1.0//EN
CALSCALE:GREGORIAN
METHOD:PUBLISH
X-WR-CALNAME:Live Music Box
X-ORIGINAL-URL:https://livemusicbox.net
X-WR-CALDESC:Events for Live Music Box
REFRESH-INTERVAL;VALUE=DURATION:PT1H
X-Robots-Tag:noindex
X-PUBLISHED-TTL:PT1H
BEGIN:VTIMEZONE
TZID:America/Chicago
BEGIN:DAYLIGHT
TZOFFSETFROM:-0600
TZOFFSETTO:-0500
TZNAME:CDT
DTSTART:20250309T080000
END:DAYLIGHT
BEGIN:STANDARD
TZOFFSETFROM:-0500
TZOFFSETTO:-0600
TZNAME:CST
DTSTART:20251102T070000
END:STANDARD
BEGIN:DAYLIGHT
TZOFFSETFROM:-0600
TZOFFSETTO:-0500
TZNAME:CDT
DTSTART:20260308T080000
END:DAYLIGHT
BEGIN:STANDARD
TZOFFSETFROM:-0500
TZOFFSETTO:-0600
TZNAME:CST
DTSTART:20261101T070000
END:STANDARD
BEGIN:DAYLIGHT
TZOFFSETFROM:-0600
TZOFFSETTO:-0500
TZNAME:CDT
DTSTART:20270314T080000
END:DAYLIGHT
BEGIN:STANDARD
TZOFFSETFROM:-0500
TZOFFSETTO:-0600
TZNAME:CST
DTSTART:20271107T070000
END:STANDARD
END:VTIMEZONE
BEGIN:VEVENT
DTSTART;TZID=America/Chicago:20260618T190000
DTEND;TZID=America/Chicago:20260618T210000
DTSTAMP:20260421T202508
CREATED:20260415T172943Z
LAST-MODIFIED:20260420T190626Z
UID:10000740-1781809200-1781816400@livemusicbox.net
SUMMARY:Hoffman Estates Summer Sounds On the Green 2026 - Eric Case Band
DESCRIPTION:Summer Sounds on the Green 2026 at Virginia Mary Hayter Village Green • 5510 Prairie Stone Parkway • Hoffman Estates\, IL (across from the Now Arena). ALL EVENTS ARE FREE AND START AT 7PM. A signature sound that weaves together the raw energy of rock-and-roll with the lyrical depth of the country tradition.
URL:https://livemusicbox.net/concert/hoffman-estates-summer-sounds-on-the-green-2026-eric-case-band/
LOCATION:Hoffman Estates Village Green\, 5510 Prairie Stone Pkwy\, Hoffman Estates\, IL\, 60169\, United States
CATEGORIES:American Rock,Concert in the Park
ATTACH;FMTTYPE=image/jpeg:https://livemusicbox.net/wp-content/uploads/2026/04/Eric-Case-Band-250.jpg
GEO:42.0705846;-88.2159943
X-APPLE-STRUCTURED-LOCATION;VALUE=URI;X-ADDRESS=Hoffman Estates Village Green 5510 Prairie Stone Pkwy Hoffman Estates IL 60169 United States;X-APPLE-RADIUS=500;X-TITLE=5510 Prairie Stone Pkwy:geo:-88.2159943,42.0705846
END:VEVENT
BEGIN:VEVENT
DTSTART;TZID=America/Chicago:20260625T180000
DTEND;TZID=America/Chicago:20260625T200000
DTSTAMP:20260421T202508
CREATED:20260415T225104Z
LAST-MODIFIED:20260421T054330Z
UID:10000858-1782410400-1782417600@livemusicbox.net
SUMMARY:Rhythm of the Lake Kenosha Concert Series 2026 - The Roundabouts
DESCRIPTION:Americana Band featuring Rick Branch\, Terry Peterson\, Chris Sipos\, Bill Taylor and Greg Diethrich. Enjoy live music with The Roundabouts as part of the Rhythm on the Lake series at Old Settlers Park. Presented by Kenosha County Parks every Thursday 6-8 PM.
URL:https://livemusicbox.net/concert/rhythm-on-the-lake-the-roundabouts/
LOCATION:Kenosha Old Settlers Park\, 24100 75th Street\, Salem\, WI\, 53170\, United States
CATEGORIES:American Folk,American Rock,Americana,Concert in the Park,Rock
ATTACH;FMTTYPE=image/jpeg:https://livemusicbox.net/wp-content/uploads/2026/04/Roundabouts-Kenosha-250.jpg
GEO:42.5692257;-88.0977083
X-APPLE-STRUCTURED-LOCATION;VALUE=URI;X-ADDRESS=Kenosha Old Settlers Park 24100 75th Street Salem WI 53170 United States;X-APPLE-RADIUS=500;X-TITLE=24100 75th Street:geo:-88.0977083,42.5692257
END:VEVENT
BEGIN:VEVENT
DTSTART;TZID=America/Chicago:20260627T190000
DTEND;TZID=America/Chicago:20260627T210000
DTSTAMP:20260421T202508
CREATED:20260415T230603Z
LAST-MODIFIED:20260421T180710Z
UID:10000872-1782586800-1782594000@livemusicbox.net
SUMMARY:Phoenix Park Band Shell Summer Concert Series 2026 - Eric Diamond – Neil Diamond Tribute
DESCRIPTION:Eric “Diamond” has been performing as Neil Diamond for the last 20 years and has been Wisconsin’s Favorite Neil Diamond Tribute Artist since 2009.  He has been told on countless occasions that he “sounds more like Neil than Neil Diamond does”.  Primarily focusing his solo shows around his home base of southeastern Wisconsin\, for the last thirteen years Eric has toured the casinos\, theaters and festivals of the Midwest
URL:https://livemusicbox.net/concert/eric-diamond-neil-diamond-tribute/
LOCATION:Phoenix Park Bandshell Delavan\, 111 E Wisconsin St\, Delavan\, IL\, 53115\, United States
CATEGORIES:Acoustic Classic Rock,American Rock,Classic Rock,Concert in the Park,Jazz,Pop,Rock
ATTACH;FMTTYPE=image/jpeg:https://livemusicbox.net/wp-content/uploads/2026/04/Eric-Diamond-250.jpg
GEO:42.6300351;-88.6476331
X-APPLE-STRUCTURED-LOCATION;VALUE=URI;X-ADDRESS=Phoenix Park Bandshell Delavan 111 E Wisconsin St Delavan IL 53115 United States;X-APPLE-RADIUS=500;X-TITLE=111 E Wisconsin St:geo:-88.6476331,42.6300351
END:VEVENT
BEGIN:VEVENT
DTSTART;TZID=America/Chicago:20260702T180000
DTEND;TZID=America/Chicago:20260702T200000
DTSTAMP:20260421T202508
CREATED:20260415T225104Z
LAST-MODIFIED:20260421T053344Z
UID:10000859-1783015200-1783022400@livemusicbox.net
SUMMARY:Rhythm of the Lake Kenosha Concert Series 2026 - Jesse Stratton Band
DESCRIPTION:The Jesse Stratton Band is a home-grown Hill Country favorite\, blending Americana\, alt-country\, and rock influences to create a sound that’s uniquely their own. With heartfelt lyrics\, soulful melodies\, and skilled musicianship\, they bring a fresh\, indie twist to their Southern roots\, and are known for the captivating performances and raw energy they bring to the stage.
URL:https://livemusicbox.net/concert/rhythm-on-the-lake-jesse-stratton-band/
LOCATION:Kenosha Old Settlers Park\, 24100 75th Street\, Salem\, WI\, 53170\, United States
CATEGORIES:American Rock,Americana,Concert in the Park,Country,Rock
ATTACH;FMTTYPE=image/jpeg:https://livemusicbox.net/wp-content/uploads/2026/04/Jesse-Stratton-250.jpg
GEO:42.5692257;-88.0977083
X-APPLE-STRUCTURED-LOCATION;VALUE=URI;X-ADDRESS=Kenosha Old Settlers Park 24100 75th Street Salem WI 53170 United States;X-APPLE-RADIUS=500;X-TITLE=24100 75th Street:geo:-88.0977083,42.5692257
END:VEVENT
BEGIN:VEVENT
DTSTART;TZID=America/Chicago:20260709T180000
DTEND;TZID=America/Chicago:20260709T200000
DTSTAMP:20260421T202508
CREATED:20260415T225105Z
LAST-MODIFIED:20260421T161224Z
UID:10000860-1783620000-1783627200@livemusicbox.net
SUMMARY:Rhythm of the Lake Kenosha Concert Series 2026 - LynSkynyrd
DESCRIPTION:LynSkynyrd is the Midwest’s premier Lynyrd Skynyrd Tribute band. We dedicate ourselves to replicating the Classic Lynyrd Skynyrd sound and performances of years gone by – replicating the nuances and stage presence of the band behind such Classics as That Smell\, Gimme Three Steps\, Sweet Home Alabama\, and the Timeless and Epic…..Freebird!We strive for authenticity in every aspect of our stage show- from the clothing \, to using only period correct instruments\, and even amplifiers just like the vintage Skynyrd band.
URL:https://livemusicbox.net/concert/rhythm-on-the-lake-lynskynyrd/
LOCATION:Kenosha Old Settlers Park\, 24100 75th Street\, Salem\, WI\, 53170\, United States
CATEGORIES:American Rock,Classic Rock,Concert in the Park,Rock,Southern Rock
ATTACH;FMTTYPE=image/jpeg:https://livemusicbox.net/wp-content/uploads/2026/04/lynskynyrd-250.jpg
GEO:42.5692257;-88.0977083
X-APPLE-STRUCTURED-LOCATION;VALUE=URI;X-ADDRESS=Kenosha Old Settlers Park 24100 75th Street Salem WI 53170 United States;X-APPLE-RADIUS=500;X-TITLE=24100 75th Street:geo:-88.0977083,42.5692257
END:VEVENT
END:VCALENDAR